{"text_format":"1","workbook":"xlsx","n_sheets":4,"sheets":["List","London","Colour","MapEngland"],"not_rendered":{"charts":0,"images":4,"macros":1,"external_links":0,"defined_names":3,"comments":0,"pivot_tables":0},"unopened":[],"bounds":{"document_bytes":16777216,"sheet_cells":100000,"rows_first":2000,"rows_last":500,"rows_between":2000,"halvings":0,"cell_chars":16384,"cell_head_chars":4096},"cells_cut":0,"cells_raw":0,"read":"whole","date_system":"1900"}

{"sheet":"List","index":0,"n_rows":18,"n_cols":23,"rows_kept":18,"cut":false,"hidden":false,"merged":[]}
["Income","Housing Affordability","Avg House Price","Colour",null,{"$f":"OFFSET(A1,,MATCH(MapEngland!$B$2,Metric,0)-1,1,1)","v":"Housing Affordability"},"Colour","Year","Offset",null,"DropDown","DropDown",null,null,"Selection","Red","Green","Blue",null,"Selection","Red","Green","Blue"]
[0,0,0,1,null,{"$f":"OFFSET(A2,,MATCH(MapEngland!$B$2,Metric,0)-1,1,1)","v":0},1,"Yr 1997",null,null,"Income",1,null,"Income","0 - 16,000",253,219,199,null,{"$f":"INDEX($O$2:$O$25,MATCH($F$1,$N$2:$N$25,0),1)","v":"0 - 4.5 Times"},{"$f":"INDEX(P$2:P$25,MATCH($T2,$O$2:$O$25,0),1)","v":173},216,230]
[16000,4.5,90000,2,null,{"$f":"OFFSET(A3,,MATCH(MapEngland!$B$2,Metric,0)-1,1,1)","v":4.5},2,"Yr 1998",null,null,"Housing Affordability",2,null,null,"16,000 to 20,000",244,165,130,null,{"$f":"INDEX($O$2:$O$25,MATCH($F$1,$N$2:$N$25,0)+ROW(A1),1)","v":"4.51 to 5.5 Times"},137,171,209]
[20000,5.5,150000,3,null,{"$f":"OFFSET(A4,,MATCH(MapEngland!$B$2,Metric,0)-1,1,1)","v":5.5},3,"Yr 1999",null,null,"Avg House Price",3,null,null,"20,001 to 22,000",214,96,77,null,{"$f":"INDEX($O$2:$O$25,MATCH($F$1,$N$2:$N$25,0)+ROW(A2),1)","v":"5.51 to 7 Times"},102,127,188]
[22000,7,250000,4,null,{"$f":"OFFSET(A5,,MATCH(MapEngland!$B$2,Metric,0)-1,1,1)","v":7},4,"Yr 2000",null,null,null,null,null,null,"22,001 to 25,000",178,24,73,null,{"$f":"INDEX($O$2:$O$25,MATCH($F$1,$N$2:$N$25,0)+ROW(A3),1)","v":"7.01 to 9 Times"},67,83,167]
[25000,9,480000,5,null,{"$f":"OFFSET(A6,,MATCH(MapEngland!$B$2,Metric,0)-1,1,1)","v":9},5,"Yr 2001",null,null,null,null,null,null,"25,000 +",103,0,21,null,{"$f":"INDEX($O$2:$O$25,MATCH($F$1,$N$2:$N$25,0)+ROW(A4),1)","v":"9 + Times"},14,17,136]
[null,null,null,null,null,null,null,"Yr 2002",null,null,null,null,null,"Housing Affordability","0 - 4.5 Times",173,216,230]
[null,null,null,null,null,null,null,"Yr 2003",null,null,null,null,null,null,"4.51 to 5.5 Times",137,171,209]
[null,null,null,null,null,null,null,"Yr 2004",null,null,null,null,null,null,"5.51 to 7 Times",102,127,188]
[null,null,null,null,null,null,null,"Yr 2005",null,null,null,null,null,null,"7.01 to 9 Times",67,83,167]
[null,null,null,null,null,null,null,"Yr 2006",null,null,null,null,null,null,"9 + Times",14,17,136]
[null,null,null,null,null,null,null,"Yr 2007",null,null,null,null,null,"Avg House Price","0 - 90,000",217,239,139]
[null,null,null,null,null,null,null,"Yr 2008",null,null,null,null,null,null,"90,000-150000",166,217,106]
[null,null,null,null,null,null,null,"Yr 2009",null,null,null,null,null,null,"150,001 - 350,000",102,189,99]
[null,null,null,null,null,null,null,"Yr 2010",null,null,null,null,null,null,"350,000 - 480,000",26,152,80]
[null,null,null,null,null,null,null,"Yr 2011",null,null,null,null,null,null,"480,001  +",0,104,55]
[null,null,null,null,null,null,null,"Yr 2012"]
[null,null,null,null,null,null,null,"Yr 2013"]

{"sheet":"London","index":1,"n_rows":82,"n_cols":111,"rows_kept":82,"cut":false,"hidden":false,"merged":[]}
["Region","Desc","Lookup","Self Employment Income","Employment Income","Pension Income","Total Income","Region","Income Grade"," Income 1997"," Income 1998"," Income 1999"," Income 2000"," Income 2001"," Income 2002"," Income 2003"," Income 2004"," Income 2005"," Income 2006"," Income 2007"," Income 2008"," Income 2009"," Income 2010"," Income 2011"," Income 2012"," Income 2013","Income Grade 97","Income Grade 98","Income Grade 99","Income Grade 00","Income Grade 01","Income Grade 02","Income Grade 03","Income Grade 04","Income Grade 05","Income Grade 06","Income Grade 07","Income Grade 08","Income Grade 09","Income Grade 10","Income Grade 11","Income Grade 12","Income Grade 13",1997,1998,1999,2000,2001,2002,2003,2004,2005,2006,2007,2008,2009,2010,2011,2012,2013,"Multiple 97","Multiple 98","Multiple 99","Multiple 00","Multiple 01","Multiple 02","Multiple 03","Multiple 04","Multiple 05","Multiple 06","Multiple 07","Multiple 08","Multiple 09","Multiple 10","Multiple 11","Multiple 12","Multiple 13","Avg Hse 1997","Avg Hse 1998","Avg Hse 1999","Avg Hse 2000","Avg Hse 2001","Avg Hse 2002","Avg Hse 2003","Avg Hse 2004","Avg Hse 2005","Avg Hse 2006","Avg Hse 2007","Avg Hse 2008","Avg Hse 2009","Avg Hse 2010","Avg Hse 2011","Avg Hse 2012","Avg Hse 2013","AvgPrice 97","AvgPrice 98","AvgPrice 99","AvgPrice 00","AvgPrice 01","AvgPrice 02","AvgPrice 03","AvgPrice 04","AvgPrice 05","AvgPrice 06","AvgPrice 07","AvgPrice 08","AvgPrice 09","AvgPrice 10","AvgPrice 11","AvgPrice 12","AvgPrice 13"]
["London","Barking","Barking & Dagenham",10500,19100,8980,18600,3,{"$f":"VLOOKUP(G2,List!$A$2:$D$6,4,1)","v":2},{"$f":"$G2*(1.025)^-COLUMN(J:J)","v":14530.290272098524},{"$f":"$G2*(1.025)^-COLUMN(I:I)","v":14893.547528900988},{"$f":"$G2*(1.025)^-COLUMN(H:H)","v":15265.886217123509},{"$f":"$G2*(1.025)^-COLUMN(G:G)","v":15647.533372551596},{"$f":"$G2*(1.025)^-COLUMN(F:F)","v":16038.721706865384},{"$f":"$G2*(1.025)^-COLUMN(E:E)","v":16439.689749537018},{"$f":"$G2*(1.025)^-COLUMN(D:D)","v":16850.681993275444},{"$f":"$G2*(1.025)^-COLUMN(C:C)","v":17271.949043107328},{"$f":"$G2*(1.025)^-COLUMN(B:B)","v":17703.747769185011},{"$f":"$G2*(1.025)^-COLUMN(A:A)","v":18146.341463414636},{"$f":"$G2*(1.025)^-COLUMN(A:A)","v":18146.341463414636},{"$f":"$G2*(1.025)^0","v":18600},{"$f":"$G2*(1.025)^COLUMN(A:A)","v":19065},{"$f":"$G2*(1.025)^COLUMN(B:B)","v":19541.625},{"$f":"$G2*(1.025)^COLUMN(C:C)","v":20030.165624999998},{"$f":"$G2*(1.025)^COLUMN(D:D)","v":20530.919765624996},{"$f":"$G2*(1.025)^COLUMN(E:E)","v":21044.192759765618},{"$f":"VLOOKUP(J2,List!$A$2:$D$6,4,1)","v":1},{"$f":"VLOOKUP(K2,List!$A$2:$D$6,4,1)","v":1},{"$f":"VLOOKUP(L2,List!$A$2:$D$6,4,1)","v":1},{"$f":"VLOOKUP(M2,List!$A$2:$D$6,4,1)","v":1},{"$f":"VLOOKUP(N2,List!$A$2:$D$6,4,1)","v":2},{"$f":"VLOOKUP(O2,List!$A$2:$D$6,4,1)","v":2},{"$f":"VLOOKUP(P2,List!$A$2:$D$6,4,1)","v":2},{"$f":"VLOOKUP(Q2,List!$A$2:$D$6,4,1)","v":2},{"$f":"VLOOKUP(R2,List!$A$2:$D$6,4,1)","v":2},{"$f":"VLOOKUP(S2,List!$A$2:$D$6,4,1)","v":2},{"$f":"VLOOKUP(T2,List!$A$2:$D$6,4,1)","v":2},{"$f":"VLOOKUP(U2,List!$A$2:$D$6,4,1)","v":2},{"$f":"VLOOKUP(V2,List!$A$2:$D$6,4,1)","v":2},{"$f":"VLOOKUP(W2,List!$A$2:$D$6,4,1)","v":2},{"$f":"VLOOKUP(X2,List!$A$2:$D$6,4,1)","v":3},{"$f":"VLOOKUP(Y2,List!$A$2:$D$6,4,1)","v":3},{"$f":"VLOOKUP(Z2,List!$A$2:$D$6,4,1)","v":3},2.99,2.6,3.03,3.39,4.03,4.22,5.28,5.75,6.03,6.25,6.44,7.23,6.05,6.2200122884444458,5.848460601620217,5.0426400632428505,5.5860720603295784,{"$f":"VLOOKUP(AR2,List!$B$2:$D$6,3,1)","v":1},{"$f":"VLOOKUP(AS2,List!$B$2:$D$6,3,1)","v":1},{"$f":"VLOOKUP(AT2,List!$B$2:$D$6,3,1)","v":1},{"$f":"VLOOKUP(AU2,List!$B$2:$D$6,3,1)","v":1},{"$f":"VLOOKUP(AV2,List!$B$2:$D$6,3,1)","v":1},{"$f":"VLOOKUP(AW2,List!$B$2:$D$6,3,1)","v":1},{"$f":"VLOOKUP(AX2,List!$B$2:$D$6,3,1)","v":2},{"$f":"VLOOKUP(AY2,List!$B$2:$D$6,3,1)","v":3},{"$f":"VLOOKUP(AZ2,List!$B$2:$D$6,3,1)","v":3},{"$f":"VLOOKUP(BA2,List!$B$2:$D$6,3,1)","v":3},{"$f":"VLOOKUP(BB2,List!$B$2:$D$6,3,1)","v":3},{"$f":"VLOOKUP(BC2,List!$B$2:$D$6,3,1)","v":4},{"$f":"VLOOKUP(BD2,List!$B$2:$D$6,3,1)","v":3},{"$f":"VLOOKUP(BE2,List!$B$2:$D$6,3,1)","v":3},{"$f":"VLOOKUP(BF2,List!$B$2:$D$6,3,1)","v":3},{"$f":"VLOOKUP(BG2,List!$B$2:$D$6,3,1)","v":2},{"$f":"VLOOKUP(BH2,List!$B$2:$D$6,3,1)","v":3},56164.708469055375,63972.506800000003,69513.905688073399,84089.5282546495,93748.189968652034,118779.75164967007,145409.3312046444,163770,169489.23405797101,175424.80497569346,193314.04830148621,197629.70609107037,167053,179178.21513665031,180263.6659807954,181866.23954372617,187801.39412157648,{"$f":"VLOOKUP(BZ2,List!$C$2:$D$6,2,1)","v":1},{"$f":"VLOOKUP(CA2,List!$C$2:$D$6,2,1)","v":1},{"$f":"VLOOKUP(CB2,List!$C$2:$D$6,2,1)","v":1},{"$f":"VLOOKUP(CC2,List!$C$2:$D$6,2,1)","v":1},{"$f":"VLOOKUP(CD2,List!$C$2:$D$6,2,1)","v":2},{"$f":"VLOOKUP(CE2,List!$C$2:$D$6,2,1)","v":2},{"$f":"VLOOKUP(CF2,List!$C$2:$D$6,2,1)","v":2},{"$f":"VLOOKUP(CG2,List!$C$2:$D$6,2,1)","v":3},{"$f":"VLOOKUP(CH2,List!$C$2:$D$6,2,1)","v":3},{"$f":"VLOOKUP(CI2,List!$C$2:$D$6,2,1)","v":3},{"$f":"VLOOKUP(CJ2,List!$C$2:$D$6,2,1)","v":3},{"$f":"VLOOKUP(CK2,List!$C$2:$D$6,2,1)","v":3},{"$f":"VLOOKUP(CL2,List!$C$2:$D$6,2,1)","v":3},{"$f":"VLOOKUP(CM2,List!$C$2:$D$6,2,1)","v":3},{"$f":"VLOOKUP(CN2,List!$C$2:$D$6,2,1)","v":3},{"$f":"VLOOKUP(CO2,List!$C$2:$D$6,2,1)","v":3},{"$f":"VLOOKUP(CP2,List!$C$2:$D$6,2,1)","v":3}]
["London","Barnet","Barnet",10900,20300,9360,22000,3,{"$f":"VLOOKUP(G3,List!$A$2:$D$6,4,1)","v":4},17186.364837965997,17616.023958915146,18056.424557888022,18507.835171835221,18970.5310511311,19444.794327409378,19930.914185594611,20429.187040234476,20939.916716240332,21463.414634146342,21463.414634146342,22000,22549.999999999996,23113.75,23691.593749999996,24283.883593749993,24890.980683593742,{"$f":"VLOOKUP(J3,List!$A$2:$D$6,4,1)","v":2},{"$f":"VLOOKUP(K3,List!$A$2:$D$6,4,1)","v":2},{"$f":"VLOOKUP(L3,List!$A$2:$D$6,4,1)","v":2},{"$f":"VLOOKUP(M3,List!$A$2:$D$6,4,1)","v":2},{"$f":"VLOOKUP(N3,List!$A$2:$D$6,4,1)","v":2},{"$f":"VLOOKUP(O3,List!$A$2:$D$6,4,1)","v":2},{"$f":"VLOOKUP(P3,List!$A$2:$D$6,4,1)","v":2},{"$f":"VLOOKUP(Q3,List!$A$2:$D$6,4,1)","v":3},{"$f":"VLOOKUP(R3,List!$A$2:$D$6,4,1)","v":3},{"$f":"VLOOKUP(S3,List!$A$2:$D$6,4,1)","v":3},{"$f":"VLOOKUP(T3,List!$A$2:$D$6,4,1)","v":3},{"$f":"VLOOKUP(U3,List!$A$2:$D$6,4,1)","v":4},{"$f":"VLOOKUP(V3,List!$A$2:$D$6,4,1)","v":4},{"$f":"VLOOKUP(W3,List!$A$2:$D$6,4,1)","v":4},{"$f":"VLOOKUP(X3,List!$A$2:$D$6,4,1)","v":4},{"$f":"VLOOKUP(Y3,List!$A$2:$D$6,4,1)","v":4},{"$f":"VLOOKUP(Z3,List!$A$2:$D$6,4,1)","v":4},5.39,6.13,6.63,7.98,7.89,9.2200000000000006,9.73,9.8000000000000007,9.58,9.73,10.81,10.37,9.1300000000000008,10.682434703319817,10.87776901977913,11.231764607134853,11.788756388415672,{"$f":"VLOOKUP(AR3,List!$B$2:$D$6,3,1)","v":2},{"$f":"VLOOKUP(AS3,List!$B$2:$D$6,3,1)","v":3},{"$f":"VLOOKUP(AT3,List!$B$2:$D$6,3,1)","v":3},{"$f":"VLOOKUP(AU3,List!$B$2:$D$6,3,1)","v":4},{"$f":"VLOOKUP(AV3,List!$B$2:$D$6,3,1)","v":4},{"$f":"VLOOKUP(AW3,List!$B$2:$D$6,3,1)","v":5},{"$f":"VLOOKUP(AX3,List!$B$2:$D$6,3,1)","v":5},{"$f":"VLOOKUP(AY3,List!$B$2:$D$6,3,1)","v":5},{"$f":"VLOOKUP(AZ3,List!$B$2:$D$6,3,1)","v":5},{"$f":"VLOOKUP(BA3,List!$B$2:$D$6,3,1)","v":5},{"$f":"VLOOKUP(BB3,List!$B$2:$D$6,3,1)","v":5},{"$f":"VLOOKUP(BC3,List!$B$2:$D$6,3,1)","v":5},{"$f":"VLOOKUP(BD3,List!$B$2:$D$6,3,1)","v":5},{"$f":"VLOOKUP(BE3,List!$B$2:$D$6,3,1)","v":5},{"$f":"VLOOKUP(BF3,List!$B$2:$D$6,3,1)","v":5},{"$f":"VLOOKUP(BG3,List!$B$2:$D$6,3,1)","v":5},{"$f":"VLOOKUP(BH3,List!$B$2:$D$6,3,1)","v":5},137832.00265585686,149302.06407185629,176850.66510568283,201849.72418377901,220649.03908278051,259984.06265491599,285901.32361709175,311320,321118.88287081342,344733.54296577949,382813.43052291422,389443.1092339062,380868,442467.52221149206,434376.96989966469,445325.82136558252,484320.25438796473,{"$f":"VLOOKUP(BZ3,List!$C$2:$D$6,2,1)","v":2},{"$f":"VLOOKUP(CA3,List!$C$2:$D$6,2,1)","v":2},{"$f":"VLOOKUP(CB3,List!$C$2:$D$6,2,1)","v":3},{"$f":"VLOOKUP(CC3,List!$C$2:$D$6,2,1)","v":3},{"$f":"VLOOKUP(CD3,List!$C$2:$D$6,2,1)","v":3},{"$f":"VLOOKUP(CE3,List!$C$2:$D$6,2,1)","v":4},{"$f":"VLOOKUP(CF3,List!$C$2:$D$6,2,1)","v":4},{"$f":"VLOOKUP(CG3,List!$C$2:$D$6,2,1)","v":4},{"$f":"VLOOKUP(CH3,List!$C$2:$D$6,2,1)","v":4},{"$f":"VLOOKUP(CI3,List!$C$2:$D$6,2,1)","v":4},{"$f":"VLOOKUP(CJ3,List!$C$2:$D$6,2,1)","v":4},{"$f":"VLOOKUP(CK3,List!$C$2:$D$6,2,1)","v":4},{"$f":"VLOOKUP(CL3,List!$C$2:$D$6,2,1)","v":4},{"$f":"VLOOKUP(CM3,List!$C$2:$D$6,2,1)","v":4},{"$f":"VLOOKUP(CN3,List!$C$2:$D$6,2,1)","v":4},{"$f":"VLOOKUP(CO3,List!$C$2:$D$6,2,1)","v":4},{"$f":"VLOOKUP(CP3,List!$C$2:$D$6,2,1)","v":5}]
["London","Bexley","Bexley",12900,20700,10100,19800,3,{"$f":"VLOOKUP(G4,List!$A$2:$D$6,4,1)","v":2},15467.728354169396,15854.421563023632,16250.78210209922,16657.051654651699,17073.477946017993,17500.314894668438,17937.822767035152,18386.268336211026,18845.925044616299,19317.07317073171,19317.07317073171,19800,20295,20802.375,21322.434374999997,21855.495234374994,22401.882615234368,{"$f":"VLOOKUP(J4,List!$A$2:$D$6,4,1)","v":1},{"$f":"VLOOKUP(K4,List!$A$2:$D$6,4,1)","v":1},{"$f":"VLOOKUP(L4,List!$A$2:$D$6,4,1)","v":2},{"$f":"VLOOKUP(M4,List!$A$2:$D$6,4,1)","v":2},{"$f":"VLOOKUP(N4,List!$A$2:$D$6,4,1)","v":2},{"$f":"VLOOKUP(O4,List!$A$2:$D$6,4,1)","v":2},{"$f":"VLOOKUP(P4,List!$A$2:$D$6,4,1)","v":2},{"$f":"VLOOKUP(Q4,List!$A$2:$D$6,4,1)","v":2},{"$f":"VLOOKUP(R4,List!$A$2:$D$6,4,1)","v":2},{"$f":"VLOOKUP(S4,List!$A$2:$D$6,4,1)","v":2},{"$f":"VLOOKUP(T4,List!$A$2:$D$6,4,1)","v":2},{"$f":"VLOOKUP(U4,List!$A$2:$D$6,4,1)","v":2},{"$f":"VLOOKUP(V4,List!$A$2:$D$6,4,1)","v":3},{"$f":"VLOOKUP(W4,List!$A$2:$D$6,4,1)","v":3},{"$f":"VLOOKUP(X4,List!$A$2:$D$6,4,1)","v":3},{"$f":"VLOOKUP(Y4,List!$A$2:$D$6,4,1)","v":3},{"$f":"VLOOKUP(Z4,List!$A$2:$D$6,4,1)","v":4},3.88,4.17,4.3899999999999997,4.88,5.46,6.3,7.23,8.69,7.71,7.68,8.18,7.58,7.02,7.6314248086101388,7.9254961235503218,7.4365126701481676,7.8850359207990186,{"$f":"VLOOKUP(AR4,List!$B$2:$D$6,3,1)","v":1},{"$f":"VLOOKUP(AS4,List!$B$2:$D$6,3,1)","v":1},{"$f":"VLOOKUP(AT4,List!$B$2:$D$6,3,1)","v":1},{"$f":"VLOOKUP(AU4,List!$B$2:$D$6,3,1)","v":2},{"$f":"VLOOKUP(AV4,List!$B$2:$D$6,3,1)","v":2},{"$f":"VLOOKUP(AW4,List!$B$2:$D$6,3,1)","v":3},{"$f":"VLOOKUP(AX4,List!$B$2:$D$6,3,1)","v":4},{"$f":"VLOOKUP(AY4,List!$B$2:$D$6,3,1)","v":4},{"$f":"VLOOKUP(AZ4,List!$B$2:$D$6,3,1)","v":4},{"$f":"VLOOKUP(BA4,List!$B$2:$D$6,3,1)","v":4},{"$f":"VLOOKUP(BB4,List!$B$2:$D$6,3,1)","v":4},{"$f":"VLOOKUP(BC4,List!$B$2:$D$6,3,1)","v":4},{"$f":"VLOOKUP(BD4,List!$B$2:$D$6,3,1)","v":4},{"$f":"VLOOKUP(BE4,List!$B$2:$D$6,3,1)","v":4},{"$f":"VLOOKUP(BF4,List!$B$2:$D$6,3,1)","v":4},{"$f":"VLOOKUP(BG4,List!$B$2:$D$6,3,1)","v":4},{"$f":"VLOOKUP(BH4,List!$B$2:$D$6,3,1)","v":4},75438.299811439341,85573.530730129394,94531.543377226961,109634.00090151002,125900.19410977242,151078.58132158589,175293.36963562752,189079,196126.8954049251,209146.17395727366,225114.42288457692,219711.90656463956,209495,226816.86764108812,226318.52401574844,225744.76217561346,235756.02925531924,{"$f":"VLOOKUP(BZ4,List!$C$2:$D$6,2,1)","v":1},{"$f":"VLOOKUP(CA4,List!$C$2:$D$6,2,1)","v":1},{"$f":"VLOOKUP(CB4,List!$C$2:$D$6,2,1)","v":2},{"$f":"VLOOKUP(CC4,List!$C$2:$D$6,2,1)","v":2},{"$f":"VLOOKUP(CD4,List!$C$2:$D$6,2,1)","v":2},{"$f":"VLOOKUP(CE4,List!$C$2:$D$6,2,1)","v":3},{"$f":"VLOOKUP(CF4,List!$C$2:$D$6,2,1)","v":3},{"$f":"VLOOKUP(CG4,List!$C$2:$D$6,2,1)","v":3},{"$f":"VLOOKUP(CH4,List!$C$2:$D$6,2,1)","v":3},{"$f":"VLOOKUP(CI4,List!$C$2:$D$6,2,1)","v":3},{"$f":"VLOOKUP(CJ4,List!$C$2:$D$6,2,1)","v":3},{"$f":"VLOOKUP(CK4,List!$C$2:$D$6,2,1)","v":3},{"$f":"VLOOKUP(CL4,List!$C$2:$D$6,2,1)","v":3},{"$f":"VLOOKUP(CM4,List!$C$2:$D$6,2,1)","v":3},{"$f":"VLOOKUP(CN4,List!$C$2:$D$6,2,1)","v":3},{"$f":"VLOOKUP(CO4,List!$C$2:$D$6,2,1)","v":3},{"$f":"VLOOKUP(CP4,List!$C$2:$D$6,2,1)","v":3}]
["London","Brent","Brent",10500,17900,9200,18300,3,{"$f":"VLOOKUP(G5,List!$A$2:$D$6,4,1)","v":2},14295.930751580805,14653.329020370327,15019.662245879581,15395.153802026569,15780.032647077234,16174.533463254164,16578.896799835518,16993.369219831406,17418.203450327186,17853.658536585368,17853.658536585368,18300,18757.5,19226.4375,19707.098437499997,20199.775898437496,20704.77029589843,{"$f":"VLOOKUP(J5,List!$A$2:$D$6,4,1)","v":1},{"$f":"VLOOKUP(K5,List!$A$2:$D$6,4,1)","v":1},{"$f":"VLOOKUP(L5,List!$A$2:$D$6,4,1)","v":1},{"$f":"VLOOKUP(M5,List!$A$2:$D$6,4,1)","v":1},{"$f":"VLOOKUP(N5,List!$A$2:$D$6,4,1)","v":1},{"$f":"VLOOKUP(O5,List!$A$2:$D$6,4,1)","v":2},{"$f":"VLOOKUP(P5,List!$A$2:$D$6,4,1)","v":2},{"$f":"VLOOKUP(Q5,List!$A$2:$D$6,4,1)","v":2},{"$f":"VLOOKUP(R5,List!$A$2:$D$6,4,1)","v":2},{"$f":"VLOOKUP(S5,List!$A$2:$D$6,4,1)","v":2},{"$f":"VLOOKUP(T5,List!$A$2:$D$6,4,1)","v":2},{"$f":"VLOOKUP(U5,List!$A$2:$D$6,4,1)","v":2},{"$f":"VLOOKUP(V5,List!$A$2:$D$6,4,1)","v":2},{"$f":"VLOOKUP(W5,List!$A$2:$D$6,4,1)","v":2},{"$f":"VLOOKUP(X5,List!$A$2:$D$6,4,1)","v":2},{"$f":"VLOOKUP(Y5,List!$A$2:$D$6,4,1)","v":3},{"$f":"VLOOKUP(Z5,List!$A$2:$D$6,4,1)","v":3},4.4800000000000004,4.92,5.49,6.34,7.22,8.4600000000000009,9.2200000000000006,9.92,10.11,9.58,10.74,10.97,9.69,9.9446117292540599,10.842444592036999,11.424712673576579,12.484839837340372,{"$f":"VLOOKUP(AR5,List!$B$2:$D$6,3,1)","v":1},{"$f":"VLOOKUP(AS5,List!$B$2:$D$6,3,1)","v":2},{"$f":"VLOOKUP(AT5,List!$B$2:$D$6,3,1)","v":2},{"$f":"VLOOKUP(AU5,List!$B$2:$D$6,3,1)","v":3},{"$f":"VLOOKUP(AV5,List!$B$2:$D$6,3,1)","v":4},{"$f":"VLOOKUP(AW5,List!$B$2:$D$6,3,1)","v":4},{"$f":"VLOOKUP(AX5,List!$B$2:$D$6,3,1)","v":5},{"$f":"VLOOKUP(AY5,List!$B$2:$D$6,3,1)","v":5},{"$f":"VLOOKUP(AZ5,List!$B$2:$D$6,3,1)","v":5},{"$f":"VLOOKUP(BA5,List!$B$2:$D$6,3,1)","v":5},{"$f":"VLOOKUP(BB5,List!$B$2:$D$6,3,1)","v":5},{"$f":"VLOOKUP(BC5,List!$B$2:$D$6,3,1)","v":5},{"$f":"VLOOKUP(BD5,List!$B$2:$D$6,3,1)","v":5},{"$f":"VLOOKUP(BE5,List!$B$2:$D$6,3,1)","v":5},{"$f":"VLOOKUP(BF5,List!$B$2:$D$6,3,1)","v":5},{"$f":"VLOOKUP(BG5,List!$B$2:$D$6,3,1)","v":5},{"$f":"VLOOKUP(BH5,List!$B$2:$D$6,3,1)","v":5},96575.214732142864,111516.54641675855,125466.41844403819,154854.55842185128,176187.59798891854,209963.25583798304,232628.88318670576,249785,266941.8361128929,284785.80154440156,322262.38037097908,331542.3670825336,322904,345643.22356874216,360897.44149908598,390197.62121963385,435227.1335460344,{"$f":"VLOOKUP(BZ5,List!$C$2:$D$6,2,1)","v":2},{"$f":"VLOOKUP(CA5,List!$C$2:$D$6,2,1)","v":2},{"$f":"VLOOKUP(CB5,List!$C$2:$D$6,2,1)","v":2},{"$f":"VLOOKUP(CC5,List!$C$2:$D$6,2,1)","v":3},{"$f":"VLOOKUP(CD5,List!$C$2:$D$6,2,1)","v":3},{"$f":"VLOOKUP(CE5,List!$C$2:$D$6,2,1)","v":3},{"$f":"VLOOKUP(CF5,List!$C$2:$D$6,2,1)","v":3},{"$f":"VLOOKUP(CG5,List!$C$2:$D$6,2,1)","v":3},{"$f":"VLOOKUP(CH5,List!$C$2:$D$6,2,1)","v":4},{"$f":"VLOOKUP(CI5,List!$C$2:$D$6,2,1)","v":4},{"$f":"VLOOKUP(CJ5,List!$C$2:$D$6,2,1)","v":4},{"$f":"VLOOKUP(CK5,List!$C$2:$D$6,2,1)","v":4},{"$f":"VLOOKUP(CL5,List!$C$2:$D$6,2,1)","v":4},{"$f":"VLOOKUP(CM5,List!$C$2:$D$6,2,1)","v":4},{"$f":"VLOOKUP(CN5,List!$C$2:$D$6,2,1)","v":4},{"$f":"VLOOKUP(CO5,List!$C$2:$D$6,2,1)","v":4},{"$f":"VLOOKUP(CP5,List!$C$2:$D$6,2,1)","v":4}]
["London","Bromley","Bromley",12000,23100,11500,23200,3,{"$f":"VLOOKUP(G6,List!$A$2:$D$6,4,1)","v":4},18123.802920036869,18576.89799303779,19041.320442863733,19517.353453935324,20005.287290283708,20505.419472540798,21018.054959354318,21543.506333338173,22082.093991671623,22634.146341463416,22634.146341463416,23200,23779.999999999996,24374.499999999996,24983.862499999996,25608.459062499995,26248.670539062492,{"$f":"VLOOKUP(J6,List!$A$2:$D$6,4,1)","v":2},{"$f":"VLOOKUP(K6,List!$A$2:$D$6,4,1)","v":2},{"$f":"VLOOKUP(L6,List!$A$2:$D$6,4,1)","v":2},{"$f":"VLOOKUP(M6,List!$A$2:$D$6,4,1)","v":2},{"$f":"VLOOKUP(N6,List!$A$2:$D$6,4,1)","v":3},{"$f":"VLOOKUP(O6,List!$A$2:$D$6,4,1)","v":3},{"$f":"VLOOKUP(P6,List!$A$2:$D$6,4,1)","v":3},{"$f":"VLOOKUP(Q6,List!$A$2:$D$6,4,1)","v":3},{"$f":"VLOOKUP(R6,List!$A$2:$D$6,4,1)","v":4},{"$f":"VLOOKUP(S6,List!$A$2:$D$6,4,1)","v":4},{"$f":"VLOOKUP(T6,List!$A$2:$D$6,4,1)","v":4},{"$f":"VLOOKUP(U6,List!$A$2:$D$6,4,1)","v":4},{"$f":"VLOOKUP(V6,List!$A$2:$D$6,4,1)","v":4},{"$f":"VLOOKUP(W6,List!$A$2:$D$6,4,1)","v":4},{"$f":"VLOOKUP(X6,List!$A$2:$D$6,4,1)","v":4},{"$f":"VLOOKUP(Y6,List!$A$2:$D$6,4,1)","v":5},{"$f":"VLOOKUP(Z6,List!$A$2:$D$6,4,1)","v":5},5.72,5.87,6.52,7.91,9.34,9.94,10.73,10.6,9.2799999999999994,9.39,9.9499999999999993,9.3699999999999992,8.77,9.8244777585742948,9.6360111502414725,9.4771758016111196,10.461783439490446,{"$f":"VLOOKUP(AR6,List!$B$2:$D$6,3,1)","v":3},{"$f":"VLOOKUP(AS6,List!$B$2:$D$6,3,1)","v":3},{"$f":"VLOOKUP(AT6,List!$B$2:$D$6,3,1)","v":3},{"$f":"VLOOKUP(AU6,List!$B$2:$D$6,3,1)","v":4},{"$f":"VLOOKUP(AV6,List!$B$2:$D$6,3,1)","v":5},{"$f":"VLOOKUP(AW6,List!$B$2:$D$6,3,1)","v":5},{"$f":"VLOOKUP(AX6,List!$B$2:$D$6,3,1)","v":5},{"$f":"VLOOKUP(AY6,List!$B$2:$D$6,3,1)","v":5},{"$f":"VLOOKUP(AZ6,List!$B$2:$D$6,3,1)","v":5},{"$f":"VLOOKUP(BA6,List!$B$2:$D$6,3,1)","v":5},{"$f":"VLOOKUP(BB6,List!$B$2:$D$6,3,1)","v":5},{"$f":"VLOOKUP(BC6,List!$B$2:$D$6,3,1)","v":5},{"$f":"VLOOKUP(BD6,List!$B$2:$D$6,3,1)","v":4},{"$f":"VLOOKUP(BE6,List!$B$2:$D$6,3,1)","v":5},{"$f":"VLOOKUP(BF6,List!$B$2:$D$6,3,1)","v":5},{"$f":"VLOOKUP(BG6,List!$B$2:$D$6,3,1)","v":5},{"$f":"VLOOKUP(BH6,List!$B$2:$D$6,3,1)","v":5},105606.13154785348,117823.08173610011,138058.59017724259,164791.36339165544,181632.97295885041,210277.93939018343,238207.22813186812,260528,267626.0153920154,283433.02815029601,316593.41641641641,305493.25466169417,301800,327495.45103857567,336398.65315106633,332919.0324142293,354679.05622326315,{"$f":"VLOOKUP(BZ6,List!$C$2:$D$6,2,1)","v":2},{"$f":"VLOOKUP(CA6,List!$C$2:$D$6,2,1)","v":2},{"$f":"VLOOKUP(CB6,List!$C$2:$D$6,2,1)","v":2},{"$f":"VLOOKUP(CC6,List!$C$2:$D$6,2,1)","v":3},{"$f":"VLOOKUP(CD6,List!$C$2:$D$6,2,1)","v":3},{"$f":"VLOOKUP(CE6,List!$C$2:$D$6,2,1)","v":3},{"$f":"VLOOKUP(CF6,List!$C$2:$D$6,2,1)","v":3},{"$f":"VLOOKUP(CG6,List!$C$2:$D$6,2,1)","v":4},{"$f":"VLOOKUP(CH6,List!$C$2:$D$6,2,1)","v":4},{"$f":"VLOOKUP(CI6,List!$C$2:$D$6,2,1)","v":4},{"$f":"VLOOKUP(CJ6,List!$C$2:$D$6,2,1)","v":4},{"$f":"VLOOKUP(CK6,List!$C$2:$D$6,2,1)","v":4},{"$f":"VLOOKUP(CL6,List!$C$2:$D$6,2,1)","v":4},{"$f":"VLOOKUP(CM6,List!$C$2:$D$6,2,1)","v":4},{"$f":"VLOOKUP(CN6,List!$C$2:$D$6,2,1)","v":4},{"$f":"VLOOKUP(CO6,List!$C$2:$D$6,2,1)","v":4},{"$f":"VLOOKUP(CP6,List!$C$2:$D$6,2,1)","v":4}]
["London","Camden","Camden",12900,25400,11400,26900,3,{"$f":"VLOOKUP(G7,List!$A$2:$D$6,4,1)","v":5},21014.237006422059,21539.592931582611,22078.082754872172,22630.034823743976,23195.785694337574,23775.680336696012,24370.072345113411,24979.324153741243,25603.807257584773,26243.902439024394,26243.902439024394,26900,27572.499999999996,28261.812499999996,28968.357812499999,29692.566757812492,30434.880926757804,{"$f":"VLOOKUP(J7,List!$A$2:$D$6,4,1)","v":3},{"$f":"VLOOKUP(K7,List!$A$2:$D$6,4,1)","v":3},{"$f":"VLOOKUP(L7,List!$A$2:$D$6,4,1)","v":4},{"$f":"VLOOKUP(M7,List!$A$2:$D$6,4,1)","v":4},{"$f":"VLOOKUP(N7,List!$A$2:$D$6,4,1)","v":4},{"$f":"VLOOKUP(O7,List!$A$2:$D$6,4,1)","v":4},{"$f":"VLOOKUP(P7,List!$A$2:$D$6,4,1)","v":4},{"$f":"VLOOKUP(Q7,List!$A$2:$D$6,4,1)","v":4},{"$f":"VLOOKUP(R7,List!$A$2:$D$6,4,1)","v":5},{"$f":"VLOOKUP(S7,List!$A$2:$D$6,4,1)","v":5},{"$f":"VLOOKUP(T7,List!$A$2:$D$6,4,1)","v":5},{"$f":"VLOOKUP(U7,List!$A$2:$D$6,4,1)","v":5},{"$f":"VLOOKUP(V7,List!$A$2:$D$6,4,1)","v":5},{"$f":"VLOOKUP(W7,List!$A$2:$D$6,4,1)","v":5},{"$f":"VLOOKUP(X7,List!$A$2:$D$6,4,1)","v":5},{"$f":"VLOOKUP(Y7,List!$A$2:$D$6,4,1)","v":5},{"$f":"VLOOKUP(Z7,List!$A$2:$D$6,4,1)","v":5},6.65,6.82,7.46,9.43,9.2100000000000009,9.57,9.51,10.02,10.42,11.13,12.59,12.89,11.79,12.7355845728286,13.413792132930682,13.695243109031804,15.727140942534394,{"$f":"VLOOKUP(AR7,List!$B$2:$D$6,3,1)","v":3},{"$f":"VLOOKUP(AS7,List!$B$2:$D$6,3,1)","v":3},{"$f":"VLOOKUP(AT7,List!$B$2:$D$6,3,1)","v":4},{"$f":"VLOOKUP(AU7,List!$B$2:$D$6,3,1)","v":5},{"$f":"VLOOKUP(AV7,List!$B$2:$D$6,3,1)","v":5},{"$f":"VLOOKUP(AW7,List!$B$2:$D$6,3,1)","v":5},{"$f":"VLOOKUP(AX7,List!$B$2:$D$6,3,1)","v":5},{"$f":"VLOOKUP(AY7,List!$B$2:$D$6,3,1)","v":5},{"$f":"VLOOKUP(AZ7,List!$B$2:$D$6,3,1)","v":5},{"$f":"VLOOKUP(BA7,List!$B$2:$D$6,3,1)","v":5},{"$f":"VLOOKUP(BB7,List!$B$2:$D$6,3,1)","v":5},{"$f":"VLOOKUP(BC7,List!$B$2:$D$6,3,1)","v":5},{"$f":"VLOOKUP(BD7,List!$B$2:$D$6,3,1)","v":5},{"$f":"VLOOKUP(BE7,List!$B$2:$D$6,3,1)","v":5},{"$f":"VLOOKUP(BF7,List!$B$2:$D$6,3,1)","v":5},{"$f":"VLOOKUP(BG7,List!$B$2:$D$6,3,1)","v":5},{"$f":"VLOOKUP(BH7,List!$B$2:$D$6,3,1)","v":5},198295.51313364055,226232.43237542841,248713.43717401612,319463.32399780338,342120.53041168657,379419.72405900306,387417.25825056073,413579,445691.70514773071,494842.70818070817,562201.79088913277,651579.83900778205,601094,714133.21485797525,721553.81302361179,784727.2387806942,836446.50619194994,{"$f":"VLOOKUP(BZ7,List!$C$2:$D$6,2,1)","v":3},{"$f":"VLOOKUP(CA7,List!$C$2:$D$6,2,1)","v":3},{"$f":"VLOOKUP(CB7,List!$C$2:$D$6,2,1)","v":3},{"$f":"VLOOKUP(CC7,List!$C$2:$D$6,2,1)","v":4},{"$f":"VLOOKUP(CD7,List!$C$2:$D$6,2,1)","v":4},{"$f":"VLOOKUP(CE7,List!$C$2:$D$6,2,1)","v":4},{"$f":"VLOOKUP(CF7,List!$C$2:$D$6,2,1)","v":4},{"$f":"VLOOKUP(CG7,List!$C$2:$D$6,2,1)","v":4},{"$f":"VLOOKUP(CH7,List!$C$2:$D$6,2,1)","v":4},{"$f":"VLOOKUP(CI7,List!$C$2:$D$6,2,1)","v":5},{"$f":"VLOOKUP(CJ7,List!$C$2:$D$6,2,1)","v":5},{"$f":"VLOOKUP(CK7,List!$C$2:$D$6,2,1)","v":5},{"$f":"VLOOKUP(CL7,List!$C$2:$D$6,2,1)","v":5},{"$f":"VLOOKUP(CM7,List!$C$2:$D$6,2,1)","v":5},{"$f":"VLOOKUP(CN7,List!$C$2:$D$6,2,1)","v":5},{"$f":"VLOOKUP(CO7,List!$C$2:$D$6,2,1)","v":5},{"$f":"VLOOKUP(CP7,List!$C$2:$D$6,2,1)","v":5}]
["London","CityofLondon","City of London",64900,53100,14300,58500,3,{"$f":"VLOOKUP(G8,List!$A$2:$D$6,4,1)","v":5},45700.106500955037,46842.609163478912,48013.674392565874,49214.016252380017,50444.36665868952,51705.475825156755,52998.11272078567,54323.065538805306,55681.142177275433,57073.170731707323,57073.170731707323,58500,59962.499999999993,61461.562499999993,62998.101562499993,64573.054101562484,66187.380454101542,{"$f":"VLOOKUP(J8,List!$A$2:$D$6,4,1)","v":5},{"$f":"VLOOKUP(K8,List!$A$2:$D$6,4,1)","v":5},{"$f":"VLOOKUP(L8,List!$A$2:$D$6,4,1)","v":5},{"$f":"VLOOKUP(M8,List!$A$2:$D$6,4,1)","v":5},{"$f":"VLOOKUP(N8,List!$A$2:$D$6,4,1)","v":5},{"$f":"VLOOKUP(O8,List!$A$2:$D$6,4,1)","v":5},{"$f":"VLOOKUP(P8,List!$A$2:$D$6,4,1)","v":5},{"$f":"VLOOKUP(Q8,List!$A$2:$D$6,4,1)","v":5},{"$f":"VLOOKUP(R8,List!$A$2:$D$6,4,1)","v":5},{"$f":"VLOOKUP(S8,List!$A$2:$D$6,4,1)","v":5},{"$f":"VLOOKUP(T8,List!$A$2:$D$6,4,1)","v":5},{"$f":"VLOOKUP(U8,List!$A$2:$D$6,4,1)","v":5},{"$f":"VLOOKUP(V8,List!$A$2:$D$6,4,1)","v":5},{"$f":"VLOOKUP(W8,List!$A$2:$D$6,4,1)","v":5},{"$f":"VLOOKUP(X8,List!$A$2:$D$6,4,1)","v":5},{"$f":"VLOOKUP(Y8,List!$A$2:$D$6,4,1)","v":5},{"$f":"VLOOKUP(Z8,List!$A$2:$D$6,4,1)","v":5},4.72,5.63,5.38,5.68,6.8,5.96,7.73,7.27,6.9,7,8.8000000000000007,7.7,7.77,8.6999999999999993,8.9971675165247031,9.194831996910775,10.857267982920332,{"$f":"VLOOKUP(AR8,List!$B$2:$D$6,3,1)","v":2},{"$f":"VLOOKUP(AS8,List!$B$2:$D$6,3,1)","v":3},{"$f":"VLOOKUP(AT8,List!$B$2:$D$6,3,1)","v":2},{"$f":"VLOOKUP(AU8,List!$B$2:$D$6,3,1)","v":3},{"$f":"VLOOKUP(AV8,List!$B$2:$D$6,3,1)","v":3},{"$f":"VLOOKUP(AW8,List!$B$2:$D$6,3,1)","v":3},{"$f":"VLOOKUP(AX8,List!$B$2:$D$6,3,1)","v":4},{"$f":"VLOOKUP(AY8,List!$B$2:$D$6,3,1)","v":4},{"$f":"VLOOKUP(AZ8,List!$B$2:$D$6,3,1)","v":3},{"$f":"VLOOKUP(BA8,List!$B$2:$D$6,3,1)","v":4},{"$f":"VLOOKUP(BB8,List!$B$2:$D$6,3,1)","v":4},{"$f":"VLOOKUP(BC8,List!$B$2:$D$6,3,1)","v":4},{"$f":"VLOOKUP(BD8,List!$B$2:$D$6,3,1)","v":4},{"$f":"VLOOKUP(BE8,List!$B$2:$D$6,3,1)","v":4},{"$f":"VLOOKUP(BF8,List!$B$2:$D$6,3,1)","v":4},{"$f":"VLOOKUP(BG8,List!$B$2:$D$6,3,1)","v":5},{"$f":"VLOOKUP(BH8,List!$B$2:$D$6,3,1)","v":5},213180.33130699088,325842.1568181818,289684.48028673837,330117.76201372995,313072.81002638524,275469.97326203209,324825.20726495725,313493,328001.54515050165,376123.41114982578,482571.7752808989,423916.38888888888,453512,515769.24894514767,541191.58203124977,539915.27179487201,734042.69971671351,{"$f":"VLOOKUP(BZ8,List!$C$2:$D$6,2,1)","v":3},{"$f":"VLOOKUP(CA8,List!$C$2:$D$6,2,1)","v":4},{"$f":"VLOOKUP(CB8,List!$C$2:$D$6,2,1)","v":4},{"$f":"VLOOKUP(CC8,List!$C$2:$D$6,2,1)","v":4},{"$f":"VLOOKUP(CD8,List!$C$2:$D$6,2,1)","v":4},{"$f":"VLOOKUP(CE8,List!$C$2:$D$6,2,1)","v":4},{"$f":"VLOOKUP(CF8,List!$C$2:$D$6,2,1)","v":4},{"$f":"VLOOKUP(CG8,List!$C$2:$D$6,2,1)","v":4},{"$f":"VLOOKUP(CH8,List!$C$2:$D$6,2,1)","v":4},{"$f":"VLOOKUP(CI8,List!$C$2:$D$6,2,1)","v":4},{"$f":"VLOOKUP(CJ8,List!$C$2:$D$6,2,1)","v":5},{"$f":"VLOOKUP(CK8,List!$C$2:$D$6,2,1)","v":4},{"$f":"VLOOKUP(CL8,List!$C$2:$D$6,2,1)","v":4},{"$f":"VLOOKUP(CM8,List!$C$2:$D$6,2,1)","v":5},{"$f":"VLOOKUP(CN8,List!$C$2:$D$6,2,1)","v":5},{"$f":"VLOOKUP(CO8,List!$C$2:$D$6,2,1)","v":5},{"$f":"VLOOKUP(CP8,List!$C$2:$D$6,2,1)","v":5}]
["London","Croydon","Croydon",10600,20900,11500,20900,3,{"$f":"VLOOKUP(G9,List!$A$2:$D$6,4,1)","v":3},16327.046596067696,16735.222760969391,17153.603329993621,17582.443413243458,18022.004498574544,18472.554611038908,18934.368476314881,19407.727688222752,19892.920880428315,20390.243902439026,20390.243902439026,20900,21422.499999999996,21958.0625,22507.014062499999,23069.689414062494,23646.431649414055,{"$f":"VLOOKUP(J9,List!$A$2:$D$6,4,1)","v":2},{"$f":"VLOOKUP(K9,List!$A$2:$D$6,4,1)","v":2},{"$f":"VLOOKUP(L9,List!$A$2:$D$6,4,1)","v":2},{"$f":"VLOOKUP(M9,List!$A$2:$D$6,4,1)","v":2},{"$f":"VLOOKUP(N9,List!$A$2:$D$6,4,1)","v":2},{"$f":"VLOOKUP(O9,List!$A$2:$D$6,4,1)","v":2},{"$f":"VLOOKUP(P9,List!$A$2:$D$6,4,1)","v":2},{"$f":"VLOOKUP(Q9,List!$A$2:$D$6,4,1)","v":2},{"$f":"VLOOKUP(R9,List!$A$2:$D$6,4,1)","v":2},{"$f":"VLOOKUP(S9,List!$A$2:$D$6,4,1)","v":3},{"$f":"VLOOKUP(T9,List!$A$2:$D$6,4,1)","v":3},{"$f":"VLOOKUP(U9,List!$A$2:$D$6,4,1)","v":3},{"$f":"VLOOKUP(V9,List!$A$2:$D$6,4,1)","v":3},{"$f":"VLOOKUP(W9,List!$A$2:$D$6,4,1)","v":3},{"$f":"VLOOKUP(X9,List!$A$2:$D$6,4,1)","v":4},{"$f":"VLOOKUP(Y9,List!$A$2:$D$6,4,1)","v":4},{"$f":"VLOOKUP(Z9,List!$A$2:$D$6,4,1)","v":4},3.74,4.01,4.24,5.1100000000000003,5.69,6.22,7.45,7.43,8.16,7.92,8.35,8.5299999999999994,7.36,7.6158180807198992,7.4095763974713407,7.6157683467386406,7.6474524424051236,{"$f":"VLOOKUP(AR9,List!$B$2:$D$6,3,1)","v":1},{"$f":"VLOOKUP(AS9,List!$B$2:$D$6,3,1)","v":1},{"$f":"VLOOKUP(AT9,List!$B$2:$D$6,3,1)","v":1},{"$f":"VLOOKUP(AU9,List!$B$2:$D$6,3,1)","v":2},{"$f":"VLOOKUP(AV9,List!$B$2:$D$6,3,1)","v":3},{"$f":"VLOOKUP(AW9,List!$B$2:$D$6,3,1)","v":3},{"$f":"VLOOKUP(AX9,List!$B$2:$D$6,3,1)","v":4},{"$f":"VLOOKUP(AY9,List!$B$2:$D$6,3,1)","v":4},{"$f":"VLOOKUP(AZ9,List!$B$2:$D$6,3,1)","v":4},{"$f":"VLOOKUP(BA9,List!$B$2:$D$6,3,1)","v":4},{"$f":"VLOOKUP(BB9,List!$B$2:$D$6,3,1)","v":4},{"$f":"VLOOKUP(BC9,List!$B$2:$D$6,3,1)","v":4},{"$f":"VLOOKUP(BD9,List!$B$2:$D$6,3,1)","v":4},{"$f":"VLOOKUP(BE9,List!$B$2:$D$6,3,1)","v":4},{"$f":"VLOOKUP(BF9,List!$B$2:$D$6,3,1)","v":4},{"$f":"VLOOKUP(BG9,List!$B$2:$D$6,3,1)","v":4},{"$f":"VLOOKUP(BH9,List!$B$2:$D$6,3,1)","v":4},83176.718427835047,94148.907860147214,106834.66977250726,128093.52510829456,144664.18805627333,172290.36563200757,196823.08893972012,209800,220824.98864373783,231898.295344696,248197.64847809949,254643.11869281044,234332,254687.925124792,256911.55676918666,261435.78971043057,272552.95654216607,{"$f":"VLOOKUP(BZ9,List!$C$2:$D$6,2,1)","v":1},{"$f":"VLOOKUP(CA9,List!$C$2:$D$6,2,1)","v":2},{"$f":"VLOOKUP(CB9,List!$C$2:$D$6,2,1)","v":2},{"$f":"VLOOKUP(CC9,List!$C$2:$D$6,2,1)","v":2},{"$f":"VLOOKUP(CD9,List!$C$2:$D$6,2,1)","v":2},{"$f":"VLOOKUP(CE9,List!$C$2:$D$6,2,1)","v":3},{"$f":"VLOOKUP(CF9,List!$C$2:$D$6,2,1)","v":3},{"$f":"VLOOKUP(CG9,List!$C$2:$D$6,2,1)","v":3},{"$f":"VLOOKUP(CH9,List!$C$2:$D$6,2,1)","v":3},{"$f":"VLOOKUP(CI9,List!$C$2:$D$6,2,1)","v":3},{"$f":"VLOOKUP(CJ9,List!$C$2:$D$6,2,1)","v":3},{"$f":"VLOOKUP(CK9,List!$C$2:$D$6,2,1)","v":4},{"$f":"VLOOKUP(CL9,List!$C$2:$D$6,2,1)","v":3},{"$f":"VLOOKUP(CM9,List!$C$2:$D$6,2,1)","v":4},{"$f":"VLOOKUP(CN9,List!$C$2:$D$6,2,1)","v":4},{"$f":"VLOOKUP(CO9,List!$C$2:$D$6,2,1)","v":4},{"$f":"VLOOKUP(CP9,List!$C$2:$D$6,2,1)","v":4}]
["London","Ealing","Ealing",9840,20700,9340,20200,3,{"$f":"VLOOKUP(G10,List!$A$2:$D$6,4,1)","v":3},15780.207714859687,16174.71290773118,16579.080730424455,16993.557748685067,17418.396692402192,17853.856609712246,18300.203024955052,18757.708100578926,19226.650803093398,19707.317073170732,19707.317073170732,20200,20705,21222.625,21753.190624999999,22297.020390624995,22854.445900390619,{"$f":"VLOOKUP(J10,List!$A$2:$D$6,4,1)","v":1},{"$f":"VLOOKUP(K10,List!$A$2:$D$6,4,1)","v":2},{"$f":"VLOOKUP(L10,List!$A$2:$D$6,4,1)","v":2},{"$f":"VLOOKUP(M10,List!$A$2:$D$6,4,1)","v":2},{"$f":"VLOOKUP(N10,List!$A$2:$D$6,4,1)","v":2},{"$f":"VLOOKUP(O10,List!$A$2:$D$6,4,1)","v":2},{"$f":"VLOOKUP(P10,List!$A$2:$D$6,4,1)","v":2},{"$f":"VLOOKUP(Q10,List!$A$2:$D$6,4,1)","v":2},{"$f":"VLOOKUP(R10,List!$A$2:$D$6,4,1)","v":2},{"$f":"VLOOKUP(S10,List!$A$2:$D$6,4,1)","v":2},{"$f":"VLOOKUP(T10,List!$A$2:$D$6,4,1)","v":2},{"$f":"VLOOKUP(U10,List!$A$2:$D$6,4,1)","v":3},{"$f":"VLOOKUP(V10,List!$A$2:$D$6,4,1)","v":3},{"$f":"VLOOKUP(W10,List!$A$2:$D$6,4,1)","v":3},{"$f":"VLOOKUP(X10,List!$A$2:$D$6,4,1)","v":3},{"$f":"VLOOKUP(Y10,List!$A$2:$D$6,4,1)","v":4},{"$f":"VLOOKUP(Z10,List!$A$2:$D$6,4,1)","v":4},4.43,5.05,5.49,6.55,7,7.62,8.7200000000000006,9.02,9.0299999999999994,9.42,9.52,10.06,8.83,9.6526790571965115,10.065451105934157,10.006481195447414,10.988641709792324,{"$f":"VLOOKUP(AR10,List!$B$2:$D$6,3,1)","v":1},{"$f":"VLOOKUP(AS10,List!$B$2:$D$6,3,1)","v":2},{"$f":"VLOOKUP(AT10,List!$B$2:$D$6,3,1)","v":2},{"$f":"VLOOKUP(AU10,List!$B$2:$D$6,3,1)","v":3},{"$f":"VLOOKUP(AV10,List!$B$2:$D$6,3,1)","v":4},{"$f":"VLOOKUP(AW10,List!$B$2:$D$6,3,1)","v":4},{"$f":"VLOOKUP(AX10,List!$B$2:$D$6,3,1)","v":4},{"$f":"VLOOKUP(AY10,List!$B$2:$D$6,3,1)","v":5},{"$f":"VLOOKUP(AZ10,List!$B$2:$D$6,3,1)","v":5},{"$f":"VLOOKUP(BA10,List!$B$2:$D$6,3,1)","v":5},{"$f":"VLOOKUP(BB10,List!$B$2:$D$6,3,1)","v":5},{"$f":"VLOOKUP(BC10,List!$B$2:$D$6,3,1)","v":5},{"$f":"VLOOKUP(BD10,List!$B$2:$D$6,3,1)","v":4},{"$f":"VLOOKUP(BE10,List!$B$2:$D$6,3,1)","v":5},{"$f":"VLOOKUP(BF10,List!$B$2:$D$6,3,1)","v":5},{"$f":"VLOOKUP(BG10,List!$B$2:$D$6,3,1)","v":5},{"$f":"VLOOKUP(BH10,List!$B$2:$D$6,3,1)","v":5},115766.99174890794,128803.25339213025,157461.26080246913,177981.42593607306,195834.11838259175,227675.27988431876,239524.8705734316,261480,274583.43143527402,294023.49904731661,329094.10266906826,329154.87802197802,330163,351036.61898773973,372873.23107702605,394715.89045825519,428220.16239316214,{"$f":"VLOOKUP(BZ10,List!$C$2:$D$6,2,1)","v":2},{"$f":"VLOOKUP(CA10,List!$C$2:$D$6,2,1)","v":2},{"$f":"VLOOKUP(CB10,List!$C$2:$D$6,2,1)","v":3},{"$f":"VLOOKUP(CC10,List!$C$2:$D$6,2,1)","v":3},{"$f":"VLOOKUP(CD10,List!$C$2:$D$6,2,1)","v":3},{"$f":"VLOOKUP(CE10,List!$C$2:$D$6,2,1)","v":3},{"$f":"VLOOKUP(CF10,List!$C$2:$D$6,2,1)","v":3},{"$f":"VLOOKUP(CG10,List!$C$2:$D$6,2,1)","v":4},{"$f":"VLOOKUP(CH10,List!$C$2:$D$6,2,1)","v":4},{"$f":"VLOOKUP(CI10,List!$C$2:$D$6,2,1)","v":4},{"$f":"VLOOKUP(CJ10,List!$C$2:$D$6,2,1)","v":4},{"$f":"VLOOKUP(CK10,List!$C$2:$D$6,2,1)","v":4},{"$f":"VLOOKUP(CL10,List!$C$2:$D$6,2,1)","v":4},{"$f":"VLOOKUP(CM10,List!$C$2:$D$6,2,1)","v":4},{"$f":"VLOOKUP(CN10,List!$C$2:$D$6,2,1)","v":4},{"$f":"VLOOKUP(CO10,List!$C$2:$D$6,2,1)","v":4},{"$f":"VLOOKUP(CP10,List!$C$2:$D$6,2,1)","v":4}]
["London","Enfield","Enfield",9980,19700,9680,19900,3,{"$f":"VLOOKUP(G11,List!$A$2:$D$6,4,1)","v":2},15545.848194341968,15934.494399200519,16332.856759180528,16741.17817816004,17159.707632614041,17588.700323429392,18028.417831515126,18479.128277303003,18941.106484235574,19414.634146341465,19414.634146341465,19900,20397.5,20907.4375,21430.123437499999,21965.876523437495,22515.023436523432,{"$f":"VLOOKUP(J11,List!$A$2:$D$6,4,1)","v":1},{"$f":"VLOOKUP(K11,List!$A$2:$D$6,4,1)","v":1},{"$f":"VLOOKUP(L11,List!$A$2:$D$6,4,1)","v":2},{"$f":"VLOOKUP(M11,List!$A$2:$D$6,4,1)","v":2},{"$f":"VLOOKUP(N11,List!$A$2:$D$6,4,1)","v":2},{"$f":"VLOOKUP(O11,List!$A$2:$D$6,4,1)","v":2},{"$f":"VLOOKUP(P11,List!$A$2:$D$6,4,1)","v":2},{"$f":"VLOOKUP(Q11,List!$A$2:$D$6,4,1)","v":2},{"$f":"VLOOKUP(R11,List!$A$2:$D$6,4,1)","v":2},{"$f":"VLOOKUP(S11,List!$A$2:$D$6,4,1)","v":2},{"$f":"VLOOKUP(T11,List!$A$2:$D$6,4,1)","v":2},{"$f":"VLOOKUP(U11,List!$A$2:$D$6,4,1)","v":2},{"$f":"VLOOKUP(V11,List!$A$2:$D$6,4,1)","v":3},{"$f":"VLOOKUP(W11,List!$A$2:$D$6,4,1)","v":3},{"$f":"VLOOKUP(X11,List!$A$2:$D$6,4,1)","v":3},{"$f":"VLOOKUP(Y11,List!$A$2:$D$6,4,1)","v":3},{"$f":"VLOOKUP(Z11,List!$A$2:$D$6,4,1)","v":4},4.25,4.3099999999999996,4.67,5.01,5.25,6.04,7.7,6.98,8.41,8.16,9.3000000000000007,9.44,8.39,8.428866008837554,8.8569607567990296,8.3842313568755564,9.6854176352084309,{"$f":"VLOOKUP(AR11,List!$B$2:$D$6,3,1)","v":1},{"$f":"VLOOKUP(AS11,List!$B$2:$D$6,3,1)","v":1},{"$f":"VLOOKUP(AT11,List!$B$2:$D$6,3,1)","v":2},{"$f":"VLOOKUP(AU11,List!$B$2:$D$6,3,1)","v":2},{"$f":"VLOOKUP(AV11,List!$B$2:$D$6,3,1)","v":2},{"$f":"VLOOKUP(AW11,List!$B$2:$D$6,3,1)","v":3},{"$f":"VLOOKUP(AX11,List!$B$2:$D$6,3,1)","v":4},{"$f":"VLOOKUP(AY11,List!$B$2:$D$6,3,1)","v":3},{"$f":"VLOOKUP(AZ11,List!$B$2:$D$6,3,1)","v":4},{"$f":"VLOOKUP(BA11,List!$B$2:$D$6,3,1)","v":4},{"$f":"VLOOKUP(BB11,List!$B$2:$D$6,3,1)","v":5},{"$f":"VLOOKUP(BC11,List!$B$2:$D$6,3,1)","v":5},{"$f":"VLOOKUP(BD11,List!$B$2:$D$6,3,1)","v":4},{"$f":"VLOOKUP(BE11,List!$B$2:$D$6,3,1)","v":4},{"$f":"VLOOKUP(BF11,List!$B$2:$D$6,3,1)","v":4},{"$f":"VLOOKUP(BG11,List!$B$2:$D$6,3,1)","v":4},{"$f":"VLOOKUP(BH11,List!$B$2:$D$6,3,1)","v":5},94783.933237731035,102206.38245165415,114165.31237113402,134501.05485733695,154169.929344009,177970.91666666666,206328.64387788242,220251,229469.31362990045,244399.49323671497,268757.28885745717,270096.1627305079,266899,283782.58666203544,284467.69066076068,293812.83848672232,311170.87626092858,{"$f":"VLOOKUP(BZ11,List!$C$2:$D$6,2,1)","v":2},{"$f":"VLOOKUP(CA11,List!$C$2:$D$6,2,1)","v":2},{"$f":"VLOOKUP(CB11,List!$C$2:$D$6,2,1)","v":2},{"$f":"VLOOKUP(CC11,List!$C$2:$D$6,2,1)","v":2},{"$f":"VLOOKUP(CD11,List!$C$2:$D$6,2,1)","v":3},{"$f":"VLOOKUP(CE11,List!$C$2:$D$6,2,1)","v":3},{"$f":"VLOOKUP(CF11,List!$C$2:$D$6,2,1)","v":3},{"$f":"VLOOKUP(CG11,List!$C$2:$D$6,2,1)","v":3},{"$f":"VLOOKUP(CH11,List!$C$2:$D$6,2,1)","v":3},{"$f":"VLOOKUP(CI11,List!$C$2:$D$6,2,1)","v":3},{"$f":"VLOOKUP(CJ11,List!$C$2:$D$6,2,1)","v":4},{"$f":"VLOOKUP(CK11,List!$C$2:$D$6,2,1)","v":4},{"$f":"VLOOKUP(CL11,List!$C$2:$D$6,2,1)","v":4},{"$f":"VLOOKUP(CM11,List!$C$2:$D$6,2,1)","v":4},{"$f":"VLOOKUP(CN11,List!$C$2:$D$6,2,1)","v":4},{"$f":"VLOOKUP(CO11,List!$C$2:$D$6,2,1)","v":4},{"$f":"VLOOKUP(CP11,List!$C$2:$D$6,2,1)","v":4}]
["London","Greenwich","Greenwich",10800,20700,10100,20500,3,{"$f":"VLOOKUP(G12,List!$A$2:$D$6,4,1)","v":3},16014.567235377404,16414.931416261843,16825.304701668385,17245.93731921009,17677.085752190345,18119.0128959951,18571.988218394978,19036.287923854852,19512.195121951219,20000.000000000004,20000.000000000004,20500,21012.499999999996,21537.8125,22076.257812499996,22628.164257812496,23193.868364257807,{"$f":"VLOOKUP(J12,List!$A$2:$D$6,4,1)","v":2},{"$f":"VLOOKUP(K12,List!$A$2:$D$6,4,1)","v":2},{"$f":"VLOOKUP(L12,List!$A$2:$D$6,4,1)","v":2},{"$f":"VLOOKUP(M12,List!$A$2:$D$6,4,1)","v":2},{"$f":"VLOOKUP(N12,List!$A$2:$D$6,4,1)","v":2},{"$f":"VLOOKUP(O12,List!$A$2:$D$6,4,1)","v":2},{"$f":"VLOOKUP(P12,List!$A$2:$D$6,4,1)","v":2},{"$f":"VLOOKUP(Q12,List!$A$2:$D$6,4,1)","v":2},{"$f":"VLOOKUP(R12,List!$A$2:$D$6,4,1)","v":2},{"$f":"VLOOKUP(S12,List!$A$2:$D$6,4,1)","v":3},{"$f":"VLOOKUP(T12,List!$A$2:$D$6,4,1)","v":3},{"$f":"VLOOKUP(U12,List!$A$2:$D$6,4,1)","v":3},{"$f":"VLOOKUP(V12,List!$A$2:$D$6,4,1)","v":3},{"$f":"VLOOKUP(W12,List!$A$2:$D$6,4,1)","v":3},{"$f":"VLOOKUP(X12,List!$A$2:$D$6,4,1)","v":4},{"$f":"VLOOKUP(Y12,List!$A$2:$D$6,4,1)","v":4},{"$f":"VLOOKUP(Z12,List!$A$2:$D$6,4,1)","v":4},3.33,3.63,4.0999999999999996,4.79,5.66,6.43,6.71,6.9,7.32,7.63,7.09,8.2100000000000009,7.55,7.8453034251153779,8.3432808101787774,8.108123121967802,8.9894501170324634,{"$f":"VLOOKUP(AR12,List!$B$2:$D$6,3,1)","v":1},{"$f":"VLOOKUP(AS12,List!$B$2:$D$6,3,1)","v":1},{"$f":"VLOOKUP(AT12,List!$B$2:$D$6,3,1)","v":1},{"$f":"VLOOKUP(AU12,List!$B$2:$D$6,3,1)","v":2},{"$f":"VLOOKUP(AV12,List!$B$2:$D$6,3,1)","v":3},{"$f":"VLOOKUP(AW12,List!$B$2:$D$6,3,1)","v":3},{"$f":"VLOOKUP(AX12,List!$B$2:$D$6,3,1)","v":3},{"$f":"VLOOKUP(AY12,List!$B$2:$D$6,3,1)","v":3},{"$f":"VLOOKUP(AZ12,List!$B$2:$D$6,3,1)","v":4},{"$f":"VLOOKUP(BA12,List!$B$2:$D$6,3,1)","v":4},{"$f":"VLOOKUP(BB12,List!$B$2:$D$6,3,1)","v":4},{"$f":"VLOOKUP(BC12,List!$B$2:$D$6,3,1)","v":4},{"$f":"VLOOKUP(BD12,List!$B$2:$D$6,3,1)","v":4},{"$f":"VLOOKUP(BE12,List!$B$2:$D$6,3,1)","v":4},{"$f":"VLOOKUP(BF12,List!$B$2:$D$6,3,1)","v":4},{"$f":"VLOOKUP(BG12,List!$B$2:$D$6,3,1)","v":4},{"$f":"VLOOKUP(BH12,List!$B$2:$D$6,3,1)","v":4},83056.607681365582,93781.241427768415,112943.94005014817,131835.04705274044,147418.77457733249,176694.35387523629,193790.45206055508,209531,226120.63604323307,237898.3636546589,260663.45224210739,269344.864,264426,295683.88903924223,295721.01874999952,292316.76273022738,325129.50525601901,{"$f":"VLOOKUP(BZ12,List!$C$2:$D$6,2,1)","v":1},{"$f":"VLOOKUP(CA12,List!$C$2:$D$6,2,1)","v":2},{"$f":"VLOOKUP(CB12,List!$C$2:$D$6,2,1)","v":2},{"$f":"VLOOKUP(CC12,List!$C$2:$D$6,2,1)","v":2},{"$f":"VLOOKUP(CD12,List!$C$2:$D$6,2,1)","v":2},{"$f":"VLOOKUP(CE12,List!$C$2:$D$6,2,1)","v":3},{"$f":"VLOOKUP(CF12,List!$C$2:$D$6,2,1)","v":3},{"$f":"VLOOKUP(CG12,List!$C$2:$D$6,2,1)","v":3},{"$f":"VLOOKUP(CH12,List!$C$2:$D$6,2,1)","v":3},{"$f":"VLOOKUP(CI12,List!$C$2:$D$6,2,1)","v":3},{"$f":"VLOOKUP(CJ12,List!$C$2:$D$6,2,1)","v":4},{"$f":"VLOOKUP(CK12,List!$C$2:$D$6,2,1)","v":4},{"$f":"VLOOKUP(CL12,List!$C$2:$D$6,2,1)","v":4},{"$f":"VLOOKUP(CM12,List!$C$2:$D$6,2,1)","v":4},{"$f":"VLOOKUP(CN12,List!$C$2:$D$6,2,1)","v":4},{"$f":"VLOOKUP(CO12,List!$C$2:$D$6,2,1)","v":4},{"$f":"VLOOKUP(CP12,List!$C$2:$D$6,2,1)","v":4}]
["London","Hackney","Hackney",10800,20700,9140,20900,3,{"$f":"VLOOKUP(G13,List!$A$2:$D$6,4,1)","v":3},16327.046596067696,16735.222760969391,17153.603329993621,17582.443413243458,18022.004498574544,18472.554611038908,18934.368476314881,19407.727688222752,19892.920880428315,20390.243902439026,20390.243902439026,20900,21422.499999999996,21958.0625,22507.014062499999,23069.689414062494,23646.431649414055,{"$f":"VLOOKUP(J13,List!$A$2:$D$6,4,1)","v":2},{"$f":"VLOOKUP(K13,List!$A$2:$D$6,4,1)","v":2},{"$f":"VLOOKUP(L13,List!$A$2:$D$6,4,1)","v":2},{"$f":"VLOOKUP(M13,List!$A$2:$D$6,4,1)","v":2},{"$f":"VLOOKUP(N13,List!$A$2:$D$6,4,1)","v":2},{"$f":"VLOOKUP(O13,List!$A$2:$D$6,4,1)","v":2},{"$f":"VLOOKUP(P13,List!$A$2:$D$6,4,1)","v":2},{"$f":"VLOOKUP(Q13,List!$A$2:$D$6,4,1)","v":2},{"$f":"VLOOKUP(R13,List!$A$2:$D$6,4,1)","v":2},{"$f":"VLOOKUP(S13,List!$A$2:$D$6,4,1)","v":3},{"$f":"VLOOKUP(T13,List!$A$2:$D$6,4,1)","v":3},{"$f":"VLOOKUP(U13,List!$A$2:$D$6,4,1)","v":3},{"$f":"VLOOKUP(V13,List!$A$2:$D$6,4,1)","v":3},{"$f":"VLOOKUP(W13,List!$A$2:$D$6,4,1)","v":3},{"$f":"VLOOKUP(X13,List!$A$2:$D$6,4,1)","v":4},{"$f":"VLOOKUP(Y13,List!$A$2:$D$6,4,1)","v":4},{"$f":"VLOOKUP(Z13,List!$A$2:$D$6,4,1)","v":4},3.34,3.42,4.3,5.59,6.34,6.82,7.43,7.79,7.54,7.78,8.9700000000000006,8.58,7.85,8.6863372910974661,9.1143992832948406,9.442755679060804,11.257204610951009,{"$f":"VLOOKUP(AR13,List!$B$2:$D$6,3,1)","v":1},{"$f":"VLOOKUP(AS13,List!$B$2:$D$6,3,1)","v":1},{"$f":"VLOOKUP(AT13,List!$B$2:$D$6,3,1)","v":1},{"$f":"VLOOKUP(AU13,List!$B$2:$D$6,3,1)","v":3},{"$f":"VLOOKUP(AV13,List!$B$2:$D$6,3,1)","v":3},{"$f":"VLOOKUP(AW13,List!$B$2:$D$6,3,1)","v":3},{"$f":"VLOOKUP(AX13,List!$B$2:$D$6,3,1)","v":4},{"$f":"VLOOKUP(AY13,List!$B$2:$D$6,3,1)","v":4},{"$f":"VLOOKUP(AZ13,List!$B$2:$D$6,3,1)","v":4},{"$f":"VLOOKUP(BA13,List!$B$2:$D$6,3,1)","v":4},{"$f":"VLOOKUP(BB13,List!$B$2:$D$6,3,1)","v":4},{"$f":"VLOOKUP(BC13,List!$B$2:$D$6,3,1)","v":4},{"$f":"VLOOKUP(BD13,List!$B$2:$D$6,3,1)","v":4},{"$f":"VLOOKUP(BE13,List!$B$2:$D$6,3,1)","v":4},{"$f":"VLOOKUP(BF13,List!$B$2:$D$6,3,1)","v":5},{"$f":"VLOOKUP(BG13,List!$B$2:$D$6,3,1)","v":5},{"$f":"VLOOKUP(BH13,List!$B$2:$D$6,3,1)","v":5},89396.033692722369,103955.53524299967,128560.80097979179,156265.03485915493,179895.63806888068,204662.92016806724,220813.2076724456,236832,252152.03656003324,278300.55012224941,314839.00084769708,319120.76613380696,314322,346011.69685935369,352848.62771739083,379430.88651640998,429807.28606658441,{"$f":"VLOOKUP(BZ13,List!$C$2:$D$6,2,1)","v":1},{"$f":"VLOOKUP(CA13,List!$C$2:$D$6,2,1)","v":2},{"$f":"VLOOKUP(CB13,List!$C$2:$D$6,2,1)","v":2},{"$f":"VLOOKUP(CC13,List!$C$2:$D$6,2,1)","v":3},{"$f":"VLOOKUP(CD13,List!$C$2:$D$6,2,1)","v":3},{"$f":"VLOOKUP(CE13,List!$C$2:$D$6,2,1)","v":3},{"$f":"VLOOKUP(CF13,List!$C$2:$D$6,2,1)","v":3},{"$f":"VLOOKUP(CG13,List!$C$2:$D$6,2,1)","v":3},{"$f":"VLOOKUP(CH13,List!$C$2:$D$6,2,1)","v":4},{"$f":"VLOOKUP(CI13,List!$C$2:$D$6,2,1)","v":4},{"$f":"VLOOKUP(CJ13,List!$C$2:$D$6,2,1)","v":4},{"$f":"VLOOKUP(CK13,List!$C$2:$D$6,2,1)","v":4},{"$f":"VLOOKUP(CL13,List!$C$2:$D$6,2,1)","v":4},{"$f":"VLOOKUP(CM13,List!$C$2:$D$6,2,1)","v":4},{"$f":"VLOOKUP(CN13,List!$C$2:$D$6,2,1)","v":4},{"$f":"VLOOKUP(CO13,List!$C$2:$D$6,2,1)","v":4},{"$f":"VLOOKUP(CP13,List!$C$2:$D$6,2,1)","v":4}]
["London","Hammersmith","Hammersmith & Fulham",9540,23100,9530,23600,3,{"$f":"VLOOKUP(G14,List!$A$2:$D$6,4,1)","v":4},18436.282280727159,18897.189337745338,19369.619071188969,19853.859547968692,20350.206036667907,20858.961187584606,21380.435217274218,21914.946097706073,22462.819750148723,23024.390243902442,23024.390243902442,23600,24189.999999999996,24794.749999999996,25414.618749999998,26049.984218749996,26701.233824218743,{"$f":"VLOOKUP(J14,List!$A$2:$D$6,4,1)","v":2},{"$f":"VLOOKUP(K14,List!$A$2:$D$6,4,1)","v":2},{"$f":"VLOOKUP(L14,List!$A$2:$D$6,4,1)","v":2},{"$f":"VLOOKUP(M14,List!$A$2:$D$6,4,1)","v":2},{"$f":"VLOOKUP(N14,List!$A$2:$D$6,4,1)","v":3},{"$f":"VLOOKUP(O14,List!$A$2:$D$6,4,1)","v":3},{"$f":"VLOOKUP(P14,List!$A$2:$D$6,4,1)","v":3},{"$f":"VLOOKUP(Q14,List!$A$2:$D$6,4,1)","v":3},{"$f":"VLOOKUP(R14,List!$A$2:$D$6,4,1)","v":4},{"$f":"VLOOKUP(S14,List!$A$2:$D$6,4,1)","v":4},{"$f":"VLOOKUP(T14,List!$A$2:$D$6,4,1)","v":4},{"$f":"VLOOKUP(U14,List!$A$2:$D$6,4,1)","v":4},{"$f":"VLOOKUP(V14,List!$A$2:$D$6,4,1)","v":4},{"$f":"VLOOKUP(W14,List!$A$2:$D$6,4,1)","v":4},{"$f":"VLOOKUP(X14,List!$A$2:$D$6,4,1)","v":5},{"$f":"VLOOKUP(Y14,List!$A$2:$D$6,4,1)","v":5},{"$f":"VLOOKUP(Z14,List!$A$2:$D$6,4,1)","v":5},5.63,7.07,7.08,9.06,9.0299999999999994,9.0299999999999994,9.3800000000000008,10.67,10.52,11.77,12.34,13.03,11.37,13.250643775833273,12.99948532649932,14.137837967408352,16.316482509875765,{"$f":"VLOOKUP(AR14,List!$B$2:$D$6,3,1)","v":3},{"$f":"VLOOKUP(AS14,List!$B$2:$D$6,3,1)","v":4},{"$f":"VLOOKUP(AT14,List!$B$2:$D$6,3,1)","v":4},{"$f":"VLOOKUP(AU14,List!$B$2:$D$6,3,1)","v":5},{"$f":"VLOOKUP(AV14,List!$B$2:$D$6,3,1)","v":5},{"$f":"VLOOKUP(AW14,List!$B$2:$D$6,3,1)","v":5},{"$f":"VLOOKUP(AX14,List!$B$2:$D$6,3,1)","v":5},{"$f":"VLOOKUP(AY14,List!$B$2:$D$6,3,1)","v":5},{"$f":"VLOOKUP(AZ14,List!$B$2:$D$6,3,1)","v":5},{"$f":"VLOOKUP(BA14,List!$B$2:$D$6,3,1)","v":5},{"$f":"VLOOKUP(BB14,List!$B$2:$D$6,3,1)","v":5},{"$f":"VLOOKUP(BC14,List!$B$2:$D$6,3,1)","v":5},{"$f":"VLOOKUP(BD14,List!$B$2:$D$6,3,1)","v":5},{"$f":"VLOOKUP(BE14,List!$B$2:$D$6,3,1)","v":5},{"$f":"VLOOKUP(BF14,List!$B$2:$D$6,3,1)","v":5},{"$f":"VLOOKUP(BG14,List!$B$2:$D$6,3,1)","v":5},{"$f":"VLOOKUP(BH14,List!$B$2:$D$6,3,1)","v":5},173088.26555023924,196684.49426186751,236258.05835995739,281382.36879432626,304114.9189973615,344101.37069173297,352527.64098124095,383515,415350.1968528232,452612.39562289562,535017.40169840457,565484.86293206201,553381,616506.48031496059,639093.19129140361,673136.39176470612,779765.15330624371,{"$f":"VLOOKUP(BZ14,List!$C$2:$D$6,2,1)","v":3},{"$f":"VLOOKUP(CA14,List!$C$2:$D$6,2,1)","v":3},{"$f":"VLOOKUP(CB14,List!$C$2:$D$6,2,1)","v":3},{"$f":"VLOOKUP(CC14,List!$C$2:$D$6,2,1)","v":4},{"$f":"VLOOKUP(CD14,List!$C$2:$D$6,2,1)","v":4},{"$f":"VLOOKUP(CE14,List!$C$2:$D$6,2,1)","v":4},{"$f":"VLOOKUP(CF14,List!$C$2:$D$6,2,1)","v":4},{"$f":"VLOOKUP(CG14,List!$C$2:$D$6,2,1)","v":4},{"$f":"VLOOKUP(CH14,List!$C$2:$D$6,2,1)","v":4},{"$f":"VLOOKUP(CI14,List!$C$2:$D$6,2,1)","v":4},{"$f":"VLOOKUP(CJ14,List!$C$2:$D$6,2,1)","v":5},{"$f":"VLOOKUP(CK14,List!$C$2:$D$6,2,1)","v":5},{"$f":"VLOOKUP(CL14,List!$C$2:$D$6,2,1)","v":5},{"$f":"VLOOKUP(CM14,List!$C$2:$D$6,2,1)","v":5},{"$f":"VLOOKUP(CN14,List!$C$2:$D$6,2,1)","v":5},{"$f":"VLOOKUP(CO14,List!$C$2:$D$6,2,1)","v":5},{"$f":"VLOOKUP(CP14,List!$C$2:$D$6,2,1)","v":5}]
["London","Haringey","Haringey",10200,19400,9890,19800,3,{"$f":"VLOOKUP(G15,List!$A$2:$D$6,4,1)","v":2},15467.728354169396,15854.421563023632,16250.78210209922,16657.051654651699,17073.477946017993,17500.314894668438,17937.822767035152,18386.268336211026,18845.925044616299,19317.07317073171,19317.07317073171,19800,20295,20802.375,21322.434374999997,21855.495234374994,22401.882615234368,{"$f":"VLOOKUP(J15,List!$A$2:$D$6,4,1)","v":1},{"$f":"VLOOKUP(K15,List!$A$2:$D$6,4,1)","v":1},{"$f":"VLOOKUP(L15,List!$A$2:$D$6,4,1)","v":2},{"$f":"VLOOKUP(M15,List!$A$2:$D$6,4,1)","v":2},{"$f":"VLOOKUP(N15,List!$A$2:$D$6,4,1)","v":2},{"$f":"VLOOKUP(O15,List!$A$2:$D$6,4,1)","v":2},{"$f":"VLOOKUP(P15,List!$A$2:$D$6,4,1)","v":2},{"$f":"VLOOKUP(Q15,List!$A$2:$D$6,4,1)","v":2},{"$f":"VLOOKUP(R15,List!$A$2:$D$6,4,1)","v":2},{"$f":"VLOOKUP(S15,List!$A$2:$D$6,4,1)","v":2},{"$f":"VLOOKUP(T15,List!$A$2:$D$6,4,1)","v":2},{"$f":"VLOOKUP(U15,List!$A$2:$D$6,4,1)","v":2},{"$f":"VLOOKUP(V15,List!$A$2:$D$6,4,1)","v":3},{"$f":"VLOOKUP(W15,List!$A$2:$D$6,4,1)","v":3},{"$f":"VLOOKUP(X15,List!$A$2:$D$6,4,1)","v":3},{"$f":"VLOOKUP(Y15,List!$A$2:$D$6,4,1)","v":3},{"$f":"VLOOKUP(Z15,List!$A$2:$D$6,4,1)","v":4},4.21,4.9800000000000004,5.16,6.52,7.21,7.59,8.4499999999999993,9.08,9.17,9.18,9.58,10.39,8.92,9.6015077703630727,10.881071166282643,10.958360837949325,11.474123088349481,{"$f":"VLOOKUP(AR15,List!$B$2:$D$6,3,1)","v":1},{"$f":"VLOOKUP(AS15,List!$B$2:$D$6,3,1)","v":2},{"$f":"VLOOKUP(AT15,List!$B$2:$D$6,3,1)","v":2},{"$f":"VLOOKUP(AU15,List!$B$2:$D$6,3,1)","v":3},{"$f":"VLOOKUP(AV15,List!$B$2:$D$6,3,1)","v":4},{"$f":"VLOOKUP(AW15,List!$B$2:$D$6,3,1)","v":4},{"$f":"VLOOKUP(AX15,List!$B$2:$D$6,3,1)","v":4},{"$f":"VLOOKUP(AY15,List!$B$2:$D$6,3,1)","v":5},{"$f":"VLOOKUP(AZ15,List!$B$2:$D$6,3,1)","v":5},{"$f":"VLOOKUP(BA15,List!$B$2:$D$6,3,1)","v":5},{"$f":"VLOOKUP(BB15,List!$B$2:$D$6,3,1)","v":5},{"$f":"VLOOKUP(BC15,List!$B$2:$D$6,3,1)","v":5},{"$f":"VLOOKUP(BD15,List!$B$2:$D$6,3,1)","v":4},{"$f":"VLOOKUP(BE15,List!$B$2:$D$6,3,1)","v":5},{"$f":"VLOOKUP(BF15,List!$B$2:$D$6,3,1)","v":5},{"$f":"VLOOKUP(BG15,List!$B$2:$D$6,3,1)","v":5},{"$f":"VLOOKUP(BH15,List!$B$2:$D$6,3,1)","v":5},106906.06542256543,124342.05367231638,143659.91997518612,171268.31996224634,193511.10004293689,227158.94596382885,237561.16520584328,259888,275161.44726620853,305870.2587241609,353426.00070538442,348204.13647767185,350646,394415.73364888126,407454.9161862529,410343.9403420937,491280.7402164872,{"$f":"VLOOKUP(BZ15,List!$C$2:$D$6,2,1)","v":2},{"$f":"VLOOKUP(CA15,List!$C$2:$D$6,2,1)","v":2},{"$f":"VLOOKUP(CB15,List!$C$2:$D$6,2,1)","v":2},{"$f":"VLOOKUP(CC15,List!$C$2:$D$6,2,1)","v":3},{"$f":"VLOOKUP(CD15,List!$C$2:$D$6,2,1)","v":3},{"$f":"VLOOKUP(CE15,List!$C$2:$D$6,2,1)","v":3},{"$f":"VLOOKUP(CF15,List!$C$2:$D$6,2,1)","v":3},{"$f":"VLOOKUP(CG15,List!$C$2:$D$6,2,1)","v":4},{"$f":"VLOOKUP(CH15,List!$C$2:$D$6,2,1)","v":4},{"$f":"VLOOKUP(CI15,List!$C$2:$D$6,2,1)","v":4},{"$f":"VLOOKUP(CJ15,List!$C$2:$D$6,2,1)","v":4},{"$f":"VLOOKUP(CK15,List!$C$2:$D$6,2,1)","v":4},{"$f":"VLOOKUP(CL15,List!$C$2:$D$6,2,1)","v":4},{"$f":"VLOOKUP(CM15,List!$C$2:$D$6,2,1)","v":4},{"$f":"VLOOKUP(CN15,List!$C$2:$D$6,2,1)","v":4},{"$f":"VLOOKUP(CO15,List!$C$2:$D$6,2,1)","v":4},{"$f":"VLOOKUP(CP15,List!$C$2:$D$6,2,1)","v":5}]
["London","Harrow","Harrow",11700,20900,10200,22100,3,{"$f":"VLOOKUP(G16,List!$A$2:$D$6,4,1)","v":4},17264.484678138568,17696.096795092035,18138.499214969332,18591.961695343562,19056.760737727152,19533.179756170328,20021.509250074589,20522.04698132645,21035.098155859607,21560.9756097561,21560.9756097561,22100,22652.499999999996,23218.8125,23799.282812499998,24394.264882812495,25004.121504882805,{"$f":"VLOOKUP(J16,List!$A$2:$D$6,4,1)","v":2},{"$f":"VLOOKUP(K16,List!$A$2:$D$6,4,1)","v":2},{"$f":"VLOOKUP(L16,List!$A$2:$D$6,4,1)","v":2},{"$f":"VLOOKUP(M16,List!$A$2:$D$6,4,1)","v":2},{"$f":"VLOOKUP(N16,List!$A$2:$D$6,4,1)","v":2},{"$f":"VLOOKUP(O16,List!$A$2:$D$6,4,1)","v":2},{"$f":"VLOOKUP(P16,List!$A$2:$D$6,4,1)","v":3},{"$f":"VLOOKUP(Q16,List!$A$2:$D$6,4,1)","v":3},{"$f":"VLOOKUP(R16,List!$A$2:$D$6,4,1)","v":3},{"$f":"VLOOKUP(S16,List!$A$2:$D$6,4,1)","v":3},{"$f":"VLOOKUP(T16,List!$A$2:$D$6,4,1)","v":3},{"$f":"VLOOKUP(U16,List!$A$2:$D$6,4,1)","v":4},{"$f":"VLOOKUP(V16,List!$A$2:$D$6,4,1)","v":4},{"$f":"VLOOKUP(W16,List!$A$2:$D$6,4,1)","v":4},{"$f":"VLOOKUP(X16,List!$A$2:$D$6,4,1)","v":4},{"$f":"VLOOKUP(Y16,List!$A$2:$D$6,4,1)","v":4},{"$f":"VLOOKUP(Z16,List!$A$2:$D$6,4,1)","v":5},4.8,4.92,5.4,6.59,7.19,8.18,9.41,9.59,9.6199999999999992,9.42,10.63,10.25,8.6,10.509874263830898,10.853756892745915,11.061243804506285,12.490392006149117,{"$f":"VLOOKUP(AR16,List!$B$2:$D$6,3,1)","v":2},{"$f":"VLOOKUP(AS16,List!$B$2:$D$6,3,1)","v":2},{"$f":"VLOOKUP(AT16,List!$B$2:$D$6,3,1)","v":2},{"$f":"VLOOKUP(AU16,List!$B$2:$D$6,3,1)","v":3},{"$f":"VLOOKUP(AV16,List!$B$2:$D$6,3,1)","v":4},{"$f":"VLOOKUP(AW16,List!$B$2:$D$6,3,1)","v":4},{"$f":"VLOOKUP(AX16,List!$B$2:$D$6,3,1)","v":5},{"$f":"VLOOKUP(AY16,List!$B$2:$D$6,3,1)","v":5},{"$f":"VLOOKUP(AZ16,List!$B$2:$D$6,3,1)","v":5},{"$f":"VLOOKUP(BA16,List!$B$2:$D$6,3,1)","v":5},{"$f":"VLOOKUP(BB16,List!$B$2:$D$6,3,1)","v":5},{"$f":"VLOOKUP(BC16,List!$B$2:$D$6,3,1)","v":5},{"$f":"VLOOKUP(BD16,List!$B$2:$D$6,3,1)","v":4},{"$f":"VLOOKUP(BE16,List!$B$2:$D$6,3,1)","v":5},{"$f":"VLOOKUP(BF16,List!$B$2:$D$6,3,1)","v":5},{"$f":"VLOOKUP(BG16,List!$B$2:$D$6,3,1)","v":5},{"$f":"VLOOKUP(BH16,List!$B$2:$D$6,3,1)","v":5},110760.13765477057,126253.30656934307,144135.05162984031,169825.36016198431,183824.97477435778,222445.67324263038,256312.04264339153,272093,281658.63582183188,296273.42252851708,320818.35516628588,315316.08279069769,290358,331136.42001787311,341108.24285044486,341939.10675675719,365298.24332344328,{"$f":"VLOOKUP(BZ16,List!$C$2:$D$6,2,1)","v":2},{"$f":"VLOOKUP(CA16,List!$C$2:$D$6,2,1)","v":2},{"$f":"VLOOKUP(CB16,List!$C$2:$D$6,2,1)","v":2},{"$f":"VLOOKUP(CC16,List!$C$2:$D$6,2,1)","v":3},{"$f":"VLOOKUP(CD16,List!$C$2:$D$6,2,1)","v":3},{"$f":"VLOOKUP(CE16,List!$C$2:$D$6,2,1)","v":3},{"$f":"VLOOKUP(CF16,List!$C$2:$D$6,2,1)","v":4},{"$f":"VLOOKUP(CG16,List!$C$2:$D$6,2,1)","v":4},{"$f":"VLOOKUP(CH16,List!$C$2:$D$6,2,1)","v":4},{"$f":"VLOOKUP(CI16,List!$C$2:$D$6,2,1)","v":4},{"$f":"VLOOKUP(CJ16,List!$C$2:$D$6,2,1)","v":4},{"$f":"VLOOKUP(CK16,List!$C$2:$D$6,2,1)","v":4},{"$f":"VLOOKUP(CL16,List!$C$2:$D$6,2,1)","v":4},{"$f":"VLOOKUP(CM16,List!$C$2:$D$6,2,1)","v":4},{"$f":"VLOOKUP(CN16,List!$C$2:$D$6,2,1)","v":4},{"$f":"VLOOKUP(CO16,List!$C$2:$D$6,2,1)","v":4},{"$f":"VLOOKUP(CP16,List!$C$2:$D$6,2,1)","v":4}]
["London","Havering","Havering",13300,21300,10000,20800,3,{"$f":"VLOOKUP(G17,List!$A$2:$D$6,4,1)","v":3},16248.926755895123,16655.149924792502,17071.528672912311,17498.316889735117,17935.774811978496,18384.169182277958,18843.773411834907,19314.867747130775,19797.739440809044,20292.682926829271,20292.682926829271,20800,21319.999999999996,21853,22399.324999999997,22959.308124999996,23533.290828124991,{"$f":"VLOOKUP(J17,List!$A$2:$D$6,4,1)","v":2},{"$f":"VLOOKUP(K17,List!$A$2:$D$6,4,1)","v":2},{"$f":"VLOOKUP(L17,List!$A$2:$D$6,4,1)","v":2},{"$f":"VLOOKUP(M17,List!$A$2:$D$6,4,1)","v":2},{"$f":"VLOOKUP(N17,List!$A$2:$D$6,4,1)","v":2},{"$f":"VLOOKUP(O17,List!$A$2:$D$6,4,1)","v":2},{"$f":"VLOOKUP(P17,List!$A$2:$D$6,4,1)","v":2},{"$f":"VLOOKUP(Q17,List!$A$2:$D$6,4,1)","v":2},{"$f":"VLOOKUP(R17,List!$A$2:$D$6,4,1)","v":2},{"$f":"VLOOKUP(S17,List!$A$2:$D$6,4,1)","v":3},{"$f":"VLOOKUP(T17,List!$A$2:$D$6,4,1)","v":3},{"$f":"VLOOKUP(U17,List!$A$2:$D$6,4,1)","v":3},{"$f":"VLOOKUP(V17,List!$A$2:$D$6,4,1)","v":3},{"$f":"VLOOKUP(W17,List!$A$2:$D$6,4,1)","v":3},{"$f":"VLOOKUP(X17,List!$A$2:$D$6,4,1)","v":4},{"$f":"VLOOKUP(Y17,List!$A$2:$D$6,4,1)","v":4},{"$f":"VLOOKUP(Z17,List!$A$2:$D$6,4,1)","v":4},4.46,4.9800000000000004,5.35,6.2,6.79,8.2799999999999994,9.65,9.6999999999999993,7.89,7.8,8.44,7.81,7.11,7.770531168786281,7.6602368957229032,7.6152141099038584,7.7151731739086875,{"$f":"VLOOKUP(AR17,List!$B$2:$D$6,3,1)","v":1},{"$f":"VLOOKUP(AS17,List!$B$2:$D$6,3,1)","v":2},{"$f":"VLOOKUP(AT17,List!$B$2:$D$6,3,1)","v":2},{"$f":"VLOOKUP(AU17,List!$B$2:$D$6,3,1)","v":3},{"$f":"VLOOKUP(AV17,List!$B$2:$D$6,3,1)","v":3},{"$f":"VLOOKUP(AW17,List!$B$2:$D$6,3,1)","v":4},{"$f":"VLOOKUP(AX17,List!$B$2:$D$6,3,1)","v":5},{"$f":"VLOOKUP(AY17,List!$B$2:$D$6,3,1)","v":5},{"$f":"VLOOKUP(AZ17,List!$B$2:$D$6,3,1)","v":4},{"$f":"VLOOKUP(BA17,List!$B$2:$D$6,3,1)","v":4},{"$f":"VLOOKUP(BB17,List!$B$2:$D$6,3,1)","v":4},{"$f":"VLOOKUP(BC17,List!$B$2:$D$6,3,1)","v":4},{"$f":"VLOOKUP(BD17,List!$B$2:$D$6,3,1)","v":4},{"$f":"VLOOKUP(BE17,List!$B$2:$D$6,3,1)","v":4},{"$f":"VLOOKUP(BF17,List!$B$2:$D$6,3,1)","v":4},{"$f":"VLOOKUP(BG17,List!$B$2:$D$6,3,1)","v":4},{"$f":"VLOOKUP(BH17,List!$B$2:$D$6,3,1)","v":4},84955.716335030083,96390.76266242376,107099.34942216179,123484.26954248366,136129.76210795817,162618.86991534173,193570.69082125605,208784,221017.48322496749,228548.70856102003,246925.70297215952,245063.17898383373,224545,256711.91605029587,249310.25552539778,244847.14069264085,257383.40849147644,{"$f":"VLOOKUP(BZ17,List!$C$2:$D$6,2,1)","v":1},{"$f":"VLOOKUP(CA17,List!$C$2:$D$6,2,1)","v":2},{"$f":"VLOOKUP(CB17,List!$C$2:$D$6,2,1)","v":2},{"$f":"VLOOKUP(CC17,List!$C$2:$D$6,2,1)","v":2},{"$f":"VLOOKUP(CD17,List!$C$2:$D$6,2,1)","v":2},{"$f":"VLOOKUP(CE17,List!$C$2:$D$6,2,1)","v":3},{"$f":"VLOOKUP(CF17,List!$C$2:$D$6,2,1)","v":3},{"$f":"VLOOKUP(CG17,List!$C$2:$D$6,2,1)","v":3},{"$f":"VLOOKUP(CH17,List!$C$2:$D$6,2,1)","v":3},{"$f":"VLOOKUP(CI17,List!$C$2:$D$6,2,1)","v":3},{"$f":"VLOOKUP(CJ17,List!$C$2:$D$6,2,1)","v":3},{"$f":"VLOOKUP(CK17,List!$C$2:$D$6,2,1)","v":3},{"$f":"VLOOKUP(CL17,List!$C$2:$D$6,2,1)","v":3},{"$f":"VLOOKUP(CM17,List!$C$2:$D$6,2,1)","v":4},{"$f":"VLOOKUP(CN17,List!$C$2:$D$6,2,1)","v":3},{"$f":"VLOOKUP(CO17,List!$C$2:$D$6,2,1)","v":3},{"$f":"VLOOKUP(CP17,List!$C$2:$D$6,2,1)","v":4}]
["London","Hillingdon","Hillingdon",11800,21700,10700,21800,3,{"$f":"VLOOKUP(G18,List!$A$2:$D$6,4,1)","v":3},17030.125157620849,17455.878286561372,17892.275243725402,18339.582124818535,18798.071677938999,19268.023469887474,19749.724056634659,20243.467158050524,20749.553837001786,21268.292682926833,21268.292682926833,21800,22344.999999999996,22903.625,23476.215624999997,24063.121015624994,24664.699041015618,{"$f":"VLOOKUP(J18,List!$A$2:$D$6,4,1)","v":2},{"$f":"VLOOKUP(K18,List!$A$2:$D$6,4,1)","v":2},{"$f":"VLOOKUP(L18,List!$A$2:$D$6,4,1)","v":2},{"$f":"VLOOKUP(M18,List!$A$2:$D$6,4,1)","v":2},{"$f":"VLOOKUP(N18,List!$A$2:$D$6,4,1)","v":2},{"$f":"VLOOKUP(O18,List!$A$2:$D$6,4,1)","v":2},{"$f":"VLOOKUP(P18,List!$A$2:$D$6,4,1)","v":2},{"$f":"VLOOKUP(Q18,List!$A$2:$D$6,4,1)","v":3},{"$f":"VLOOKUP(R18,List!$A$2:$D$6,4,1)","v":3},{"$f":"VLOOKUP(S18,List!$A$2:$D$6,4,1)","v":3},{"$f":"VLOOKUP(T18,List!$A$2:$D$6,4,1)","v":3},{"$f":"VLOOKUP(U18,List!$A$2:$D$6,4,1)","v":3},{"$f":"VLOOKUP(V18,List!$A$2:$D$6,4,1)","v":4},{"$f":"VLOOKUP(W18,List!$A$2:$D$6,4,1)","v":4},{"$f":"VLOOKUP(X18,List!$A$2:$D$6,4,1)","v":4},{"$f":"VLOOKUP(Y18,List!$A$2:$D$6,4,1)","v":4},{"$f":"VLOOKUP(Z18,List!$A$2:$D$6,4,1)","v":4},3.54,3.71,4.1500000000000004,4.95,5.33,6.28,7.13,7.27,7.49,8.24,7.95,7.94,6.96,7.569505144413827,7.6755017300203194,7.7944344842706634,7.3750417455193142,{"$f":"VLOOKUP(AR18,List!$B$2:$D$6,3,1)","v":1},{"$f":"VLOOKUP(AS18,List!$B$2:$D$6,3,1)","v":1},{"$f":"VLOOKUP(AT18,List!$B$2:$D$6,3,1)","v":1},{"$f":"VLOOKUP(AU18,List!$B$2:$D$6,3,1)","v":2},{"$f":"VLOOKUP(AV18,List!$B$2:$D$6,3,1)","v":2},{"$f":"VLOOKUP(AW18,List!$B$2:$D$6,3,1)","v":3},{"$f":"VLOOKUP(AX18,List!$B$2:$D$6,3,1)","v":4},{"$f":"VLOOKUP(AY18,List!$B$2:$D$6,3,1)","v":4},{"$f":"VLOOKUP(AZ18,List!$B$2:$D$6,3,1)","v":4},{"$f":"VLOOKUP(BA18,List!$B$2:$D$6,3,1)","v":4},{"$f":"VLOOKUP(BB18,List!$B$2:$D$6,3,1)","v":4},{"$f":"VLOOKUP(BC18,List!$B$2:$D$6,3,1)","v":4},{"$f":"VLOOKUP(BD18,List!$B$2:$D$6,3,1)","v":3},{"$f":"VLOOKUP(BE18,List!$B$2:$D$6,3,1)","v":4},{"$f":"VLOOKUP(BF18,List!$B$2:$D$6,3,1)","v":4},{"$f":"VLOOKUP(BG18,List!$B$2:$D$6,3,1)","v":4},{"$f":"VLOOKUP(BH18,List!$B$2:$D$6,3,1)","v":4},99939.32805645623,108517.08195102686,119880.34522629666,143892.74660457898,157871.08205128205,184264.57693661971,211060.77867467617,224628,234789.89633434507,254012.95995466565,271895.77621722844,268737.54163890739,256124,282419.15629095677,284791.40024257044,293913.69302907202,304081.00602006633,{"$f":"VLOOKUP(BZ18,List!$C$2:$D$6,2,1)","v":2},{"$f":"VLOOKUP(CA18,List!$C$2:$D$6,2,1)","v":2},{"$f":"VLOOKUP(CB18,List!$C$2:$D$6,2,1)","v":2},{"$f":"VLOOKUP(CC18,List!$C$2:$D$6,2,1)","v":2},{"$f":"VLOOKUP(CD18,List!$C$2:$D$6,2,1)","v":3},{"$f":"VLOOKUP(CE18,List!$C$2:$D$6,2,1)","v":3},{"$f":"VLOOKUP(CF18,List!$C$2:$D$6,2,1)","v":3},{"$f":"VLOOKUP(CG18,List!$C$2:$D$6,2,1)","v":3},{"$f":"VLOOKUP(CH18,List!$C$2:$D$6,2,1)","v":3},{"$f":"VLOOKUP(CI18,List!$C$2:$D$6,2,1)","v":4},{"$f":"VLOOKUP(CJ18,List!$C$2:$D$6,2,1)","v":4},{"$f":"VLOOKUP(CK18,List!$C$2:$D$6,2,1)","v":4},{"$f":"VLOOKUP(CL18,List!$C$2:$D$6,2,1)","v":4},{"$f":"VLOOKUP(CM18,List!$C$2:$D$6,2,1)","v":4},{"$f":"VLOOKUP(CN18,List!$C$2:$D$6,2,1)","v":4},{"$f":"VLOOKUP(CO18,List!$C$2:$D$6,2,1)","v":4},{"$f":"VLOOKUP(CP18,List!$C$2:$D$6,2,1)","v":4}]
["London","Hounslow","Hounslow",10400,20700,10100,20400,3,{"$f":"VLOOKUP(G19,List!$A$2:$D$6,4,1)","v":3},15936.447395204832,16334.858580084954,16743.230044587075,17161.810795701749,17590.856065594293,18030.62746723415,18481.393153915003,18943.427982762878,19417.013682331944,19902.439024390245,19902.439024390245,20400,20910,21432.75,21968.568749999999,22517.782968749994,23080.727542968743,{"$f":"VLOOKUP(J19,List!$A$2:$D$6,4,1)","v":1},{"$f":"VLOOKUP(K19,List!$A$2:$D$6,4,1)","v":2},{"$f":"VLOOKUP(L19,List!$A$2:$D$6,4,1)","v":2},{"$f":"VLOOKUP(M19,List!$A$2:$D$6,4,1)","v":2},{"$f":"VLOOKUP(N19,List!$A$2:$D$6,4,1)","v":2},{"$f":"VLOOKUP(O19,List!$A$2:$D$6,4,1)","v":2},{"$f":"VLOOKUP(P19,List!$A$2:$D$6,4,1)","v":2},{"$f":"VLOOKUP(Q19,List!$A$2:$D$6,4,1)","v":2},{"$f":"VLOOKUP(R19,List!$A$2:$D$6,4,1)","v":2},{"$f":"VLOOKUP(S19,List!$A$2:$D$6,4,1)","v":2},{"$f":"VLOOKUP(T19,List!$A$2:$D$6,4,1)","v":2},{"$f":"VLOOKUP(U19,List!$A$2:$D$6,4,1)","v":3},{"$f":"VLOOKUP(V19,List!$A$2:$D$6,4,1)","v":3},{"$f":"VLOOKUP(W19,List!$A$2:$D$6,4,1)","v":3},{"$f":"VLOOKUP(X19,List!$A$2:$D$6,4,1)","v":3},{"$f":"VLOOKUP(Y19,List!$A$2:$D$6,4,1)","v":4},{"$f":"VLOOKUP(Z19,List!$A$2:$D$6,4,1)","v":4},3.8,4.59,5,5.68,5.93,6.51,7.43,7.91,8.0399999999999991,8.7200000000000006,8.67,8.92,7.46,8.0324422184333493,7.7477989609980229,8.2126137769646501,9.0348810945113094,{"$f":"VLOOKUP(AR19,List!$B$2:$D$6,3,1)","v":1},{"$f":"VLOOKUP(AS19,List!$B$2:$D$6,3,1)","v":2},{"$f":"VLOOKUP(AT19,List!$B$2:$D$6,3,1)","v":2},{"$f":"VLOOKUP(AU19,List!$B$2:$D$6,3,1)","v":3},{"$f":"VLOOKUP(AV19,List!$B$2:$D$6,3,1)","v":3},{"$f":"VLOOKUP(AW19,List!$B$2:$D$6,3,1)","v":3},{"$f":"VLOOKUP(AX19,List!$B$2:$D$6,3,1)","v":4},{"$f":"VLOOKUP(AY19,List!$B$2:$D$6,3,1)","v":4},{"$f":"VLOOKUP(AZ19,List!$B$2:$D$6,3,1)","v":4},{"$f":"VLOOKUP(BA19,List!$B$2:$D$6,3,1)","v":4},{"$f":"VLOOKUP(BB19,List!$B$2:$D$6,3,1)","v":4},{"$f":"VLOOKUP(BC19,List!$B$2:$D$6,3,1)","v":4},{"$f":"VLOOKUP(BD19,List!$B$2:$D$6,3,1)","v":4},{"$f":"VLOOKUP(BE19,List!$B$2:$D$6,3,1)","v":4},{"$f":"VLOOKUP(BF19,List!$B$2:$D$6,3,1)","v":4},{"$f":"VLOOKUP(BG19,List!$B$2:$D$6,3,1)","v":4},{"$f":"VLOOKUP(BH19,List!$B$2:$D$6,3,1)","v":5},106463.63551806187,139455.74805682123,147962.76771382711,173449.5673844665,188344.60232350312,214666.15692048802,233789.59059945503,247526,259935.34827885451,289138.23262442445,311968.09140922554,313063.48089591565,314128,342764.45193097781,360928.36507239955,353732.12169770477,402358.71789806359,{"$f":"VLOOKUP(BZ19,List!$C$2:$D$6,2,1)","v":2},{"$f":"VLOOKUP(CA19,List!$C$2:$D$6,2,1)","v":2},{"$f":"VLOOKUP(CB19,List!$C$2:$D$6,2,1)","v":2},{"$f":"VLOOKUP(CC19,List!$C$2:$D$6,2,1)","v":3},{"$f":"VLOOKUP(CD19,List!$C$2:$D$6,2,1)","v":3},{"$f":"VLOOKUP(CE19,List!$C$2:$D$6,2,1)","v":3},{"$f":"VLOOKUP(CF19,List!$C$2:$D$6,2,1)","v":3},{"$f":"VLOOKUP(CG19,List!$C$2:$D$6,2,1)","v":3},{"$f":"VLOOKUP(CH19,List!$C$2:$D$6,2,1)","v":4},{"$f":"VLOOKUP(CI19,List!$C$2:$D$6,2,1)","v":4},{"$f":"VLOOKUP(CJ19,List!$C$2:$D$6,2,1)","v":4},{"$f":"VLOOKUP(CK19,List!$C$2:$D$6,2,1)","v":4},{"$f":"VLOOKUP(CL19,List!$C$2:$D$6,2,1)","v":4},{"$f":"VLOOKUP(CM19,List!$C$2:$D$6,2,1)","v":4},{"$f":"VLOOKUP(CN19,List!$C$2:$D$6,2,1)","v":4},{"$f":"VLOOKUP(CO19,List!$C$2:$D$6,2,1)","v":4},{"$f":"VLOOKUP(CP19,List!$C$2:$D$6,2,1)","v":4}]
["London","Islington","Islington",12200,23400,9140,24400,3,{"$f":"VLOOKUP(G20,List!$A$2:$D$6,4,1)","v":4},19061.241002107741,19537.772027160434,20026.216327839444,20526.871736035428,21040.043529436312,21566.044617672218,22105.195733114022,22657.825626441871,23224.271267102915,23804.878048780491,23804.878048780491,24400,25009.999999999996,25635.249999999996,26276.131249999999,26933.034531249996,27606.360394531242,{"$f":"VLOOKUP(J20,List!$A$2:$D$6,4,1)","v":2},{"$f":"VLOOKUP(K20,List!$A$2:$D$6,4,1)","v":2},{"$f":"VLOOKUP(L20,List!$A$2:$D$6,4,1)","v":3},{"$f":"VLOOKUP(M20,List!$A$2:$D$6,4,1)","v":3},{"$f":"VLOOKUP(N20,List!$A$2:$D$6,4,1)","v":3},{"$f":"VLOOKUP(O20,List!$A$2:$D$6,4,1)","v":3},{"$f":"VLOOKUP(P20,List!$A$2:$D$6,4,1)","v":4},{"$f":"VLOOKUP(Q20,List!$A$2:$D$6,4,1)","v":4},{"$f":"VLOOKUP(R20,List!$A$2:$D$6,4,1)","v":4},{"$f":"VLOOKUP(S20,List!$A$2:$D$6,4,1)","v":4},{"$f":"VLOOKUP(T20,List!$A$2:$D$6,4,1)","v":4},{"$f":"VLOOKUP(U20,List!$A$2:$D$6,4,1)","v":4},{"$f":"VLOOKUP(V20,List!$A$2:$D$6,4,1)","v":5},{"$f":"VLOOKUP(W20,List!$A$2:$D$6,4,1)","v":5},{"$f":"VLOOKUP(X20,List!$A$2:$D$6,4,1)","v":5},{"$f":"VLOOKUP(Y20,List!$A$2:$D$6,4,1)","v":5},{"$f":"VLOOKUP(Z20,List!$A$2:$D$6,4,1)","v":5},5.4,6.22,6.28,7.41,7.67,7.31,7.62,8.4,8.73,8.93,9.92,10.42,9.42,11.029555426982453,11.277248081268565,11.369746431875461,12.364405194527576,{"$f":"VLOOKUP(AR20,List!$B$2:$D$6,3,1)","v":2},{"$f":"VLOOKUP(AS20,List!$B$2:$D$6,3,1)","v":3},{"$f":"VLOOKUP(AT20,List!$B$2:$D$6,3,1)","v":3},{"$f":"VLOOKUP(AU20,List!$B$2:$D$6,3,1)","v":4},{"$f":"VLOOKUP(AV20,List!$B$2:$D$6,3,1)","v":4},{"$f":"VLOOKUP(AW20,List!$B$2:$D$6,3,1)","v":4},{"$f":"VLOOKUP(AX20,List!$B$2:$D$6,3,1)","v":4},{"$f":"VLOOKUP(AY20,List!$B$2:$D$6,3,1)","v":4},{"$f":"VLOOKUP(AZ20,List!$B$2:$D$6,3,1)","v":4},{"$f":"VLOOKUP(BA20,List!$B$2:$D$6,3,1)","v":4},{"$f":"VLOOKUP(BB20,List!$B$2:$D$6,3,1)","v":5},{"$f":"VLOOKUP(BC20,List!$B$2:$D$6,3,1)","v":5},{"$f":"VLOOKUP(BD20,List!$B$2:$D$6,3,1)","v":5},{"$f":"VLOOKUP(BE20,List!$B$2:$D$6,3,1)","v":5},{"$f":"VLOOKUP(BF20,List!$B$2:$D$6,3,1)","v":5},{"$f":"VLOOKUP(BG20,List!$B$2:$D$6,3,1)","v":5},{"$f":"VLOOKUP(BH20,List!$B$2:$D$6,3,1)","v":5},147036.420906568,171982.3642067523,207447.78805590852,249256.65756097561,264663.91957734077,291336.89955423475,295567.02053314121,320530,333864.58758620691,368185.71989730425,438910.367862969,424935.84033613448,415206,479413.97730496456,500848.95573834731,516372.95255212073,579771.49923664192,{"$f":"VLOOKUP(BZ20,List!$C$2:$D$6,2,1)","v":2},{"$f":"VLOOKUP(CA20,List!$C$2:$D$6,2,1)","v":3},{"$f":"VLOOKUP(CB20,List!$C$2:$D$6,2,1)","v":3},{"$f":"VLOOKUP(CC20,List!$C$2:$D$6,2,1)","v":3},{"$f":"VLOOKUP(CD20,List!$C$2:$D$6,2,1)","v":4},{"$f":"VLOOKUP(CE20,List!$C$2:$D$6,2,1)","v":4},{"$f":"VLOOKUP(CF20,List!$C$2:$D$6,2,1)","v":4},{"$f":"VLOOKUP(CG20,List!$C$2:$D$6,2,1)","v":4},{"$f":"VLOOKUP(CH20,List!$C$2:$D$6,2,1)","v":4},{"$f":"VLOOKUP(CI20,List!$C$2:$D$6,2,1)","v":4},{"$f":"VLOOKUP(CJ20,List!$C$2:$D$6,2,1)","v":4},{"$f":"VLOOKUP(CK20,List!$C$2:$D$6,2,1)","v":4},{"$f":"VLOOKUP(CL20,List!$C$2:$D$6,2,1)","v":4},{"$f":"VLOOKUP(CM20,List!$C$2:$D$6,2,1)","v":4},{"$f":"VLOOKUP(CN20,List!$C$2:$D$6,2,1)","v":5},{"$f":"VLOOKUP(CO20,List!$C$2:$D$6,2,1)","v":5},{"$f":"VLOOKUP(CP20,List!$C$2:$D$6,2,1)","v":5}]
["London","Kensington","Kensington & Chelsea",11500,29100,9380,31900,3,{"$f":"VLOOKUP(G21,List!$A$2:$D$6,4,1)","v":5},24920.229015050692,25543.234740426964,26181.815608937632,26836.360999161068,27507.270024140096,28194.951774743597,28899.825569112185,29622.321208339989,30362.879238548485,31121.951219512197,31121.951219512197,31900,32697.499999999996,33514.9375,34352.810937499999,35211.631210937492,36091.921991210926,{"$f":"VLOOKUP(J21,List!$A$2:$D$6,4,1)","v":4},{"$f":"VLOOKUP(K21,List!$A$2:$D$6,4,1)","v":5},{"$f":"VLOOKUP(L21,List!$A$2:$D$6,4,1)","v":5},{"$f":"VLOOKUP(M21,List!$A$2:$D$6,4,1)","v":5},{"$f":"VLOOKUP(N21,List!$A$2:$D$6,4,1)","v":5},{"$f":"VLOOKUP(O21,List!$A$2:$D$6,4,1)","v":5},{"$f":"VLOOKUP(P21,List!$A$2:$D$6,4,1)","v":5},{"$f":"VLOOKUP(Q21,List!$A$2:$D$6,4,1)","v":5},{"$f":"VLOOKUP(R21,List!$A$2:$D$6,4,1)","v":5},{"$f":"VLOOKUP(S21,List!$A$2:$D$6,4,1)","v":5},{"$f":"VLOOKUP(T21,List!$A$2:$D$6,4,1)","v":5},{"$f":"VLOOKUP(U21,List!$A$2:$D$6,4,1)","v":5},{"$f":"VLOOKUP(V21,List!$A$2:$D$6,4,1)","v":5},{"$f":"VLOOKUP(W21,List!$A$2:$D$6,4,1)","v":5},{"$f":"VLOOKUP(X21,List!$A$2:$D$6,4,1)","v":5},{"$f":"VLOOKUP(Y21,List!$A$2:$D$6,4,1)","v":5},{"$f":"VLOOKUP(Z21,List!$A$2:$D$6,4,1)","v":5},11.61,11.88,12.61,14.43,14.78,15.38,14.87,17.25,18.75,20.27,23.26,24.83,22.56,24.944647245961857,27.036276522929501,27.784772613740412,31.274932184458272,{"$f":"VLOOKUP(AR21,List!$B$2:$D$6,3,1)","v":5},{"$f":"VLOOKUP(AS21,List!$B$2:$D$6,3,1)","v":5},{"$f":"VLOOKUP(AT21,List!$B$2:$D$6,3,1)","v":5},{"$f":"VLOOKUP(AU21,List!$B$2:$D$6,3,1)","v":5},{"$f":"VLOOKUP(AV21,List!$B$2:$D$6,3,1)","v":5},{"$f":"VLOOKUP(AW21,List!$B$2:$D$6,3,1)","v":5},{"$f":"VLOOKUP(AX21,List!$B$2:$D$6,3,1)","v":5},{"$f":"VLOOKUP(AY21,List!$B$2:$D$6,3,1)","v":5},{"$f":"VLOOKUP(AZ21,List!$B$2:$D$6,3,1)","v":5},{"$f":"VLOOKUP(BA21,List!$B$2:$D$6,3,1)","v":5},{"$f":"VLOOKUP(BB21,List!$B$2:$D$6,3,1)","v":5},{"$f":"VLOOKUP(BC21,List!$B$2:$D$6,3,1)","v":5},{"$f":"VLOOKUP(BD21,List!$B$2:$D$6,3,1)","v":5},{"$f":"VLOOKUP(BE21,List!$B$2:$D$6,3,1)","v":5},{"$f":"VLOOKUP(BF21,List!$B$2:$D$6,3,1)","v":5},{"$f":"VLOOKUP(BG21,List!$B$2:$D$6,3,1)","v":5},{"$f":"VLOOKUP(BH21,List!$B$2:$D$6,3,1)","v":5},351478.69498289621,384009.54414335662,436877.76880172722,563856.73783726362,580308.8619785459,620434.08506867522,673091.54818415781,715023,756124.58289550501,874844.35890858213,1033469.6434252386,1181803.2842465753,1036158,1246587.7652733119,1287522.7346357347,1527450.3441647578,1657832.4530797866,{"$f":"VLOOKUP(BZ21,List!$C$2:$D$6,2,1)","v":4},{"$f":"VLOOKUP(CA21,List!$C$2:$D$6,2,1)","v":4},{"$f":"VLOOKUP(CB21,List!$C$2:$D$6,2,1)","v":4},{"$f":"VLOOKUP(CC21,List!$C$2:$D$6,2,1)","v":5},{"$f":"VLOOKUP(CD21,List!$C$2:$D$6,2,1)","v":5},{"$f":"VLOOKUP(CE21,List!$C$2:$D$6,2,1)","v":5},{"$f":"VLOOKUP(CF21,List!$C$2:$D$6,2,1)","v":5},{"$f":"VLOOKUP(CG21,List!$C$2:$D$6,2,1)","v":5},{"$f":"VLOOKUP(CH21,List!$C$2:$D$6,2,1)","v":5},{"$f":"VLOOKUP(CI21,List!$C$2:$D$6,2,1)","v":5},{"$f":"VLOOKUP(CJ21,List!$C$2:$D$6,2,1)","v":5},{"$f":"VLOOKUP(CK21,List!$C$2:$D$6,2,1)","v":5},{"$f":"VLOOKUP(CL21,List!$C$2:$D$6,2,1)","v":5},{"$f":"VLOOKUP(CM21,List!$C$2:$D$6,2,1)","v":5},{"$f":"VLOOKUP(CN21,List!$C$2:$D$6,2,1)","v":5},{"$f":"VLOOKUP(CO21,List!$C$2:$D$6,2,1)","v":5},{"$f":"VLOOKUP(CP21,List!$C$2:$D$6,2,1)","v":5}]
["London","Kingston","Kingston upon Thames",11600,25000,11800,25200,3,{"$f":"VLOOKUP(G22,List!$A$2:$D$6,4,1)","v":5},19686.199723488324,20178.35471657553,20682.813584489915,21199.88392410216,21729.881022204714,22273.12804775983,22829.956248953829,23400.705155177671,23985.72278405711,24585.365853658539,24585.365853658539,25200,25829.999999999996,26475.749999999996,27137.643749999996,27816.084843749995,28511.486964843742,{"$f":"VLOOKUP(J22,List!$A$2:$D$6,4,1)","v":2},{"$f":"VLOOKUP(K22,List!$A$2:$D$6,4,1)","v":3},{"$f":"VLOOKUP(L22,List!$A$2:$D$6,4,1)","v":3},{"$f":"VLOOKUP(M22,List!$A$2:$D$6,4,1)","v":3},{"$f":"VLOOKUP(N22,List!$A$2:$D$6,4,1)","v":3},{"$f":"VLOOKUP(O22,List!$A$2:$D$6,4,1)","v":4},{"$f":"VLOOKUP(P22,List!$A$2:$D$6,4,1)","v":4},{"$f":"VLOOKUP(Q22,List!$A$2:$D$6,4,1)","v":4},{"$f":"VLOOKUP(R22,List!$A$2:$D$6,4,1)","v":4},{"$f":"VLOOKUP(S22,List!$A$2:$D$6,4,1)","v":4},{"$f":"VLOOKUP(T22,List!$A$2:$D$6,4,1)","v":4},{"$f":"VLOOKUP(U22,List!$A$2:$D$6,4,1)","v":5},{"$f":"VLOOKUP(V22,List!$A$2:$D$6,4,1)","v":5},{"$f":"VLOOKUP(W22,List!$A$2:$D$6,4,1)","v":5},{"$f":"VLOOKUP(X22,List!$A$2:$D$6,4,1)","v":5},{"$f":"VLOOKUP(Y22,List!$A$2:$D$6,4,1)","v":5},{"$f":"VLOOKUP(Z22,List!$A$2:$D$6,4,1)","v":5},4.83,5.35,6.21,7.14,7.62,8.5399999999999991,8.8800000000000008,9.61,10.01,9.42,10.72,11.11,9.26,10.487222918619532,10.457492427464485,10.833581706923157,11.326368461980593,{"$f":"VLOOKUP(AR22,List!$B$2:$D$6,3,1)","v":2},{"$f":"VLOOKUP(AS22,List!$B$2:$D$6,3,1)","v":2},{"$f":"VLOOKUP(AT22,List!$B$2:$D$6,3,1)","v":3},{"$f":"VLOOKUP(AU22,List!$B$2:$D$6,3,1)","v":4},{"$f":"VLOOKUP(AV22,List!$B$2:$D$6,3,1)","v":4},{"$f":"VLOOKUP(AW22,List!$B$2:$D$6,3,1)","v":4},{"$f":"VLOOKUP(AX22,List!$B$2:$D$6,3,1)","v":4},{"$f":"VLOOKUP(AY22,List!$B$2:$D$6,3,1)","v":5},{"$f":"VLOOKUP(AZ22,List!$B$2:$D$6,3,1)","v":5},{"$f":"VLOOKUP(BA22,List!$B$2:$D$6,3,1)","v":5},{"$f":"VLOOKUP(BB22,List!$B$2:$D$6,3,1)","v":5},{"$f":"VLOOKUP(BC22,List!$B$2:$D$6,3,1)","v":5},{"$f":"VLOOKUP(BD22,List!$B$2:$D$6,3,1)","v":5},{"$f":"VLOOKUP(BE22,List!$B$2:$D$6,3,1)","v":5},{"$f":"VLOOKUP(BF22,List!$B$2:$D$6,3,1)","v":5},{"$f":"VLOOKUP(BG22,List!$B$2:$D$6,3,1)","v":5},{"$f":"VLOOKUP(BH22,List!$B$2:$D$6,3,1)","v":5},116115.10376687988,134740.06867305061,152553.76469177261,188018.5925719073,202056.70541846857,231889.73679245284,244857.97795591183,267725,277480.24035702902,308785.97663213685,348152.14370638406,354246.6627148785,327609,375132.80025940336,364110.27713004523,385351.31026980007,415633.92862838943,{"$f":"VLOOKUP(BZ22,List!$C$2:$D$6,2,1)","v":2},{"$f":"VLOOKUP(CA22,List!$C$2:$D$6,2,1)","v":2},{"$f":"VLOOKUP(CB22,List!$C$2:$D$6,2,1)","v":3},{"$f":"VLOOKUP(CC22,List!$C$2:$D$6,2,1)","v":3},{"$f":"VLOOKUP(CD22,List!$C$2:$D$6,2,1)","v":3},{"$f":"VLOOKUP(CE22,List!$C$2:$D$6,2,1)","v":3},{"$f":"VLOOKUP(CF22,List!$C$2:$D$6,2,1)","v":3},{"$f":"VLOOKUP(CG22,List!$C$2:$D$6,2,1)","v":4},{"$f":"VLOOKUP(CH22,List!$C$2:$D$6,2,1)","v":4},{"$f":"VLOOKUP(CI22,List!$C$2:$D$6,2,1)","v":4},{"$f":"VLOOKUP(CJ22,List!$C$2:$D$6,2,1)","v":4},{"$f":"VLOOKUP(CK22,List!$C$2:$D$6,2,1)","v":4},{"$f":"VLOOKUP(CL22,List!$C$2:$D$6,2,1)","v":4},{"$f":"VLOOKUP(CM22,List!$C$2:$D$6,2,1)","v":4},{"$f":"VLOOKUP(CN22,List!$C$2:$D$6,2,1)","v":4},{"$f":"VLOOKUP(CO22,List!$C$2:$D$6,2,1)","v":4},{"$f":"VLOOKUP(CP22,List!$C$2:$D$6,2,1)","v":4}]
["London","Lambeth","Lambeth",10800,22600,9340,22200,3,{"$f":"VLOOKUP(G23,List!$A$2:$D$6,4,1)","v":4},17342.604518311142,17776.16963126892,18220.573872050642,18676.088218851903,19142.990424323201,19621.565184931282,20112.104314554563,20614.906922418424,21130.279595478882,21658.536585365855,21658.536585365855,22200,22754.999999999996,23323.875,23906.971874999996,24504.646171874996,25117.262326171869,{"$f":"VLOOKUP(J23,List!$A$2:$D$6,4,1)","v":2},{"$f":"VLOOKUP(K23,List!$A$2:$D$6,4,1)","v":2},{"$f":"VLOOKUP(L23,List!$A$2:$D$6,4,1)","v":2},{"$f":"VLOOKUP(M23,List!$A$2:$D$6,4,1)","v":2},{"$f":"VLOOKUP(N23,List!$A$2:$D$6,4,1)","v":2},{"$f":"VLOOKUP(O23,List!$A$2:$D$6,4,1)","v":2},{"$f":"VLOOKUP(P23,List!$A$2:$D$6,4,1)","v":3},{"$f":"VLOOKUP(Q23,List!$A$2:$D$6,4,1)","v":3},{"$f":"VLOOKUP(R23,List!$A$2:$D$6,4,1)","v":3},{"$f":"VLOOKUP(S23,List!$A$2:$D$6,4,1)","v":3},{"$f":"VLOOKUP(T23,List!$A$2:$D$6,4,1)","v":3},{"$f":"VLOOKUP(U23,List!$A$2:$D$6,4,1)","v":4},{"$f":"VLOOKUP(V23,List!$A$2:$D$6,4,1)","v":4},{"$f":"VLOOKUP(W23,List!$A$2:$D$6,4,1)","v":4},{"$f":"VLOOKUP(X23,List!$A$2:$D$6,4,1)","v":4},{"$f":"VLOOKUP(Y23,List!$A$2:$D$6,4,1)","v":4},{"$f":"VLOOKUP(Z23,List!$A$2:$D$6,4,1)","v":5},3.88,4.2300000000000004,4.62,6.34,6.9,7.27,7.65,7.89,7.95,8.19,9.1199999999999992,9.07,7.48,8.8930802910756626,8.7912639953783067,9.0718219698834321,9.7207742808035835,{"$f":"VLOOKUP(AR23,List!$B$2:$D$6,3,1)","v":1},{"$f":"VLOOKUP(AS23,List!$B$2:$D$6,3,1)","v":1},{"$f":"VLOOKUP(AT23,List!$B$2:$D$6,3,1)","v":2},{"$f":"VLOOKUP(AU23,List!$B$2:$D$6,3,1)","v":3},{"$f":"VLOOKUP(AV23,List!$B$2:$D$6,3,1)","v":3},{"$f":"VLOOKUP(AW23,List!$B$2:$D$6,3,1)","v":4},{"$f":"VLOOKUP(AX23,List!$B$2:$D$6,3,1)","v":4},{"$f":"VLOOKUP(AY23,List!$B$2:$D$6,3,1)","v":4},{"$f":"VLOOKUP(AZ23,List!$B$2:$D$6,3,1)","v":4},{"$f":"VLOOKUP(BA23,List!$B$2:$D$6,3,1)","v":4},{"$f":"VLOOKUP(BB23,List!$B$2:$D$6,3,1)","v":5},{"$f":"VLOOKUP(BC23,List!$B$2:$D$6,3,1)","v":5},{"$f":"VLOOKUP(BD23,List!$B$2:$D$6,3,1)","v":4},{"$f":"VLOOKUP(BE23,List!$B$2:$D$6,3,1)","v":4},{"$f":"VLOOKUP(BF23,List!$B$2:$D$6,3,1)","v":4},{"$f":"VLOOKUP(BG23,List!$B$2:$D$6,3,1)","v":5},{"$f":"VLOOKUP(BH23,List!$B$2:$D$6,3,1)","v":5},108035.27969973891,128898.22381610784,149405.42401143402,182180.46547100236,209772.73956396824,232381.34723116548,238451.17680936839,253938,269593.10139442229,293606.93052930059,341898.58068181819,342238.67320040555,337009,367939.97038527892,377007.65837988729,397360.54195713933,426279.1353896865,{"$f":"VLOOKUP(BZ23,List!$C$2:$D$6,2,1)","v":2},{"$f":"VLOOKUP(CA23,List!$C$2:$D$6,2,1)","v":2},{"$f":"VLOOKUP(CB23,List!$C$2:$D$6,2,1)","v":2},{"$f":"VLOOKUP(CC23,List!$C$2:$D$6,2,1)","v":3},{"$f":"VLOOKUP(CD23,List!$C$2:$D$6,2,1)","v":3},{"$f":"VLOOKUP(CE23,List!$C$2:$D$6,2,1)","v":3},{"$f":"VLOOKUP(CF23,List!$C$2:$D$6,2,1)","v":3},{"$f":"VLOOKUP(CG23,List!$C$2:$D$6,2,1)","v":4},{"$f":"VLOOKUP(CH23,List!$C$2:$D$6,2,1)","v":4},{"$f":"VLOOKUP(CI23,List!$C$2:$D$6,2,1)","v":4},{"$f":"VLOOKUP(CJ23,List!$C$2:$D$6,2,1)","v":4},{"$f":"VLOOKUP(CK23,List!$C$2:$D$6,2,1)","v":4},{"$f":"VLOOKUP(CL23,List!$C$2:$D$6,2,1)","v":4},{"$f":"VLOOKUP(CM23,List!$C$2:$D$6,2,1)","v":4},{"$f":"VLOOKUP(CN23,List!$C$2:$D$6,2,1)","v":4},{"$f":"VLOOKUP(CO23,List!$C$2:$D$6,2,1)","v":4},{"$f":"VLOOKUP(CP23,List!$C$2:$D$6,2,1)","v":4}]
["London","Lewisham","Lewisham",10900,21000,9720,21000,3,{"$f":"VLOOKUP(G24,List!$A$2:$D$6,4,1)","v":3},16405.16643624027,16815.295597146276,17235.677987074931,17666.569936751803,18108.234185170597,18560.940039799858,19024.963540794855,19500.587629314727,19988.10232004759,20487.804878048781,20487.804878048781,21000,21524.999999999996,22063.125,22614.703124999996,23180.070703124995,23759.572470703119,{"$f":"VLOOKUP(J24,List!$A$2:$D$6,4,1)","v":2},{"$f":"VLOOKUP(K24,List!$A$2:$D$6,4,1)","v":2},{"$f":"VLOOKUP(L24,List!$A$2:$D$6,4,1)","v":2},{"$f":"VLOOKUP(M24,List!$A$2:$D$6,4,1)","v":2},{"$f":"VLOOKUP(N24,List!$A$2:$D$6,4,1)","v":2},{"$f":"VLOOKUP(O24,List!$A$2:$D$6,4,1)","v":2},{"$f":"VLOOKUP(P24,List!$A$2:$D$6,4,1)","v":2},{"$f":"VLOOKUP(Q24,List!$A$2:$D$6,4,1)","v":2},{"$f":"VLOOKUP(R24,List!$A$2:$D$6,4,1)","v":2},{"$f":"VLOOKUP(S24,List!$A$2:$D$6,4,1)","v":3},{"$f":"VLOOKUP(T24,List!$A$2:$D$6,4,1)","v":3},{"$f":"VLOOKUP(U24,List!$A$2:$D$6,4,1)","v":3},{"$f":"VLOOKUP(V24,List!$A$2:$D$6,4,1)","v":3},{"$f":"VLOOKUP(W24,List!$A$2:$D$6,4,1)","v":4},{"$f":"VLOOKUP(X24,List!$A$2:$D$6,4,1)","v":4},{"$f":"VLOOKUP(Y24,List!$A$2:$D$6,4,1)","v":4},{"$f":"VLOOKUP(Z24,List!$A$2:$D$6,4,1)","v":4},3.27,3.51,3.62,4.38,5.21,6.16,6.55,6.84,6.65,6.98,7.91,7.82,6.92,7.9055020973008707,8.0393919243145024,8.2563989800097648,8.4654001378088388,{"$f":"VLOOKUP(AR24,List!$B$2:$D$6,3,1)","v":1},{"$f":"VLOOKUP(AS24,List!$B$2:$D$6,3,1)","v":1},{"$f":"VLOOKUP(AT24,List!$B$2:$D$6,3,1)","v":1},{"$f":"VLOOKUP(AU24,List!$B$2:$D$6,3,1)","v":1},{"$f":"VLOOKUP(AV24,List!$B$2:$D$6,3,1)","v":2},{"$f":"VLOOKUP(AW24,List!$B$2:$D$6,3,1)","v":3},{"$f":"VLOOKUP(AX24,List!$B$2:$D$6,3,1)","v":3},{"$f":"VLOOKUP(AY24,List!$B$2:$D$6,3,1)","v":3},{"$f":"VLOOKUP(AZ24,List!$B$2:$D$6,3,1)","v":3},{"$f":"VLOOKUP(BA24,List!$B$2:$D$6,3,1)","v":3},{"$f":"VLOOKUP(BB24,List!$B$2:$D$6,3,1)","v":4},{"$f":"VLOOKUP(BC24,List!$B$2:$D$6,3,1)","v":4},{"$f":"VLOOKUP(BD24,List!$B$2:$D$6,3,1)","v":3},{"$f":"VLOOKUP(BE24,List!$B$2:$D$6,3,1)","v":4},{"$f":"VLOOKUP(BF24,List!$B$2:$D$6,3,1)","v":4},{"$f":"VLOOKUP(BG24,List!$B$2:$D$6,3,1)","v":4},{"$f":"VLOOKUP(BH24,List!$B$2:$D$6,3,1)","v":4},73010.751093363753,83156.030060511417,95817.51283806916,119208.94499909239,134781.6560396741,161257.48431885004,184707.06712151945,198756,204568.87903398162,223491.07452879127,248614.90795684422,250685.27751937986,239766,264249.70556552964,266486.02138100209,281416.28425610973,304599.22823721374,{"$f":"VLOOKUP(BZ24,List!$C$2:$D$6,2,1)","v":1},{"$f":"VLOOKUP(CA24,List!$C$2:$D$6,2,1)","v":1},{"$f":"VLOOKUP(CB24,List!$C$2:$D$6,2,1)","v":2},{"$f":"VLOOKUP(CC24,List!$C$2:$D$6,2,1)","v":2},{"$f":"VLOOKUP(CD24,List!$C$2:$D$6,2,1)","v":2},{"$f":"VLOOKUP(CE24,List!$C$2:$D$6,2,1)","v":3},{"$f":"VLOOKUP(CF24,List!$C$2:$D$6,2,1)","v":3},{"$f":"VLOOKUP(CG24,List!$C$2:$D$6,2,1)","v":3},{"$f":"VLOOKUP(CH24,List!$C$2:$D$6,2,1)","v":3},{"$f":"VLOOKUP(CI24,List!$C$2:$D$6,2,1)","v":3},{"$f":"VLOOKUP(CJ24,List!$C$2:$D$6,2,1)","v":3},{"$f":"VLOOKUP(CK24,List!$C$2:$D$6,2,1)","v":4},{"$f":"VLOOKUP(CL24,List!$C$2:$D$6,2,1)","v":3},{"$f":"VLOOKUP(CM24,List!$C$2:$D$6,2,1)","v":4},{"$f":"VLOOKUP(CN24,List!$C$2:$D$6,2,1)","v":4},{"$f":"VLOOKUP(CO24,List!$C$2:$D$6,2,1)","v":4},{"$f":"VLOOKUP(CP24,List!$C$2:$D$6,2,1)","v":4}]
["London","Merton","Merton",11400,22500,11400,22300,3,{"$f":"VLOOKUP(G25,List!$A$2:$D$6,4,1)","v":4},17420.724358483712,17856.242467445809,18302.648529131948,18760.214742360247,19229.220110919254,19709.950613692232,20202.699379034537,20707.766863510398,21225.461035098157,21756.097560975613,21756.097560975613,22300,22857.499999999996,23428.9375,24014.660937499997,24615.027460937494,25230.403147460929,{"$f":"VLOOKUP(J25,List!$A$2:$D$6,4,1)","v":2},{"$f":"VLOOKUP(K25,List!$A$2:$D$6,4,1)","v":2},{"$f":"VLOOKUP(L25,List!$A$2:$D$6,4,1)","v":2},{"$f":"VLOOKUP(M25,List!$A$2:$D$6,4,1)","v":2},{"$f":"VLOOKUP(N25,List!$A$2:$D$6,4,1)","v":2},{"$f":"VLOOKUP(O25,List!$A$2:$D$6,4,1)","v":2},{"$f":"VLOOKUP(P25,List!$A$2:$D$6,4,1)","v":3},{"$f":"VLOOKUP(Q25,List!$A$2:$D$6,4,1)","v":3},{"$f":"VLOOKUP(R25,List!$A$2:$D$6,4,1)","v":3},{"$f":"VLOOKUP(S25,List!$A$2:$D$6,4,1)","v":3},{"$f":"VLOOKUP(T25,List!$A$2:$D$6,4,1)","v":3},{"$f":"VLOOKUP(U25,List!$A$2:$D$6,4,1)","v":4},{"$f":"VLOOKUP(V25,List!$A$2:$D$6,4,1)","v":4},{"$f":"VLOOKUP(W25,List!$A$2:$D$6,4,1)","v":4},{"$f":"VLOOKUP(X25,List!$A$2:$D$6,4,1)","v":4},{"$f":"VLOOKUP(Y25,List!$A$2:$D$6,4,1)","v":4},{"$f":"VLOOKUP(Z25,List!$A$2:$D$6,4,1)","v":5},4.71,5.23,6.12,7.25,7.37,8.4700000000000006,9.08,9.51,9.08,9.89,9.8000000000000007,11.43,9.11,10.122335656650375,10.105814581504555,9.8814267153730988,11.251266641042664,{"$f":"VLOOKUP(AR25,List!$B$2:$D$6,3,1)","v":2},{"$f":"VLOOKUP(AS25,List!$B$2:$D$6,3,1)","v":2},{"$f":"VLOOKUP(AT25,List!$B$2:$D$6,3,1)","v":3},{"$f":"VLOOKUP(AU25,List!$B$2:$D$6,3,1)","v":4},{"$f":"VLOOKUP(AV25,List!$B$2:$D$6,3,1)","v":4},{"$f":"VLOOKUP(AW25,List!$B$2:$D$6,3,1)","v":4},{"$f":"VLOOKUP(AX25,List!$B$2:$D$6,3,1)","v":5},{"$f":"VLOOKUP(AY25,List!$B$2:$D$6,3,1)","v":5},{"$f":"VLOOKUP(AZ25,List!$B$2:$D$6,3,1)","v":5},{"$f":"VLOOKUP(BA25,List!$B$2:$D$6,3,1)","v":5},{"$f":"VLOOKUP(BB25,List!$B$2:$D$6,3,1)","v":5},{"$f":"VLOOKUP(BC25,List!$B$2:$D$6,3,1)","v":5},{"$f":"VLOOKUP(BD25,List!$B$2:$D$6,3,1)","v":5},{"$f":"VLOOKUP(BE25,List!$B$2:$D$6,3,1)","v":5},{"$f":"VLOOKUP(BF25,List!$B$2:$D$6,3,1)","v":5},{"$f":"VLOOKUP(BG25,List!$B$2:$D$6,3,1)","v":5},{"$f":"VLOOKUP(BH25,List!$B$2:$D$6,3,1)","v":5},115894.16310845432,139046.04200542005,163480.38139801376,187268.05820359281,204522.30515728655,236253.42186854072,248421.45050505051,281382,287335.93338793342,302981.30055342696,372801.54674476234,370452.87196765497,365097,431130.43735130847,432339.08709055861,421344.99264435557,483628.38711887598,{"$f":"VLOOKUP(BZ25,List!$C$2:$D$6,2,1)","v":2},{"$f":"VLOOKUP(CA25,List!$C$2:$D$6,2,1)","v":2},{"$f":"VLOOKUP(CB25,List!$C$2:$D$6,2,1)","v":3},{"$f":"VLOOKUP(CC25,List!$C$2:$D$6,2,1)","v":3},{"$f":"VLOOKUP(CD25,List!$C$2:$D$6,2,1)","v":3},{"$f":"VLOOKUP(CE25,List!$C$2:$D$6,2,1)","v":3},{"$f":"VLOOKUP(CF25,List!$C$2:$D$6,2,1)","v":3},{"$f":"VLOOKUP(CG25,List!$C$2:$D$6,2,1)","v":4},{"$f":"VLOOKUP(CH25,List!$C$2:$D$6,2,1)","v":4},{"$f":"VLOOKUP(CI25,List!$C$2:$D$6,2,1)","v":4},{"$f":"VLOOKUP(CJ25,List!$C$2:$D$6,2,1)","v":4},{"$f":"VLOOKUP(CK25,List!$C$2:$D$6,2,1)","v":4},{"$f":"VLOOKUP(CL25,List!$C$2:$D$6,2,1)","v":4},{"$f":"VLOOKUP(CM25,List!$C$2:$D$6,2,1)","v":4},{"$f":"VLOOKUP(CN25,List!$C$2:$D$6,2,1)","v":4},{"$f":"VLOOKUP(CO25,List!$C$2:$D$6,2,1)","v":4},{"$f":"VLOOKUP(CP25,List!$C$2:$D$6,2,1)","v":5}]
["London","Newham","Newham",10000,17500,9300,16500,3,{"$f":"VLOOKUP(G26,List!$A$2:$D$6,4,1)","v":2},12889.773628474497,13212.01796918636,13542.318418416016,13880.876378876415,14227.898288348326,14583.595745557033,14948.185639195959,15321.890280175856,15704.937537180251,16097.560975609758,16097.560975609758,16500,16912.5,17335.3125,17768.695312499996,18212.912695312498,18668.235512695308,{"$f":"VLOOKUP(J26,List!$A$2:$D$6,4,1)","v":1},{"$f":"VLOOKUP(K26,List!$A$2:$D$6,4,1)","v":1},{"$f":"VLOOKUP(L26,List!$A$2:$D$6,4,1)","v":1},{"$f":"VLOOKUP(M26,List!$A$2:$D$6,4,1)","v":1},{"$f":"VLOOKUP(N26,List!$A$2:$D$6,4,1)","v":1},{"$f":"VLOOKUP(O26,List!$A$2:$D$6,4,1)","v":1},{"$f":"VLOOKUP(P26,List!$A$2:$D$6,4,1)","v":1},{"$f":"VLOOKUP(Q26,List!$A$2:$D$6,4,1)","v":1},{"$f":"VLOOKUP(R26,List!$A$2:$D$6,4,1)","v":1},{"$f":"VLOOKUP(S26,List!$A$2:$D$6,4,1)","v":2},{"$f":"VLOOKUP(T26,List!$A$2:$D$6,4,1)","v":2},{"$f":"VLOOKUP(U26,List!$A$2:$D$6,4,1)","v":2},{"$f":"VLOOKUP(V26,List!$A$2:$D$6,4,1)","v":2},{"$f":"VLOOKUP(W26,List!$A$2:$D$6,4,1)","v":2},{"$f":"VLOOKUP(X26,List!$A$2:$D$6,4,1)","v":2},{"$f":"VLOOKUP(Y26,List!$A$2:$D$6,4,1)","v":2},{"$f":"VLOOKUP(Z26,List!$A$2:$D$6,4,1)","v":2},2.78,3.2,3.64,4.3099999999999996,4.8499999999999996,5.87,7.23,7.05,7.48,7.68,8.26,9.07,6.51,7.0683825853871518,7.2307716107920239,7.3026941545350823,7.8239276116610537,{"$f":"VLOOKUP(AR26,List!$B$2:$D$6,3,1)","v":1},{"$f":"VLOOKUP(AS26,List!$B$2:$D$6,3,1)","v":1},{"$f":"VLOOKUP(AT26,List!$B$2:$D$6,3,1)","v":1},{"$f":"VLOOKUP(AU26,List!$B$2:$D$6,3,1)","v":1},{"$f":"VLOOKUP(AV26,List!$B$2:$D$6,3,1)","v":2},{"$f":"VLOOKUP(AW26,List!$B$2:$D$6,3,1)","v":3},{"$f":"VLOOKUP(AX26,List!$B$2:$D$6,3,1)","v":4},{"$f":"VLOOKUP(AY26,List!$B$2:$D$6,3,1)","v":4},{"$f":"VLOOKUP(AZ26,List!$B$2:$D$6,3,1)","v":4},{"$f":"VLOOKUP(BA26,List!$B$2:$D$6,3,1)","v":4},{"$f":"VLOOKUP(BB26,List!$B$2:$D$6,3,1)","v":4},{"$f":"VLOOKUP(BC26,List!$B$2:$D$6,3,1)","v":5},{"$f":"VLOOKUP(BD26,List!$B$2:$D$6,3,1)","v":3},{"$f":"VLOOKUP(BE26,List!$B$2:$D$6,3,1)","v":4},{"$f":"VLOOKUP(BF26,List!$B$2:$D$6,3,1)","v":4},{"$f":"VLOOKUP(BG26,List!$B$2:$D$6,3,1)","v":4},{"$f":"VLOOKUP(BH26,List!$B$2:$D$6,3,1)","v":4},57440.528248587572,65254.335859203129,75300.026900844823,96984.604268292678,115228.76019009322,145092.81931112366,176892.60219478738,191125,202129.22060838586,211595.91077150605,232093.66552650867,242350.51650038373,202795,220142.82363420428,214575.06461731519,219358.18225134007,231727.65940977234,{"$f":"VLOOKUP(BZ26,List!$C$2:$D$6,2,1)","v":1},{"$f":"VLOOKUP(CA26,List!$C$2:$D$6,2,1)","v":1},{"$f":"VLOOKUP(CB26,List!$C$2:$D$6,2,1)","v":1},{"$f":"VLOOKUP(CC26,List!$C$2:$D$6,2,1)","v":2},{"$f":"VLOOKUP(CD26,List!$C$2:$D$6,2,1)","v":2},{"$f":"VLOOKUP(CE26,List!$C$2:$D$6,2,1)","v":2},{"$f":"VLOOKUP(CF26,List!$C$2:$D$6,2,1)","v":3},{"$f":"VLOOKUP(CG26,List!$C$2:$D$6,2,1)","v":3},{"$f":"VLOOKUP(CH26,List!$C$2:$D$6,2,1)","v":3},{"$f":"VLOOKUP(CI26,List!$C$2:$D$6,2,1)","v":3},{"$f":"VLOOKUP(CJ26,List!$C$2:$D$6,2,1)","v":3},{"$f":"VLOOKUP(CK26,List!$C$2:$D$6,2,1)","v":3},{"$f":"VLOOKUP(CL26,List!$C$2:$D$6,2,1)","v":3},{"$f":"VLOOKUP(CM26,List!$C$2:$D$6,2,1)","v":3},{"$f":"VLOOKUP(CN26,List!$C$2:$D$6,2,1)","v":3},{"$f":"VLOOKUP(CO26,List!$C$2:$D$6,2,1)","v":3},{"$f":"VLOOKUP(CP26,List!$C$2:$D$6,2,1)","v":3}]
["London","Redbridge","Redbridge",11000,22500,10100,21600,3,{"$f":"VLOOKUP(G27,List!$A$2:$D$6,4,1)","v":3},16873.885477275704,17295.732614207598,17728.125929562786,18171.329077801853,18625.612304746901,19091.25261236557,19568.533927674711,20057.747275866575,20559.190957763236,21073.17073170732,21073.17073170732,21600,22139.999999999996,22693.5,23260.837499999998,23842.358437499995,24438.417398437494,{"$f":"VLOOKUP(J27,List!$A$2:$D$6,4,1)","v":2},{"$f":"VLOOKUP(K27,List!$A$2:$D$6,4,1)","v":2},{"$f":"VLOOKUP(L27,List!$A$2:$D$6,4,1)","v":2},{"$f":"VLOOKUP(M27,List!$A$2:$D$6,4,1)","v":2},{"$f":"VLOOKUP(N27,List!$A$2:$D$6,4,1)","v":2},{"$f":"VLOOKUP(O27,List!$A$2:$D$6,4,1)","v":2},{"$f":"VLOOKUP(P27,List!$A$2:$D$6,4,1)","v":2},{"$f":"VLOOKUP(Q27,List!$A$2:$D$6,4,1)","v":3},{"$f":"VLOOKUP(R27,List!$A$2:$D$6,4,1)","v":3},{"$f":"VLOOKUP(S27,List!$A$2:$D$6,4,1)","v":3},{"$f":"VLOOKUP(T27,List!$A$2:$D$6,4,1)","v":3},{"$f":"VLOOKUP(U27,List!$A$2:$D$6,4,1)","v":3},{"$f":"VLOOKUP(V27,List!$A$2:$D$6,4,1)","v":4},{"$f":"VLOOKUP(W27,List!$A$2:$D$6,4,1)","v":4},{"$f":"VLOOKUP(X27,List!$A$2:$D$6,4,1)","v":4},{"$f":"VLOOKUP(Y27,List!$A$2:$D$6,4,1)","v":4},{"$f":"VLOOKUP(Z27,List!$A$2:$D$6,4,1)","v":4},4.07,4.5999999999999996,4.8099999999999996,5.47,6.17,6.78,7.89,9.4700000000000006,8.43,8.91,8.7100000000000009,8.8699999999999992,7.19,8.1164448956801305,8.2778833404996153,8.6437648881132567,8.8381809416680053,{"$f":"VLOOKUP(AR27,List!$B$2:$D$6,3,1)","v":1},{"$f":"VLOOKUP(AS27,List!$B$2:$D$6,3,1)","v":2},{"$f":"VLOOKUP(AT27,List!$B$2:$D$6,3,1)","v":2},{"$f":"VLOOKUP(AU27,List!$B$2:$D$6,3,1)","v":2},{"$f":"VLOOKUP(AV27,List!$B$2:$D$6,3,1)","v":3},{"$f":"VLOOKUP(AW27,List!$B$2:$D$6,3,1)","v":3},{"$f":"VLOOKUP(AX27,List!$B$2:$D$6,3,1)","v":4},{"$f":"VLOOKUP(AY27,List!$B$2:$D$6,3,1)","v":5},{"$f":"VLOOKUP(AZ27,List!$B$2:$D$6,3,1)","v":4},{"$f":"VLOOKUP(BA27,List!$B$2:$D$6,3,1)","v":4},{"$f":"VLOOKUP(BB27,List!$B$2:$D$6,3,1)","v":4},{"$f":"VLOOKUP(BC27,List!$B$2:$D$6,3,1)","v":4},{"$f":"VLOOKUP(BD27,List!$B$2:$D$6,3,1)","v":4},{"$f":"VLOOKUP(BE27,List!$B$2:$D$6,3,1)","v":4},{"$f":"VLOOKUP(BF27,List!$B$2:$D$6,3,1)","v":4},{"$f":"VLOOKUP(BG27,List!$B$2:$D$6,3,1)","v":4},{"$f":"VLOOKUP(BH27,List!$B$2:$D$6,3,1)","v":4},86707.091484464909,95357.97372742201,110098.64213513034,132104.82258710451,154308.84147627416,185992.39717708845,212035.79167444466,233862,240512.8340258541,258891.61356179367,282665.8146035368,281859.8057335582,256857,286010.80135363789,294618.80720506702,303358.49248273025,315876.22780506167,{"$f":"VLOOKUP(BZ27,List!$C$2:$D$6,2,1)","v":1},{"$f":"VLOOKUP(CA27,List!$C$2:$D$6,2,1)","v":2},{"$f":"VLOOKUP(CB27,List!$C$2:$D$6,2,1)","v":2},{"$f":"VLOOKUP(CC27,List!$C$2:$D$6,2,1)","v":2},{"$f":"VLOOKUP(CD27,List!$C$2:$D$6,2,1)","v":3},{"$f":"VLOOKUP(CE27,List!$C$2:$D$6,2,1)","v":3},{"$f":"VLOOKUP(CF27,List!$C$2:$D$6,2,1)","v":3},{"$f":"VLOOKUP(CG27,List!$C$2:$D$6,2,1)","v":3},{"$f":"VLOOKUP(CH27,List!$C$2:$D$6,2,1)","v":3},{"$f":"VLOOKUP(CI27,List!$C$2:$D$6,2,1)","v":4},{"$f":"VLOOKUP(CJ27,List!$C$2:$D$6,2,1)","v":4},{"$f":"VLOOKUP(CK27,List!$C$2:$D$6,2,1)","v":4},{"$f":"VLOOKUP(CL27,List!$C$2:$D$6,2,1)","v":4},{"$f":"VLOOKUP(CM27,List!$C$2:$D$6,2,1)","v":4},{"$f":"VLOOKUP(CN27,List!$C$2:$D$6,2,1)","v":4},{"$f":"VLOOKUP(CO27,List!$C$2:$D$6,2,1)","v":4},{"$f":"VLOOKUP(CP27,List!$C$2:$D$6,2,1)","v":4}]
["London","Richmond","Richmond upon Thames",12100,28400,11900,29100,3,{"$f":"VLOOKUP(G28,List!$A$2:$D$6,4,1)","v":5},22732.873490218659,23301.195327474124,23883.725210660974,24480.818340927497,25092.838799450685,25720.159769436948,26363.163763672874,27022.24285776469,27697.798929208806,28390.243902439026,28390.243902439026,29100,29827.499999999996,30573.187499999996,31337.517187499998,32120.955117187492,32923.978995117177,{"$f":"VLOOKUP(J28,List!$A$2:$D$6,4,1)","v":4},{"$f":"VLOOKUP(K28,List!$A$2:$D$6,4,1)","v":4},{"$f":"VLOOKUP(L28,List!$A$2:$D$6,4,1)","v":4},{"$f":"VLOOKUP(M28,List!$A$2:$D$6,4,1)","v":4},{"$f":"VLOOKUP(N28,List!$A$2:$D$6,4,1)","v":5},{"$f":"VLOOKUP(O28,List!$A$2:$D$6,4,1)","v":5},{"$f":"VLOOKUP(P28,List!$A$2:$D$6,4,1)","v":5},{"$f":"VLOOKUP(Q28,List!$A$2:$D$6,4,1)","v":5},{"$f":"VLOOKUP(R28,List!$A$2:$D$6,4,1)","v":5},{"$f":"VLOOKUP(S28,List!$A$2:$D$6,4,1)","v":5},{"$f":"VLOOKUP(T28,List!$A$2:$D$6,4,1)","v":5},{"$f":"VLOOKUP(U28,List!$A$2:$D$6,4,1)","v":5},{"$f":"VLOOKUP(V28,List!$A$2:$D$6,4,1)","v":5},{"$f":"VLOOKUP(W28,List!$A$2:$D$6,4,1)","v":5},{"$f":"VLOOKUP(X28,List!$A$2:$D$6,4,1)","v":5},{"$f":"VLOOKUP(Y28,List!$A$2:$D$6,4,1)","v":5},{"$f":"VLOOKUP(Z28,List!$A$2:$D$6,4,1)","v":5},6.88,7.54,8.08,9.56,9.6199999999999992,9.6,9.8800000000000008,10.73,11.59,11.05,12.01,12.48,11.49,12.189061723533326,13.601151240301411,13.801384343324619,14.822442738563316,{"$f":"VLOOKUP(AR28,List!$B$2:$D$6,3,1)","v":3},{"$f":"VLOOKUP(AS28,List!$B$2:$D$6,3,1)","v":4},{"$f":"VLOOKUP(AT28,List!$B$2:$D$6,3,1)","v":4},{"$f":"VLOOKUP(AU28,List!$B$2:$D$6,3,1)","v":5},{"$f":"VLOOKUP(AV28,List!$B$2:$D$6,3,1)","v":5},{"$f":"VLOOKUP(AW28,List!$B$2:$D$6,3,1)","v":5},{"$f":"VLOOKUP(AX28,List!$B$2:$D$6,3,1)","v":5},{"$f":"VLOOKUP(AY28,List!$B$2:$D$6,3,1)","v":5},{"$f":"VLOOKUP(AZ28,List!$B$2:$D$6,3,1)","v":5},{"$f":"VLOOKUP(BA28,List!$B$2:$D$6,3,1)","v":5},{"$f":"VLOOKUP(BB28,List!$B$2:$D$6,3,1)","v":5},{"$f":"VLOOKUP(BC28,List!$B$2:$D$6,3,1)","v":5},{"$f":"VLOOKUP(BD28,List!$B$2:$D$6,3,1)","v":5},{"$f":"VLOOKUP(BE28,List!$B$2:$D$6,3,1)","v":5},{"$f":"VLOOKUP(BF28,List!$B$2:$D$6,3,1)","v":5},{"$f":"VLOOKUP(BG28,List!$B$2:$D$6,3,1)","v":5},{"$f":"VLOOKUP(BH28,List!$B$2:$D$6,3,1)","v":5},174108.31496769562,200778.0410742496,237675.15329536208,285353.56092843326,300114.79300962744,325525.99655304482,348439.23596004437,384820,395263.43587294006,435441.64174573054,512207.47019438446,508882.97916666669,509330,548376.38065326633,569195.83006745856,589367.97974447079,650844.45784578461,{"$f":"VLOOKUP(BZ28,List!$C$2:$D$6,2,1)","v":3},{"$f":"VLOOKUP(CA28,List!$C$2:$D$6,2,1)","v":3},{"$f":"VLOOKUP(CB28,List!$C$2:$D$6,2,1)","v":3},{"$f":"VLOOKUP(CC28,List!$C$2:$D$6,2,1)","v":4},{"$f":"VLOOKUP(CD28,List!$C$2:$D$6,2,1)","v":4},{"$f":"VLOOKUP(CE28,List!$C$2:$D$6,2,1)","v":4},{"$f":"VLOOKUP(CF28,List!$C$2:$D$6,2,1)","v":4},{"$f":"VLOOKUP(CG28,List!$C$2:$D$6,2,1)","v":4},{"$f":"VLOOKUP(CH28,List!$C$2:$D$6,2,1)","v":4},{"$f":"VLOOKUP(CI28,List!$C$2:$D$6,2,1)","v":4},{"$f":"VLOOKUP(CJ28,List!$C$2:$D$6,2,1)","v":5},{"$f":"VLOOKUP(CK28,List!$C$2:$D$6,2,1)","v":5},{"$f":"VLOOKUP(CL28,List!$C$2:$D$6,2,1)","v":5},{"$f":"VLOOKUP(CM28,List!$C$2:$D$6,2,1)","v":5},{"$f":"VLOOKUP(CN28,List!$C$2:$D$6,2,1)","v":5},{"$f":"VLOOKUP(CO28,List!$C$2:$D$6,2,1)","v":5},{"$f":"VLOOKUP(CP28,List!$C$2:$D$6,2,1)","v":5}]
["London","Southwark","Southwark",11700,21900,9300,21900,3,{"$f":"VLOOKUP(G29,List!$A$2:$D$6,4,1)","v":3},17108.244997793423,17535.951122738261,17974.349900806712,18423.708648326879,18884.301364535051,19356.408898648424,19840.319121114637,20336.327099142502,20844.735276621061,21365.853658536587,21365.853658536587,21900,22447.499999999996,23008.6875,23583.904687499999,24173.502304687496,24777.839862304681,{"$f":"VLOOKUP(J29,List!$A$2:$D$6,4,1)","v":2},{"$f":"VLOOKUP(K29,List!$A$2:$D$6,4,1)","v":2},{"$f":"VLOOKUP(L29,List!$A$2:$D$6,4,1)","v":2},{"$f":"VLOOKUP(M29,List!$A$2:$D$6,4,1)","v":2},{"$f":"VLOOKUP(N29,List!$A$2:$D$6,4,1)","v":2},{"$f":"VLOOKUP(O29,List!$A$2:$D$6,4,1)","v":2},{"$f":"VLOOKUP(P29,List!$A$2:$D$6,4,1)","v":2},{"$f":"VLOOKUP(Q29,List!$A$2:$D$6,4,1)","v":3},{"$f":"VLOOKUP(R29,List!$A$2:$D$6,4,1)","v":3},{"$f":"VLOOKUP(S29,List!$A$2:$D$6,4,1)","v":3},{"$f":"VLOOKUP(T29,List!$A$2:$D$6,4,1)","v":3},{"$f":"VLOOKUP(U29,List!$A$2:$D$6,4,1)","v":3},{"$f":"VLOOKUP(V29,List!$A$2:$D$6,4,1)","v":4},{"$f":"VLOOKUP(W29,List!$A$2:$D$6,4,1)","v":4},{"$f":"VLOOKUP(X29,List!$A$2:$D$6,4,1)","v":4},{"$f":"VLOOKUP(Y29,List!$A$2:$D$6,4,1)","v":4},{"$f":"VLOOKUP(Z29,List!$A$2:$D$6,4,1)","v":4},3.8,4.4000000000000004,4.79,5.81,6.01,6.01,6.17,7.36,7.84,7.71,8.49,8.7899999999999991,8.58,8.9844934376376209,9.113769603904414,9.1067917161671801,9.6527777777777786,{"$f":"VLOOKUP(AR29,List!$B$2:$D$6,3,1)","v":1},{"$f":"VLOOKUP(AS29,List!$B$2:$D$6,3,1)","v":1},{"$f":"VLOOKUP(AT29,List!$B$2:$D$6,3,1)","v":2},{"$f":"VLOOKUP(AU29,List!$B$2:$D$6,3,1)","v":3},{"$f":"VLOOKUP(AV29,List!$B$2:$D$6,3,1)","v":3},{"$f":"VLOOKUP(AW29,List!$B$2:$D$6,3,1)","v":3},{"$f":"VLOOKUP(AX29,List!$B$2:$D$6,3,1)","v":3},{"$f":"VLOOKUP(AY29,List!$B$2:$D$6,3,1)","v":4},{"$f":"VLOOKUP(AZ29,List!$B$2:$D$6,3,1)","v":4},{"$f":"VLOOKUP(BA29,List!$B$2:$D$6,3,1)","v":4},{"$f":"VLOOKUP(BB29,List!$B$2:$D$6,3,1)","v":4},{"$f":"VLOOKUP(BC29,List!$B$2:$D$6,3,1)","v":4},{"$f":"VLOOKUP(BD29,List!$B$2:$D$6,3,1)","v":4},{"$f":"VLOOKUP(BE29,List!$B$2:$D$6,3,1)","v":4},{"$f":"VLOOKUP(BF29,List!$B$2:$D$6,3,1)","v":5},{"$f":"VLOOKUP(BG29,List!$B$2:$D$6,3,1)","v":5},{"$f":"VLOOKUP(BH29,List!$B$2:$D$6,3,1)","v":5},105371.76431571966,124404.82408839779,144222.33701047988,189628.01059526103,208962.80935183426,221365.31379241115,239818.80252195452,253027,272653.72549952427,290718.10223154683,333657.59134521248,330407.80872069107,339256,376780.07469512196,399412.42609517789,410493.33827085758,437467.73832761776,{"$f":"VLOOKUP(BZ29,List!$C$2:$D$6,2,1)","v":2},{"$f":"VLOOKUP(CA29,List!$C$2:$D$6,2,1)","v":2},{"$f":"VLOOKUP(CB29,List!$C$2:$D$6,2,1)","v":2},{"$f":"VLOOKUP(CC29,List!$C$2:$D$6,2,1)","v":3},{"$f":"VLOOKUP(CD29,List!$C$2:$D$6,2,1)","v":3},{"$f":"VLOOKUP(CE29,List!$C$2:$D$6,2,1)","v":3},{"$f":"VLOOKUP(CF29,List!$C$2:$D$6,2,1)","v":3},{"$f":"VLOOKUP(CG29,List!$C$2:$D$6,2,1)","v":4},{"$f":"VLOOKUP(CH29,List!$C$2:$D$6,2,1)","v":4},{"$f":"VLOOKUP(CI29,List!$C$2:$D$6,2,1)","v":4},{"$f":"VLOOKUP(CJ29,List!$C$2:$D$6,2,1)","v":4},{"$f":"VLOOKUP(CK29,List!$C$2:$D$6,2,1)","v":4},{"$f":"VLOOKUP(CL29,List!$C$2:$D$6,2,1)","v":4},{"$f":"VLOOKUP(CM29,List!$C$2:$D$6,2,1)","v":4},{"$f":"VLOOKUP(CN29,List!$C$2:$D$6,2,1)","v":4},{"$f":"VLOOKUP(CO29,List!$C$2:$D$6,2,1)","v":4},{"$f":"VLOOKUP(CP29,List!$C$2:$D$6,2,1)","v":4}]
["London","Sutton","Sutton",13400,23000,10600,22500,3,{"$f":"VLOOKUP(G30,List!$A$2:$D$6,4,1)","v":4},17576.964038828861,18016.388139799583,18466.797843294567,18928.467789376929,19401.679484111351,19886.721471214136,20383.889507994489,20893.48674569435,21415.823914336706,21951.219512195123,21951.219512195123,22500,23062.499999999996,23639.0625,24230.039062499996,24835.790039062496,25456.684790039053,{"$f":"VLOOKUP(J30,List!$A$2:$D$6,4,1)","v":2},{"$f":"VLOOKUP(K30,List!$A$2:$D$6,4,1)","v":2},{"$f":"VLOOKUP(L30,List!$A$2:$D$6,4,1)","v":2},{"$f":"VLOOKUP(M30,List!$A$2:$D$6,4,1)","v":2},{"$f":"VLOOKUP(N30,List!$A$2:$D$6,4,1)","v":2},{"$f":"VLOOKUP(O30,List!$A$2:$D$6,4,1)","v":2},{"$f":"VLOOKUP(P30,List!$A$2:$D$6,4,1)","v":3},{"$f":"VLOOKUP(Q30,List!$A$2:$D$6,4,1)","v":3},{"$f":"VLOOKUP(R30,List!$A$2:$D$6,4,1)","v":3},{"$f":"VLOOKUP(S30,List!$A$2:$D$6,4,1)","v":3},{"$f":"VLOOKUP(T30,List!$A$2:$D$6,4,1)","v":3},{"$f":"VLOOKUP(U30,List!$A$2:$D$6,4,1)","v":4},{"$f":"VLOOKUP(V30,List!$A$2:$D$6,4,1)","v":4},{"$f":"VLOOKUP(W30,List!$A$2:$D$6,4,1)","v":4},{"$f":"VLOOKUP(X30,List!$A$2:$D$6,4,1)","v":4},{"$f":"VLOOKUP(Y30,List!$A$2:$D$6,4,1)","v":4},{"$f":"VLOOKUP(Z30,List!$A$2:$D$6,4,1)","v":5},3.47,4.37,4.34,5.69,5.74,6.38,7.35,7.43,7.93,7.97,8.8000000000000007,9.2200000000000006,8.07,8.6138785374468689,8.8448044925893061,8.6861418415280749,8.3352782315873704,{"$f":"VLOOKUP(AR30,List!$B$2:$D$6,3,1)","v":1},{"$f":"VLOOKUP(AS30,List!$B$2:$D$6,3,1)","v":1},{"$f":"VLOOKUP(AT30,List!$B$2:$D$6,3,1)","v":1},{"$f":"VLOOKUP(AU30,List!$B$2:$D$6,3,1)","v":3},{"$f":"VLOOKUP(AV30,List!$B$2:$D$6,3,1)","v":3},{"$f":"VLOOKUP(AW30,List!$B$2:$D$6,3,1)","v":3},{"$f":"VLOOKUP(AX30,List!$B$2:$D$6,3,1)","v":4},{"$f":"VLOOKUP(AY30,List!$B$2:$D$6,3,1)","v":4},{"$f":"VLOOKUP(AZ30,List!$B$2:$D$6,3,1)","v":4},{"$f":"VLOOKUP(BA30,List!$B$2:$D$6,3,1)","v":4},{"$f":"VLOOKUP(BB30,List!$B$2:$D$6,3,1)","v":4},{"$f":"VLOOKUP(BC30,List!$B$2:$D$6,3,1)","v":5},{"$f":"VLOOKUP(BD30,List!$B$2:$D$6,3,1)","v":4},{"$f":"VLOOKUP(BE30,List!$B$2:$D$6,3,1)","v":4},{"$f":"VLOOKUP(BF30,List!$B$2:$D$6,3,1)","v":4},{"$f":"VLOOKUP(BG30,List!$B$2:$D$6,3,1)","v":4},{"$f":"VLOOKUP(BH30,List!$B$2:$D$6,3,1)","v":4},87874.339488941376,99957.900893051628,112886.44050144649,137599.16901723752,152840.98793456034,177347.07618858165,197068.67222723173,213303,226282.94838192029,239785.68418812513,261675.08303094984,259738.36848792885,240045,265461.14128128975,266768.146672145,271860.02695204096,288294.17926964175,{"$f":"VLOOKUP(BZ30,List!$C$2:$D$6,2,1)","v":1},{"$f":"VLOOKUP(CA30,List!$C$2:$D$6,2,1)","v":2},{"$f":"VLOOKUP(CB30,List!$C$2:$D$6,2,1)","v":2},{"$f":"VLOOKUP(CC30,List!$C$2:$D$6,2,1)","v":2},{"$f":"VLOOKUP(CD30,List!$C$2:$D$6,2,1)","v":3},{"$f":"VLOOKUP(CE30,List!$C$2:$D$6,2,1)","v":3},{"$f":"VLOOKUP(CF30,List!$C$2:$D$6,2,1)","v":3},{"$f":"VLOOKUP(CG30,List!$C$2:$D$6,2,1)","v":3},{"$f":"VLOOKUP(CH30,List!$C$2:$D$6,2,1)","v":3},{"$f":"VLOOKUP(CI30,List!$C$2:$D$6,2,1)","v":3},{"$f":"VLOOKUP(CJ30,List!$C$2:$D$6,2,1)","v":4},{"$f":"VLOOKUP(CK30,List!$C$2:$D$6,2,1)","v":4},{"$f":"VLOOKUP(CL30,List!$C$2:$D$6,2,1)","v":3},{"$f":"VLOOKUP(CM30,List!$C$2:$D$6,2,1)","v":4},{"$f":"VLOOKUP(CN30,List!$C$2:$D$6,2,1)","v":4},{"$f":"VLOOKUP(CO30,List!$C$2:$D$6,2,1)","v":4},{"$f":"VLOOKUP(CP30,List!$C$2:$D$6,2,1)","v":4}]
["London","TowerHamlets","Tower Hamlets",8960,21400,9150,21200,3,{"$f":"VLOOKUP(G31,List!$A$2:$D$6,4,1)","v":3},16561.406116585415,16975.44126950005,17399.827301237547,17834.822983768485,18280.693558362698,18737.710897321762,19206.153669754807,19686.307511498675,20178.46519928614,20682.926829268294,20682.926829268294,21200,21729.999999999996,22273.25,22830.081249999996,23400.833281249994,23985.854113281242,{"$f":"VLOOKUP(J31,List!$A$2:$D$6,4,1)","v":2},{"$f":"VLOOKUP(K31,List!$A$2:$D$6,4,1)","v":2},{"$f":"VLOOKUP(L31,List!$A$2:$D$6,4,1)","v":2},{"$f":"VLOOKUP(M31,List!$A$2:$D$6,4,1)","v":2},{"$f":"VLOOKUP(N31,List!$A$2:$D$6,4,1)","v":2},{"$f":"VLOOKUP(O31,List!$A$2:$D$6,4,1)","v":2},{"$f":"VLOOKUP(P31,List!$A$2:$D$6,4,1)","v":2},{"$f":"VLOOKUP(Q31,List!$A$2:$D$6,4,1)","v":2},{"$f":"VLOOKUP(R31,List!$A$2:$D$6,4,1)","v":3},{"$f":"VLOOKUP(S31,List!$A$2:$D$6,4,1)","v":3},{"$f":"VLOOKUP(T31,List!$A$2:$D$6,4,1)","v":3},{"$f":"VLOOKUP(U31,List!$A$2:$D$6,4,1)","v":3},{"$f":"VLOOKUP(V31,List!$A$2:$D$6,4,1)","v":3},{"$f":"VLOOKUP(W31,List!$A$2:$D$6,4,1)","v":4},{"$f":"VLOOKUP(X31,List!$A$2:$D$6,4,1)","v":4},{"$f":"VLOOKUP(Y31,List!$A$2:$D$6,4,1)","v":4},{"$f":"VLOOKUP(Z31,List!$A$2:$D$6,4,1)","v":4},3.8,4.29,4.8499999999999996,5.41,5.84,6.41,6.02,6.02,6.32,6.38,6.99,7.13,6.38,7.0132796450078221,6.5790643306043721,6.7618290609613387,6.8880900617775573,{"$f":"VLOOKUP(AR31,List!$B$2:$D$6,3,1)","v":1},{"$f":"VLOOKUP(AS31,List!$B$2:$D$6,3,1)","v":1},{"$f":"VLOOKUP(AT31,List!$B$2:$D$6,3,1)","v":2},{"$f":"VLOOKUP(AU31,List!$B$2:$D$6,3,1)","v":2},{"$f":"VLOOKUP(AV31,List!$B$2:$D$6,3,1)","v":3},{"$f":"VLOOKUP(AW31,List!$B$2:$D$6,3,1)","v":3},{"$f":"VLOOKUP(AX31,List!$B$2:$D$6,3,1)","v":3},{"$f":"VLOOKUP(AY31,List!$B$2:$D$6,3,1)","v":3},{"$f":"VLOOKUP(AZ31,List!$B$2:$D$6,3,1)","v":3},{"$f":"VLOOKUP(BA31,List!$B$2:$D$6,3,1)","v":3},{"$f":"VLOOKUP(BB31,List!$B$2:$D$6,3,1)","v":3},{"$f":"VLOOKUP(BC31,List!$B$2:$D$6,3,1)","v":4},{"$f":"VLOOKUP(BD31,List!$B$2:$D$6,3,1)","v":3},{"$f":"VLOOKUP(BE31,List!$B$2:$D$6,3,1)","v":4},{"$f":"VLOOKUP(BF31,List!$B$2:$D$6,3,1)","v":3},{"$f":"VLOOKUP(BG31,List!$B$2:$D$6,3,1)","v":3},{"$f":"VLOOKUP(BH31,List!$B$2:$D$6,3,1)","v":3},111061.53362762919,128873.40432098765,161264.58852779257,190813.99524846565,208367.05218855219,222835.4456879526,235771.40308483291,259944,263640.85909841867,282005.52634854772,335426.69925387413,330162.52097759675,333241,345849.66883116885,341607.35278276523,353282.68478260882,378029.00917183678,{"$f":"VLOOKUP(BZ31,List!$C$2:$D$6,2,1)","v":2},{"$f":"VLOOKUP(CA31,List!$C$2:$D$6,2,1)","v":2},{"$f":"VLOOKUP(CB31,List!$C$2:$D$6,2,1)","v":3},{"$f":"VLOOKUP(CC31,List!$C$2:$D$6,2,1)","v":3},{"$f":"VLOOKUP(CD31,List!$C$2:$D$6,2,1)","v":3},{"$f":"VLOOKUP(CE31,List!$C$2:$D$6,2,1)","v":3},{"$f":"VLOOKUP(CF31,List!$C$2:$D$6,2,1)","v":3},{"$f":"VLOOKUP(CG31,List!$C$2:$D$6,2,1)","v":4},{"$f":"VLOOKUP(CH31,List!$C$2:$D$6,2,1)","v":4},{"$f":"VLOOKUP(CI31,List!$C$2:$D$6,2,1)","v":4},{"$f":"VLOOKUP(CJ31,List!$C$2:$D$6,2,1)","v":4},{"$f":"VLOOKUP(CK31,List!$C$2:$D$6,2,1)","v":4},{"$f":"VLOOKUP(CL31,List!$C$2:$D$6,2,1)","v":4},{"$f":"VLOOKUP(CM31,List!$C$2:$D$6,2,1)","v":4},{"$f":"VLOOKUP(CN31,List!$C$2:$D$6,2,1)","v":4},{"$f":"VLOOKUP(CO31,List!$C$2:$D$6,2,1)","v":4},{"$f":"VLOOKUP(CP31,List!$C$2:$D$6,2,1)","v":4}]
["London","WalthamForest","Waltham Forest",9740,18800,8990,18200,3,{"$f":"VLOOKUP(G32,List!$A$2:$D$6,4,1)","v":2},14217.810911408233,14573.25618419344,14937.587588798273,15311.027278518228,15693.802960481184,16086.148034493212,16488.301735355541,16900.509278739428,17323.022010707911,17756.09756097561,17756.09756097561,18200,18655,19121.375,19599.409374999999,20089.394609374995,20591.62947460937,{"$f":"VLOOKUP(J32,List!$A$2:$D$6,4,1)","v":1},{"$f":"VLOOKUP(K32,List!$A$2:$D$6,4,1)","v":1},{"$f":"VLOOKUP(L32,List!$A$2:$D$6,4,1)","v":1},{"$f":"VLOOKUP(M32,List!$A$2:$D$6,4,1)","v":1},{"$f":"VLOOKUP(N32,List!$A$2:$D$6,4,1)","v":1},{"$f":"VLOOKUP(O32,List!$A$2:$D$6,4,1)","v":2},{"$f":"VLOOKUP(P32,List!$A$2:$D$6,4,1)","v":2},{"$f":"VLOOKUP(Q32,List!$A$2:$D$6,4,1)","v":2},{"$f":"VLOOKUP(R32,List!$A$2:$D$6,4,1)","v":2},{"$f":"VLOOKUP(S32,List!$A$2:$D$6,4,1)","v":2},{"$f":"VLOOKUP(T32,List!$A$2:$D$6,4,1)","v":2},{"$f":"VLOOKUP(U32,List!$A$2:$D$6,4,1)","v":2},{"$f":"VLOOKUP(V32,List!$A$2:$D$6,4,1)","v":2},{"$f":"VLOOKUP(W32,List!$A$2:$D$6,4,1)","v":2},{"$f":"VLOOKUP(X32,List!$A$2:$D$6,4,1)","v":2},{"$f":"VLOOKUP(Y32,List!$A$2:$D$6,4,1)","v":3},{"$f":"VLOOKUP(Z32,List!$A$2:$D$6,4,1)","v":3},3.47,3.74,4.16,4.8099999999999996,5.31,6.56,7.15,8.0299999999999994,8.2799999999999994,9.43,9.58,8.98,7.39,7.9839326495740668,7.9635681725220211,8.7329803001854085,9.5594068493388917,{"$f":"VLOOKUP(AR32,List!$B$2:$D$6,3,1)","v":1},{"$f":"VLOOKUP(AS32,List!$B$2:$D$6,3,1)","v":1},{"$f":"VLOOKUP(AT32,List!$B$2:$D$6,3,1)","v":1},{"$f":"VLOOKUP(AU32,List!$B$2:$D$6,3,1)","v":2},{"$f":"VLOOKUP(AV32,List!$B$2:$D$6,3,1)","v":2},{"$f":"VLOOKUP(AW32,List!$B$2:$D$6,3,1)","v":3},{"$f":"VLOOKUP(AX32,List!$B$2:$D$6,3,1)","v":4},{"$f":"VLOOKUP(AY32,List!$B$2:$D$6,3,1)","v":4},{"$f":"VLOOKUP(AZ32,List!$B$2:$D$6,3,1)","v":4},{"$f":"VLOOKUP(BA32,List!$B$2:$D$6,3,1)","v":5},{"$f":"VLOOKUP(BB32,List!$B$2:$D$6,3,1)","v":5},{"$f":"VLOOKUP(BC32,List!$B$2:$D$6,3,1)","v":4},{"$f":"VLOOKUP(BD32,List!$B$2:$D$6,3,1)","v":4},{"$f":"VLOOKUP(BE32,List!$B$2:$D$6,3,1)","v":4},{"$f":"VLOOKUP(BF32,List!$B$2:$D$6,3,1)","v":4},{"$f":"VLOOKUP(BG32,List!$B$2:$D$6,3,1)","v":4},{"$f":"VLOOKUP(BH32,List!$B$2:$D$6,3,1)","v":5},66979.873744926299,76965.790860786394,88385.278459821435,105765.84101654847,123958.15899185144,155099.64904942966,179428.54459601259,195220,205618.83369278695,219908.67749999999,246567.30128610585,239500.14466469843,220300,236913.15693267944,239965.33362255964,251268.85098901097,280781.31201550382,{"$f":"VLOOKUP(BZ32,List!$C$2:$D$6,2,1)","v":1},{"$f":"VLOOKUP(CA32,List!$C$2:$D$6,2,1)","v":1},{"$f":"VLOOKUP(CB32,List!$C$2:$D$6,2,1)","v":1},{"$f":"VLOOKUP(CC32,List!$C$2:$D$6,2,1)","v":2},{"$f":"VLOOKUP(CD32,List!$C$2:$D$6,2,1)","v":2},{"$f":"VLOOKUP(CE32,List!$C$2:$D$6,2,1)","v":3},{"$f":"VLOOKUP(CF32,List!$C$2:$D$6,2,1)","v":3},{"$f":"VLOOKUP(CG32,List!$C$2:$D$6,2,1)","v":3},{"$f":"VLOOKUP(CH32,List!$C$2:$D$6,2,1)","v":3},{"$f":"VLOOKUP(CI32,List!$C$2:$D$6,2,1)","v":3},{"$f":"VLOOKUP(CJ32,List!$C$2:$D$6,2,1)","v":3},{"$f":"VLOOKUP(CK32,List!$C$2:$D$6,2,1)","v":3},{"$f":"VLOOKUP(CL32,List!$C$2:$D$6,2,1)","v":3},{"$f":"VLOOKUP(CM32,List!$C$2:$D$6,2,1)","v":3},{"$f":"VLOOKUP(CN32,List!$C$2:$D$6,2,1)","v":3},{"$f":"VLOOKUP(CO32,List!$C$2:$D$6,2,1)","v":4},{"$f":"VLOOKUP(CP32,List!$C$2:$D$6,2,1)","v":4}]
["London","Wandsworth","Wandsworth",11400,25700,10400,26100,3,{"$f":"VLOOKUP(G33,List!$A$2:$D$6,4,1)","v":5},20389.278285041477,20899.010242167515,21421.485498221697,21957.02263567724,22505.948201569168,23068.596906608396,23645.311829273607,24236.444625005446,24842.355740630577,25463.414634146342,25463.414634146342,26100,26752.499999999996,27421.312499999996,28106.845312499998,28809.516445312493,29529.754356445304,{"$f":"VLOOKUP(J33,List!$A$2:$D$6,4,1)","v":3},{"$f":"VLOOKUP(K33,List!$A$2:$D$6,4,1)","v":3},{"$f":"VLOOKUP(L33,List!$A$2:$D$6,4,1)","v":3},{"$f":"VLOOKUP(M33,List!$A$2:$D$6,4,1)","v":3},{"$f":"VLOOKUP(N33,List!$A$2:$D$6,4,1)","v":4},{"$f":"VLOOKUP(O33,List!$A$2:$D$6,4,1)","v":4},{"$f":"VLOOKUP(P33,List!$A$2:$D$6,4,1)","v":4},{"$f":"VLOOKUP(Q33,List!$A$2:$D$6,4,1)","v":4},{"$f":"VLOOKUP(R33,List!$A$2:$D$6,4,1)","v":4},{"$f":"VLOOKUP(S33,List!$A$2:$D$6,4,1)","v":5},{"$f":"VLOOKUP(T33,List!$A$2:$D$6,4,1)","v":5},{"$f":"VLOOKUP(U33,List!$A$2:$D$6,4,1)","v":5},{"$f":"VLOOKUP(V33,List!$A$2:$D$6,4,1)","v":5},{"$f":"VLOOKUP(W33,List!$A$2:$D$6,4,1)","v":5},{"$f":"VLOOKUP(X33,List!$A$2:$D$6,4,1)","v":5},{"$f":"VLOOKUP(Y33,List!$A$2:$D$6,4,1)","v":5},{"$f":"VLOOKUP(Z33,List!$A$2:$D$6,4,1)","v":5},5.41,6.09,6.66,8.0399999999999991,9.07,9.44,9.57,9.91,10.31,10.83,12.15,12.06,10.82,11.889489884267347,12.169730943956809,13.332142963425884,14.510825099125181,{"$f":"VLOOKUP(AR33,List!$B$2:$D$6,3,1)","v":2},{"$f":"VLOOKUP(AS33,List!$B$2:$D$6,3,1)","v":3},{"$f":"VLOOKUP(AT33,List!$B$2:$D$6,3,1)","v":3},{"$f":"VLOOKUP(AU33,List!$B$2:$D$6,3,1)","v":4},{"$f":"VLOOKUP(AV33,List!$B$2:$D$6,3,1)","v":5},{"$f":"VLOOKUP(AW33,List!$B$2:$D$6,3,1)","v":5},{"$f":"VLOOKUP(AX33,List!$B$2:$D$6,3,1)","v":5},{"$f":"VLOOKUP(AY33,List!$B$2:$D$6,3,1)","v":5},{"$f":"VLOOKUP(AZ33,List!$B$2:$D$6,3,1)","v":5},{"$f":"VLOOKUP(BA33,List!$B$2:$D$6,3,1)","v":5},{"$f":"VLOOKUP(BB33,List!$B$2:$D$6,3,1)","v":5},{"$f":"VLOOKUP(BC33,List!$B$2:$D$6,3,1)","v":5},{"$f":"VLOOKUP(BD33,List!$B$2:$D$6,3,1)","v":5},{"$f":"VLOOKUP(BE33,List!$B$2:$D$6,3,1)","v":5},{"$f":"VLOOKUP(BF33,List!$B$2:$D$6,3,1)","v":5},{"$f":"VLOOKUP(BG33,List!$B$2:$D$6,3,1)","v":5},{"$f":"VLOOKUP(BH33,List!$B$2:$D$6,3,1)","v":5},137898.09760610617,156860.40780187349,192862.15855283386,233966.02274795269,253814.89446683766,287003.38102533884,301361.15111751982,336833,349889.6258484163,397432.24925521348,456837.26469882409,445953.3463488844,459342,493416.13359939185,507120.82274629141,531781.83782224078,586954.7506403228,{"$f":"VLOOKUP(BZ33,List!$C$2:$D$6,2,1)","v":2},{"$f":"VLOOKUP(CA33,List!$C$2:$D$6,2,1)","v":3},{"$f":"VLOOKUP(CB33,List!$C$2:$D$6,2,1)","v":3},{"$f":"VLOOKUP(CC33,List!$C$2:$D$6,2,1)","v":3},{"$f":"VLOOKUP(CD33,List!$C$2:$D$6,2,1)","v":4},{"$f":"VLOOKUP(CE33,List!$C$2:$D$6,2,1)","v":4},{"$f":"VLOOKUP(CF33,List!$C$2:$D$6,2,1)","v":4},{"$f":"VLOOKUP(CG33,List!$C$2:$D$6,2,1)","v":4},{"$f":"VLOOKUP(CH33,List!$C$2:$D$6,2,1)","v":4},{"$f":"VLOOKUP(CI33,List!$C$2:$D$6,2,1)","v":4},{"$f":"VLOOKUP(CJ33,List!$C$2:$D$6,2,1)","v":4},{"$f":"VLOOKUP(CK33,List!$C$2:$D$6,2,1)","v":4},{"$f":"VLOOKUP(CL33,List!$C$2:$D$6,2,1)","v":4},{"$f":"VLOOKUP(CM33,List!$C$2:$D$6,2,1)","v":5},{"$f":"VLOOKUP(CN33,List!$C$2:$D$6,2,1)","v":5},{"$f":"VLOOKUP(CO33,List!$C$2:$D$6,2,1)","v":5},{"$f":"VLOOKUP(CP33,List!$C$2:$D$6,2,1)","v":5}]
["London","Westminster","Westminster",14300,27000,9820,29200,3,{"$f":"VLOOKUP(G34,List!$A$2:$D$6,4,1)","v":5},{"$f":"$G34*(1.025)^-COLUMN(J:J)","v":22810.993330391229},{"$f":"$G34*(1.025)^-COLUMN(I:I)","v":23381.268163651013},{"$f":"$G34*(1.025)^-COLUMN(H:H)","v":23965.799867742284},{"$f":"$G34*(1.025)^-COLUMN(G:G)","v":24564.944864435838},{"$f":"$G34*(1.025)^-COLUMN(F:F)","v":25179.068486046734},{"$f":"$G34*(1.025)^-COLUMN(E:E)","v":25808.545198197899},{"$f":"$G34*(1.025)^-COLUMN(D:D)","v":26453.758828152848},{"$f":"$G34*(1.025)^-COLUMN(C:C)","v":27115.102798856668},{"$f":"$G34*(1.025)^-COLUMN(B:B)","v":27792.980368828081},{"$f":"$G34*(1.025)^-COLUMN(A:A)","v":28487.804878048784},{"$f":"$G34*(1.025)^-COLUMN(A:A)","v":28487.804878048784},{"$f":"$G34*(1.025)^0","v":29200},{"$f":"$G34*(1.025)^COLUMN(A:A)","v":29929.999999999996},{"$f":"$G34*(1.025)^COLUMN(B:B)","v":30678.249999999996},{"$f":"$G34*(1.025)^COLUMN(C:C)","v":31445.206249999996},{"$f":"$G34*(1.025)^COLUMN(D:D)","v":32231.336406249993},{"$f":"$G34*(1.025)^COLUMN(E:E)","v":33037.119816406237},{"$f":"VLOOKUP(J34,List!$A$2:$D$6,4,1)","v":4},{"$f":"VLOOKUP(K34,List!$A$2:$D$6,4,1)","v":4},{"$f":"VLOOKUP(L34,List!$A$2:$D$6,4,1)","v":4},{"$f":"VLOOKUP(M34,List!$A$2:$D$6,4,1)","v":4},{"$f":"VLOOKUP(N34,List!$A$2:$D$6,4,1)","v":5},{"$f":"VLOOKUP(O34,List!$A$2:$D$6,4,1)","v":5},{"$f":"VLOOKUP(P34,List!$A$2:$D$6,4,1)","v":5},{"$f":"VLOOKUP(Q34,List!$A$2:$D$6,4,1)","v":5},{"$f":"VLOOKUP(R34,List!$A$2:$D$6,4,1)","v":5},{"$f":"VLOOKUP(S34,List!$A$2:$D$6,4,1)","v":5},{"$f":"VLOOKUP(T34,List!$A$2:$D$6,4,1)","v":5},{"$f":"VLOOKUP(U34,List!$A$2:$D$6,4,1)","v":5},{"$f":"VLOOKUP(V34,List!$A$2:$D$6,4,1)","v":5},{"$f":"VLOOKUP(W34,List!$A$2:$D$6,4,1)","v":5},{"$f":"VLOOKUP(X34,List!$A$2:$D$6,4,1)","v":5},{"$f":"VLOOKUP(Y34,List!$A$2:$D$6,4,1)","v":5},{"$f":"VLOOKUP(Z34,List!$A$2:$D$6,4,1)","v":5},7.03,7.82,8.64,9.99,10.08,11.06,11.38,11.482996973275046,11.93575750783422,13.46258789615456,13.521840652806342,14.218604564949349,13.570891280455792,15.769675755876802,17.255160992327315,16.892188350093893,19.721734431987031,{"$f":"VLOOKUP(AR34,List!$B$2:$D$6,3,1)","v":4},{"$f":"VLOOKUP(AS34,List!$B$2:$D$6,3,1)","v":4},{"$f":"VLOOKUP(AT34,List!$B$2:$D$6,3,1)","v":4},{"$f":"VLOOKUP(AU34,List!$B$2:$D$6,3,1)","v":5},{"$f":"VLOOKUP(AV34,List!$B$2:$D$6,3,1)","v":5},{"$f":"VLOOKUP(AW34,List!$B$2:$D$6,3,1)","v":5},{"$f":"VLOOKUP(AX34,List!$B$2:$D$6,3,1)","v":5},{"$f":"VLOOKUP(AY34,List!$B$2:$D$6,3,1)","v":5},{"$f":"VLOOKUP(AZ34,List!$B$2:$D$6,3,1)","v":5},{"$f":"VLOOKUP(BA34,List!$B$2:$D$6,3,1)","v":5},{"$f":"VLOOKUP(BB34,List!$B$2:$D$6,3,1)","v":5},{"$f":"VLOOKUP(BC34,List!$B$2:$D$6,3,1)","v":5},{"$f":"VLOOKUP(BD34,List!$B$2:$D$6,3,1)","v":5},{"$f":"VLOOKUP(BE34,List!$B$2:$D$6,3,1)","v":5},{"$f":"VLOOKUP(BF34,List!$B$2:$D$6,3,1)","v":5},{"$f":"VLOOKUP(BG34,List!$B$2:$D$6,3,1)","v":5},{"$f":"VLOOKUP(BH34,List!$B$2:$D$6,3,1)","v":5},237314.53289760349,294477.26851056522,312479.98033155379,394294.70119705342,411127.48207171314,446898.37229234847,464650.51854806539,507899,552686.88198498753,597276.39795918367,687828.05539906106,779563.19417122041,736691,829400.83842061053,935744.03901689546,1135554.2579728453,1290552.5115361258,{"$f":"VLOOKUP(BZ34,List!$C$2:$D$6,2,1)","v":3},{"$f":"VLOOKUP(CA34,List!$C$2:$D$6,2,1)","v":4},{"$f":"VLOOKUP(CB34,List!$C$2:$D$6,2,1)","v":4},{"$f":"VLOOKUP(CC34,List!$C$2:$D$6,2,1)","v":4},{"$f":"VLOOKUP(CD34,List!$C$2:$D$6,2,1)","v":4},{"$f":"VLOOKUP(CE34,List!$C$2:$D$6,2,1)","v":4},{"$f":"VLOOKUP(CF34,List!$C$2:$D$6,2,1)","v":4},{"$f":"VLOOKUP(CG34,List!$C$2:$D$6,2,1)","v":5},{"$f":"VLOOKUP(CH34,List!$C$2:$D$6,2,1)","v":5},{"$f":"VLOOKUP(CI34,List!$C$2:$D$6,2,1)","v":5},{"$f":"VLOOKUP(CJ34,List!$C$2:$D$6,2,1)","v":5},{"$f":"VLOOKUP(CK34,List!$C$2:$D$6,2,1)","v":5},{"$f":"VLOOKUP(CL34,List!$C$2:$D$6,2,1)","v":5},{"$f":"VLOOKUP(CM34,List!$C$2:$D$6,2,1)","v":5},{"$f":"VLOOKUP(CN34,List!$C$2:$D$6,2,1)","v":5},{"$f":"VLOOKUP(CO34,List!$C$2:$D$6,2,1)","v":5},{"$f":"VLOOKUP(CP34,List!$C$2:$D$6,2,1)","v":5}]
["East","Bedford",null,11700,18400,10000,19400,1,{"$f":"VLOOKUP(G35,List!$A$2:$D$6,4,1)","v":2},15155.248993479105,15534.130218316084,15922.483473773982,16320.545560618331,16728.55919963379,17146.773179624633,17575.442509115248,18014.828571843129,18465.199286139203,18926.829268292684,18926.829268292684,19400,19885,20382.125,20891.678124999999,21413.970078124996,21949.319330078117,{"$f":"VLOOKUP(J35,List!$A$2:$D$6,4,1)","v":1},{"$f":"VLOOKUP(K35,List!$A$2:$D$6,4,1)","v":1},{"$f":"VLOOKUP(L35,List!$A$2:$D$6,4,1)","v":1},{"$f":"VLOOKUP(M35,List!$A$2:$D$6,4,1)","v":2},{"$f":"VLOOKUP(N35,List!$A$2:$D$6,4,1)","v":2},{"$f":"VLOOKUP(O35,List!$A$2:$D$6,4,1)","v":2},{"$f":"VLOOKUP(P35,List!$A$2:$D$6,4,1)","v":2},{"$f":"VLOOKUP(Q35,List!$A$2:$D$6,4,1)","v":2},{"$f":"VLOOKUP(R35,List!$A$2:$D$6,4,1)","v":2},{"$f":"VLOOKUP(S35,List!$A$2:$D$6,4,1)","v":2},{"$f":"VLOOKUP(T35,List!$A$2:$D$6,4,1)","v":2},{"$f":"VLOOKUP(U35,List!$A$2:$D$6,4,1)","v":2},{"$f":"VLOOKUP(V35,List!$A$2:$D$6,4,1)","v":2},{"$f":"VLOOKUP(W35,List!$A$2:$D$6,4,1)","v":3},{"$f":"VLOOKUP(X35,List!$A$2:$D$6,4,1)","v":3},{"$f":"VLOOKUP(Y35,List!$A$2:$D$6,4,1)","v":3},{"$f":"VLOOKUP(Z35,List!$A$2:$D$6,4,1)","v":3},3.56,3.84,3.99,4.49,4.75,5.61,6.58,7.23,7.48,7.48,7.87,7.76,6.8,7.4902936410796386,7.2461000803925426,7.3818129661503153,7.5518256995053434,{"$f":"VLOOKUP(AR35,List!$B$2:$D$6,3,1)","v":1},{"$f":"VLOOKUP(AS35,List!$B$2:$D$6,3,1)","v":1},{"$f":"VLOOKUP(AT35,List!$B$2:$D$6,3,1)","v":1},{"$f":"VLOOKUP(AU35,List!$B$2:$D$6,3,1)","v":1},{"$f":"VLOOKUP(AV35,List!$B$2:$D$6,3,1)","v":2},{"$f":"VLOOKUP(AW35,List!$B$2:$D$6,3,1)","v":3},{"$f":"VLOOKUP(AX35,List!$B$2:$D$6,3,1)","v":3},{"$f":"VLOOKUP(AY35,List!$B$2:$D$6,3,1)","v":4},{"$f":"VLOOKUP(AZ35,List!$B$2:$D$6,3,1)","v":4},{"$f":"VLOOKUP(BA35,List!$B$2:$D$6,3,1)","v":4},{"$f":"VLOOKUP(BB35,List!$B$2:$D$6,3,1)","v":4},{"$f":"VLOOKUP(BC35,List!$B$2:$D$6,3,1)","v":4},{"$f":"VLOOKUP(BD35,List!$B$2:$D$6,3,1)","v":3},{"$f":"VLOOKUP(BE35,List!$B$2:$D$6,3,1)","v":4},{"$f":"VLOOKUP(BF35,List!$B$2:$D$6,3,1)","v":4},{"$f":"VLOOKUP(BG35,List!$B$2:$D$6,3,1)","v":4},{"$f":"VLOOKUP(BH35,List!$B$2:$D$6,3,1)","v":4},78929.96617829724,86793.953957388017,95699.955541844363,110371.86496453684,124616.27419377308,149298.762091927,172256.53254221816,190218,200500.69177532248,212185.66167530068,227766.46743052342,225967.13551725601,215260,237668.00869696931,232229.40000250257,235549.41603632964,243457.61679371569,{"$f":"VLOOKUP(BZ35,List!$C$2:$D$6,2,1)","v":1},{"$f":"VLOOKUP(CA35,List!$C$2:$D$6,2,1)","v":1},{"$f":"VLOOKUP(CB35,List!$C$2:$D$6,2,1)","v":2},{"$f":"VLOOKUP(CC35,List!$C$2:$D$6,2,1)","v":2},{"$f":"VLOOKUP(CD35,List!$C$2:$D$6,2,1)","v":2},{"$f":"VLOOKUP(CE35,List!$C$2:$D$6,2,1)","v":2},{"$f":"VLOOKUP(CF35,List!$C$2:$D$6,2,1)","v":3},{"$f":"VLOOKUP(CG35,List!$C$2:$D$6,2,1)","v":3},{"$f":"VLOOKUP(CH35,List!$C$2:$D$6,2,1)","v":3},{"$f":"VLOOKUP(CI35,List!$C$2:$D$6,2,1)","v":3},{"$f":"VLOOKUP(CJ35,List!$C$2:$D$6,2,1)","v":3},{"$f":"VLOOKUP(CK35,List!$C$2:$D$6,2,1)","v":3},{"$f":"VLOOKUP(CL35,List!$C$2:$D$6,2,1)","v":3},{"$f":"VLOOKUP(CM35,List!$C$2:$D$6,2,1)","v":3},{"$f":"VLOOKUP(CN35,List!$C$2:$D$6,2,1)","v":3},{"$f":"VLOOKUP(CO35,List!$C$2:$D$6,2,1)","v":3},{"$f":"VLOOKUP(CP35,List!$C$2:$D$6,2,1)","v":3}]
["East","Cambridgeshire",null,11700,18400,10000,19400,1,{"$f":"VLOOKUP(G36,List!$A$2:$D$6,4,1)","v":2},15155.248993479105,15534.130218316084,15922.483473773982,16320.545560618331,16728.55919963379,17146.773179624633,17575.442509115248,18014.828571843129,18465.199286139203,18926.829268292684,18926.829268292684,19400,19885,20382.125,20891.678124999999,21413.970078124996,21949.319330078117,{"$f":"VLOOKUP(J36,List!$A$2:$D$6,4,1)","v":1},{"$f":"VLOOKUP(K36,List!$A$2:$D$6,4,1)","v":1},{"$f":"VLOOKUP(L36,List!$A$2:$D$6,4,1)","v":1},{"$f":"VLOOKUP(M36,List!$A$2:$D$6,4,1)","v":2},{"$f":"VLOOKUP(N36,List!$A$2:$D$6,4,1)","v":2},{"$f":"VLOOKUP(O36,List!$A$2:$D$6,4,1)","v":2},{"$f":"VLOOKUP(P36,List!$A$2:$D$6,4,1)","v":2},{"$f":"VLOOKUP(Q36,List!$A$2:$D$6,4,1)","v":2},{"$f":"VLOOKUP(R36,List!$A$2:$D$6,4,1)","v":2},{"$f":"VLOOKUP(S36,List!$A$2:$D$6,4,1)","v":2},{"$f":"VLOOKUP(T36,List!$A$2:$D$6,4,1)","v":2},{"$f":"VLOOKUP(U36,List!$A$2:$D$6,4,1)","v":2},{"$f":"VLOOKUP(V36,List!$A$2:$D$6,4,1)","v":2},{"$f":"VLOOKUP(W36,List!$A$2:$D$6,4,1)","v":3},{"$f":"VLOOKUP(X36,List!$A$2:$D$6,4,1)","v":3},{"$f":"VLOOKUP(Y36,List!$A$2:$D$6,4,1)","v":3},{"$f":"VLOOKUP(Z36,List!$A$2:$D$6,4,1)","v":3},3.56,3.84,3.99,4.49,4.75,5.61,6.58,7.23,7.48,7.48,7.87,7.76,6.8,7.4902936410796386,7.2461000803925426,7.3818129661503153,7.5518256995053434,{"$f":"VLOOKUP(AR36,List!$B$2:$D$6,3,1)","v":1},{"$f":"VLOOKUP(AS36,List!$B$2:$D$6,3,1)","v":1},{"$f":"VLOOKUP(AT36,List!$B$2:$D$6,3,1)","v":1},{"$f":"VLOOKUP(AU36,List!$B$2:$D$6,3,1)","v":1},{"$f":"VLOOKUP(AV36,List!$B$2:$D$6,3,1)","v":2},{"$f":"VLOOKUP(AW36,List!$B$2:$D$6,3,1)","v":3},{"$f":"VLOOKUP(AX36,List!$B$2:$D$6,3,1)","v":3},{"$f":"VLOOKUP(AY36,List!$B$2:$D$6,3,1)","v":4},{"$f":"VLOOKUP(AZ36,List!$B$2:$D$6,3,1)","v":4},{"$f":"VLOOKUP(BA36,List!$B$2:$D$6,3,1)","v":4},{"$f":"VLOOKUP(BB36,List!$B$2:$D$6,3,1)","v":4},{"$f":"VLOOKUP(BC36,List!$B$2:$D$6,3,1)","v":4},{"$f":"VLOOKUP(BD36,List!$B$2:$D$6,3,1)","v":3},{"$f":"VLOOKUP(BE36,List!$B$2:$D$6,3,1)","v":4},{"$f":"VLOOKUP(BF36,List!$B$2:$D$6,3,1)","v":4},{"$f":"VLOOKUP(BG36,List!$B$2:$D$6,3,1)","v":4},{"$f":"VLOOKUP(BH36,List!$B$2:$D$6,3,1)","v":4},78929.96617829724,86793.953957388017,95699.955541844363,110371.86496453684,124616.27419377308,149298.762091927,172256.53254221816,190218,200500.69177532248,212185.66167530068,227766.46743052342,225967.13551725601,215260,237668.00869696931,232229.40000250257,235549.41603632964,243457.61679371569,{"$f":"VLOOKUP(BZ36,List!$C$2:$D$6,2,1)","v":1},{"$f":"VLOOKUP(CA36,List!$C$2:$D$6,2,1)","v":1},{"$f":"VLOOKUP(CB36,List!$C$2:$D$6,2,1)","v":2},{"$f":"VLOOKUP(CC36,List!$C$2:$D$6,2,1)","v":2},{"$f":"VLOOKUP(CD36,List!$C$2:$D$6,2,1)","v":2},{"$f":"VLOOKUP(CE36,List!$C$2:$D$6,2,1)","v":2},{"$f":"VLOOKUP(CF36,List!$C$2:$D$6,2,1)","v":3},{"$f":"VLOOKUP(CG36,List!$C$2:$D$6,2,1)","v":3},{"$f":"VLOOKUP(CH36,List!$C$2:$D$6,2,1)","v":3},{"$f":"VLOOKUP(CI36,List!$C$2:$D$6,2,1)","v":3},{"$f":"VLOOKUP(CJ36,List!$C$2:$D$6,2,1)","v":3},{"$f":"VLOOKUP(CK36,List!$C$2:$D$6,2,1)","v":3},{"$f":"VLOOKUP(CL36,List!$C$2:$D$6,2,1)","v":3},{"$f":"VLOOKUP(CM36,List!$C$2:$D$6,2,1)","v":3},{"$f":"VLOOKUP(CN36,List!$C$2:$D$6,2,1)","v":3},{"$f":"VLOOKUP(CO36,List!$C$2:$D$6,2,1)","v":3},{"$f":"VLOOKUP(CP36,List!$C$2:$D$6,2,1)","v":3}]
["East","Essex",null,11700,18400,10000,19400,1,{"$f":"VLOOKUP(G37,List!$A$2:$D$6,4,1)","v":2},15155.248993479105,15534.130218316084,15922.483473773982,16320.545560618331,16728.55919963379,17146.773179624633,17575.442509115248,18014.828571843129,18465.199286139203,18926.829268292684,18926.829268292684,19400,19885,20382.125,20891.678124999999,21413.970078124996,21949.319330078117,{"$f":"VLOOKUP(J37,List!$A$2:$D$6,4,1)","v":1},{"$f":"VLOOKUP(K37,List!$A$2:$D$6,4,1)","v":1},{"$f":"VLOOKUP(L37,List!$A$2:$D$6,4,1)","v":1},{"$f":"VLOOKUP(M37,List!$A$2:$D$6,4,1)","v":2},{"$f":"VLOOKUP(N37,List!$A$2:$D$6,4,1)","v":2},{"$f":"VLOOKUP(O37,List!$A$2:$D$6,4,1)","v":2},{"$f":"VLOOKUP(P37,List!$A$2:$D$6,4,1)","v":2},{"$f":"VLOOKUP(Q37,List!$A$2:$D$6,4,1)","v":2},{"$f":"VLOOKUP(R37,List!$A$2:$D$6,4,1)","v":2},{"$f":"VLOOKUP(S37,List!$A$2:$D$6,4,1)","v":2},{"$f":"VLOOKUP(T37,List!$A$2:$D$6,4,1)","v":2},{"$f":"VLOOKUP(U37,List!$A$2:$D$6,4,1)","v":2},{"$f":"VLOOKUP(V37,List!$A$2:$D$6,4,1)","v":2},{"$f":"VLOOKUP(W37,List!$A$2:$D$6,4,1)","v":3},{"$f":"VLOOKUP(X37,List!$A$2:$D$6,4,1)","v":3},{"$f":"VLOOKUP(Y37,List!$A$2:$D$6,4,1)","v":3},{"$f":"VLOOKUP(Z37,List!$A$2:$D$6,4,1)","v":3},3.56,3.84,3.99,4.49,4.75,5.61,6.58,7.23,7.48,7.48,7.87,7.76,6.8,7.4902936410796386,7.2461000803925426,7.3818129661503153,7.5518256995053434,{"$f":"VLOOKUP(AR37,List!$B$2:$D$6,3,1)","v":1},{"$f":"VLOOKUP(AS37,List!$B$2:$D$6,3,1)","v":1},{"$f":"VLOOKUP(AT37,List!$B$2:$D$6,3,1)","v":1},{"$f":"VLOOKUP(AU37,List!$B$2:$D$6,3,1)","v":1},{"$f":"VLOOKUP(AV37,List!$B$2:$D$6,3,1)","v":2},{"$f":"VLOOKUP(AW37,List!$B$2:$D$6,3,1)","v":3},{"$f":"VLOOKUP(AX37,List!$B$2:$D$6,3,1)","v":3},{"$f":"VLOOKUP(AY37,List!$B$2:$D$6,3,1)","v":4},{"$f":"VLOOKUP(AZ37,List!$B$2:$D$6,3,1)","v":4},{"$f":"VLOOKUP(BA37,List!$B$2:$D$6,3,1)","v":4},{"$f":"VLOOKUP(BB37,List!$B$2:$D$6,3,1)","v":4},{"$f":"VLOOKUP(BC37,List!$B$2:$D$6,3,1)","v":4},{"$f":"VLOOKUP(BD37,List!$B$2:$D$6,3,1)","v":3},{"$f":"VLOOKUP(BE37,List!$B$2:$D$6,3,1)","v":4},{"$f":"VLOOKUP(BF37,List!$B$2:$D$6,3,1)","v":4},{"$f":"VLOOKUP(BG37,List!$B$2:$D$6,3,1)","v":4},{"$f":"VLOOKUP(BH37,List!$B$2:$D$6,3,1)","v":4},78929.96617829724,86793.953957388017,95699.955541844363,110371.86496453684,124616.27419377308,149298.762091927,172256.53254221816,190218,200500.69177532248,212185.66167530068,227766.46743052342,225967.13551725601,215260,237668.00869696931,232229.40000250257,235549.41603632964,243457.61679371569,{"$f":"VLOOKUP(BZ37,List!$C$2:$D$6,2,1)","v":1},{"$f":"VLOOKUP(CA37,List!$C$2:$D$6,2,1)","v":1},{"$f":"VLOOKUP(CB37,List!$C$2:$D$6,2,1)","v":2},{"$f":"VLOOKUP(CC37,List!$C$2:$D$6,2,1)","v":2},{"$f":"VLOOKUP(CD37,List!$C$2:$D$6,2,1)","v":2},{"$f":"VLOOKUP(CE37,List!$C$2:$D$6,2,1)","v":2},{"$f":"VLOOKUP(CF37,List!$C$2:$D$6,2,1)","v":3},{"$f":"VLOOKUP(CG37,List!$C$2:$D$6,2,1)","v":3},{"$f":"VLOOKUP(CH37,List!$C$2:$D$6,2,1)","v":3},{"$f":"VLOOKUP(CI37,List!$C$2:$D$6,2,1)","v":3},{"$f":"VLOOKUP(CJ37,List!$C$2:$D$6,2,1)","v":3},{"$f":"VLOOKUP(CK37,List!$C$2:$D$6,2,1)","v":3},{"$f":"VLOOKUP(CL37,List!$C$2:$D$6,2,1)","v":3},{"$f":"VLOOKUP(CM37,List!$C$2:$D$6,2,1)","v":3},{"$f":"VLOOKUP(CN37,List!$C$2:$D$6,2,1)","v":3},{"$f":"VLOOKUP(CO37,List!$C$2:$D$6,2,1)","v":3},{"$f":"VLOOKUP(CP37,List!$C$2:$D$6,2,1)","v":3}]
["East","Hertfordshire",null,11700,18400,10000,19400,1,{"$f":"VLOOKUP(G38,List!$A$2:$D$6,4,1)","v":2},15155.248993479105,15534.130218316084,15922.483473773982,16320.545560618331,16728.55919963379,17146.773179624633,17575.442509115248,18014.828571843129,18465.199286139203,18926.829268292684,18926.829268292684,19400,19885,20382.125,20891.678124999999,21413.970078124996,21949.319330078117,{"$f":"VLOOKUP(J38,List!$A$2:$D$6,4,1)","v":1},{"$f":"VLOOKUP(K38,List!$A$2:$D$6,4,1)","v":1},{"$f":"VLOOKUP(L38,List!$A$2:$D$6,4,1)","v":1},{"$f":"VLOOKUP(M38,List!$A$2:$D$6,4,1)","v":2},{"$f":"VLOOKUP(N38,List!$A$2:$D$6,4,1)","v":2},{"$f":"VLOOKUP(O38,List!$A$2:$D$6,4,1)","v":2},{"$f":"VLOOKUP(P38,List!$A$2:$D$6,4,1)","v":2},{"$f":"VLOOKUP(Q38,List!$A$2:$D$6,4,1)","v":2},{"$f":"VLOOKUP(R38,List!$A$2:$D$6,4,1)","v":2},{"$f":"VLOOKUP(S38,List!$A$2:$D$6,4,1)","v":2},{"$f":"VLOOKUP(T38,List!$A$2:$D$6,4,1)","v":2},{"$f":"VLOOKUP(U38,List!$A$2:$D$6,4,1)","v":2},{"$f":"VLOOKUP(V38,List!$A$2:$D$6,4,1)","v":2},{"$f":"VLOOKUP(W38,List!$A$2:$D$6,4,1)","v":3},{"$f":"VLOOKUP(X38,List!$A$2:$D$6,4,1)","v":3},{"$f":"VLOOKUP(Y38,List!$A$2:$D$6,4,1)","v":3},{"$f":"VLOOKUP(Z38,List!$A$2:$D$6,4,1)","v":3},3.56,3.84,3.99,4.49,4.75,5.61,6.58,7.23,7.48,7.48,7.87,7.76,6.8,7.4902936410796386,7.2461000803925426,7.3818129661503153,7.5518256995053434,{"$f":"VLOOKUP(AR38,List!$B$2:$D$6,3,1)","v":1},{"$f":"VLOOKUP(AS38,List!$B$2:$D$6,3,1)","v":1},{"$f":"VLOOKUP(AT38,List!$B$2:$D$6,3,1)","v":1},{"$f":"VLOOKUP(AU38,List!$B$2:$D$6,3,1)","v":1},{"$f":"VLOOKUP(AV38,List!$B$2:$D$6,3,1)","v":2},{"$f":"VLOOKUP(AW38,List!$B$2:$D$6,3,1)","v":3},{"$f":"VLOOKUP(AX38,List!$B$2:$D$6,3,1)","v":3},{"$f":"VLOOKUP(AY38,List!$B$2:$D$6,3,1)","v":4},{"$f":"VLOOKUP(AZ38,List!$B$2:$D$6,3,1)","v":4},{"$f":"VLOOKUP(BA38,List!$B$2:$D$6,3,1)","v":4},{"$f":"VLOOKUP(BB38,List!$B$2:$D$6,3,1)","v":4},{"$f":"VLOOKUP(BC38,List!$B$2:$D$6,3,1)","v":4},{"$f":"VLOOKUP(BD38,List!$B$2:$D$6,3,1)","v":3},{"$f":"VLOOKUP(BE38,List!$B$2:$D$6,3,1)","v":4},{"$f":"VLOOKUP(BF38,List!$B$2:$D$6,3,1)","v":4},{"$f":"VLOOKUP(BG38,List!$B$2:$D$6,3,1)","v":4},{"$f":"VLOOKUP(BH38,List!$B$2:$D$6,3,1)","v":4},78929.96617829724,86793.953957388017,95699.955541844363,110371.86496453684,124616.27419377308,149298.762091927,172256.53254221816,190218,200500.69177532248,212185.66167530068,227766.46743052342,225967.13551725601,215260,237668.00869696931,232229.40000250257,235549.41603632964,243457.61679371569,{"$f":"VLOOKUP(BZ38,List!$C$2:$D$6,2,1)","v":1},{"$f":"VLOOKUP(CA38,List!$C$2:$D$6,2,1)","v":1},{"$f":"VLOOKUP(CB38,List!$C$2:$D$6,2,1)","v":2},{"$f":"VLOOKUP(CC38,List!$C$2:$D$6,2,1)","v":2},{"$f":"VLOOKUP(CD38,List!$C$2:$D$6,2,1)","v":2},{"$f":"VLOOKUP(CE38,List!$C$2:$D$6,2,1)","v":2},{"$f":"VLOOKUP(CF38,List!$C$2:$D$6,2,1)","v":3},{"$f":"VLOOKUP(CG38,List!$C$2:$D$6,2,1)","v":3},{"$f":"VLOOKUP(CH38,List!$C$2:$D$6,2,1)","v":3},{"$f":"VLOOKUP(CI38,List!$C$2:$D$6,2,1)","v":3},{"$f":"VLOOKUP(CJ38,List!$C$2:$D$6,2,1)","v":3},{"$f":"VLOOKUP(CK38,List!$C$2:$D$6,2,1)","v":3},{"$f":"VLOOKUP(CL38,List!$C$2:$D$6,2,1)","v":3},{"$f":"VLOOKUP(CM38,List!$C$2:$D$6,2,1)","v":3},{"$f":"VLOOKUP(CN38,List!$C$2:$D$6,2,1)","v":3},{"$f":"VLOOKUP(CO38,List!$C$2:$D$6,2,1)","v":3},{"$f":"VLOOKUP(CP38,List!$C$2:$D$6,2,1)","v":3}]
["East","Norfolk",null,11700,18400,10000,19400,1,{"$f":"VLOOKUP(G39,List!$A$2:$D$6,4,1)","v":2},15155.248993479105,15534.130218316084,15922.483473773982,16320.545560618331,16728.55919963379,17146.773179624633,17575.442509115248,18014.828571843129,18465.199286139203,18926.829268292684,18926.829268292684,19400,19885,20382.125,20891.678124999999,21413.970078124996,21949.319330078117,{"$f":"VLOOKUP(J39,List!$A$2:$D$6,4,1)","v":1},{"$f":"VLOOKUP(K39,List!$A$2:$D$6,4,1)","v":1},{"$f":"VLOOKUP(L39,List!$A$2:$D$6,4,1)","v":1},{"$f":"VLOOKUP(M39,List!$A$2:$D$6,4,1)","v":2},{"$f":"VLOOKUP(N39,List!$A$2:$D$6,4,1)","v":2},{"$f":"VLOOKUP(O39,List!$A$2:$D$6,4,1)","v":2},{"$f":"VLOOKUP(P39,List!$A$2:$D$6,4,1)","v":2},{"$f":"VLOOKUP(Q39,List!$A$2:$D$6,4,1)","v":2},{"$f":"VLOOKUP(R39,List!$A$2:$D$6,4,1)","v":2},{"$f":"VLOOKUP(S39,List!$A$2:$D$6,4,1)","v":2},{"$f":"VLOOKUP(T39,List!$A$2:$D$6,4,1)","v":2},{"$f":"VLOOKUP(U39,List!$A$2:$D$6,4,1)","v":2},{"$f":"VLOOKUP(V39,List!$A$2:$D$6,4,1)","v":2},{"$f":"VLOOKUP(W39,List!$A$2:$D$6,4,1)","v":3},{"$f":"VLOOKUP(X39,List!$A$2:$D$6,4,1)","v":3},{"$f":"VLOOKUP(Y39,List!$A$2:$D$6,4,1)","v":3},{"$f":"VLOOKUP(Z39,List!$A$2:$D$6,4,1)","v":3},3.56,3.84,3.99,4.49,4.75,5.61,6.58,7.23,7.48,7.48,7.87,7.76,6.8,7.4902936410796386,7.2461000803925426,7.3818129661503153,7.5518256995053434,{"$f":"VLOOKUP(AR39,List!$B$2:$D$6,3,1)","v":1},{"$f":"VLOOKUP(AS39,List!$B$2:$D$6,3,1)","v":1},{"$f":"VLOOKUP(AT39,List!$B$2:$D$6,3,1)","v":1},{"$f":"VLOOKUP(AU39,List!$B$2:$D$6,3,1)","v":1},{"$f":"VLOOKUP(AV39,List!$B$2:$D$6,3,1)","v":2},{"$f":"VLOOKUP(AW39,List!$B$2:$D$6,3,1)","v":3},{"$f":"VLOOKUP(AX39,List!$B$2:$D$6,3,1)","v":3},{"$f":"VLOOKUP(AY39,List!$B$2:$D$6,3,1)","v":4},{"$f":"VLOOKUP(AZ39,List!$B$2:$D$6,3,1)","v":4},{"$f":"VLOOKUP(BA39,List!$B$2:$D$6,3,1)","v":4},{"$f":"VLOOKUP(BB39,List!$B$2:$D$6,3,1)","v":4},{"$f":"VLOOKUP(BC39,List!$B$2:$D$6,3,1)","v":4},{"$f":"VLOOKUP(BD39,List!$B$2:$D$6,3,1)","v":3},{"$f":"VLOOKUP(BE39,List!$B$2:$D$6,3,1)","v":4},{"$f":"VLOOKUP(BF39,List!$B$2:$D$6,3,1)","v":4},{"$f":"VLOOKUP(BG39,List!$B$2:$D$6,3,1)","v":4},{"$f":"VLOOKUP(BH39,List!$B$2:$D$6,3,1)","v":4},78929.96617829724,86793.953957388017,95699.955541844363,110371.86496453684,124616.27419377308,149298.762091927,172256.53254221816,190218,200500.69177532248,212185.66167530068,227766.46743052342,225967.13551725601,215260,237668.00869696931,232229.40000250257,235549.41603632964,243457.61679371569,{"$f":"VLOOKUP(BZ39,List!$C$2:$D$6,2,1)","v":1},{"$f":"VLOOKUP(CA39,List!$C$2:$D$6,2,1)","v":1},{"$f":"VLOOKUP(CB39,List!$C$2:$D$6,2,1)","v":2},{"$f":"VLOOKUP(CC39,List!$C$2:$D$6,2,1)","v":2},{"$f":"VLOOKUP(CD39,List!$C$2:$D$6,2,1)","v":2},{"$f":"VLOOKUP(CE39,List!$C$2:$D$6,2,1)","v":2},{"$f":"VLOOKUP(CF39,List!$C$2:$D$6,2,1)","v":3},{"$f":"VLOOKUP(CG39,List!$C$2:$D$6,2,1)","v":3},{"$f":"VLOOKUP(CH39,List!$C$2:$D$6,2,1)","v":3},{"$f":"VLOOKUP(CI39,List!$C$2:$D$6,2,1)","v":3},{"$f":"VLOOKUP(CJ39,List!$C$2:$D$6,2,1)","v":3},{"$f":"VLOOKUP(CK39,List!$C$2:$D$6,2,1)","v":3},{"$f":"VLOOKUP(CL39,List!$C$2:$D$6,2,1)","v":3},{"$f":"VLOOKUP(CM39,List!$C$2:$D$6,2,1)","v":3},{"$f":"VLOOKUP(CN39,List!$C$2:$D$6,2,1)","v":3},{"$f":"VLOOKUP(CO39,List!$C$2:$D$6,2,1)","v":3},{"$f":"VLOOKUP(CP39,List!$C$2:$D$6,2,1)","v":3}]
["East","Suffolk",null,11700,18400,10000,19400,1,{"$f":"VLOOKUP(G40,List!$A$2:$D$6,4,1)","v":2},15155.248993479105,15534.130218316084,15922.483473773982,16320.545560618331,16728.55919963379,17146.773179624633,17575.442509115248,18014.828571843129,18465.199286139203,18926.829268292684,18926.829268292684,19400,19885,20382.125,20891.678124999999,21413.970078124996,21949.319330078117,{"$f":"VLOOKUP(J40,List!$A$2:$D$6,4,1)","v":1},{"$f":"VLOOKUP(K40,List!$A$2:$D$6,4,1)","v":1},{"$f":"VLOOKUP(L40,List!$A$2:$D$6,4,1)","v":1},{"$f":"VLOOKUP(M40,List!$A$2:$D$6,4,1)","v":2},{"$f":"VLOOKUP(N40,List!$A$2:$D$6,4,1)","v":2},{"$f":"VLOOKUP(O40,List!$A$2:$D$6,4,1)","v":2},{"$f":"VLOOKUP(P40,List!$A$2:$D$6,4,1)","v":2},{"$f":"VLOOKUP(Q40,List!$A$2:$D$6,4,1)","v":2},{"$f":"VLOOKUP(R40,List!$A$2:$D$6,4,1)","v":2},{"$f":"VLOOKUP(S40,List!$A$2:$D$6,4,1)","v":2},{"$f":"VLOOKUP(T40,List!$A$2:$D$6,4,1)","v":2},{"$f":"VLOOKUP(U40,List!$A$2:$D$6,4,1)","v":2},{"$f":"VLOOKUP(V40,List!$A$2:$D$6,4,1)","v":2},{"$f":"VLOOKUP(W40,List!$A$2:$D$6,4,1)","v":3},{"$f":"VLOOKUP(X40,List!$A$2:$D$6,4,1)","v":3},{"$f":"VLOOKUP(Y40,List!$A$2:$D$6,4,1)","v":3},{"$f":"VLOOKUP(Z40,List!$A$2:$D$6,4,1)","v":3},3.56,3.84,3.99,4.49,4.75,5.61,6.58,7.23,7.48,7.48,7.87,7.76,6.8,7.4902936410796386,7.2461000803925426,7.3818129661503153,7.5518256995053434,{"$f":"VLOOKUP(AR40,List!$B$2:$D$6,3,1)","v":1},{"$f":"VLOOKUP(AS40,List!$B$2:$D$6,3,1)","v":1},{"$f":"VLOOKUP(AT40,List!$B$2:$D$6,3,1)","v":1},{"$f":"VLOOKUP(AU40,List!$B$2:$D$6,3,1)","v":1},{"$f":"VLOOKUP(AV40,List!$B$2:$D$6,3,1)","v":2},{"$f":"VLOOKUP(AW40,List!$B$2:$D$6,3,1)","v":3},{"$f":"VLOOKUP(AX40,List!$B$2:$D$6,3,1)","v":3},{"$f":"VLOOKUP(AY40,List!$B$2:$D$6,3,1)","v":4},{"$f":"VLOOKUP(AZ40,List!$B$2:$D$6,3,1)","v":4},{"$f":"VLOOKUP(BA40,List!$B$2:$D$6,3,1)","v":4},{"$f":"VLOOKUP(BB40,List!$B$2:$D$6,3,1)","v":4},{"$f":"VLOOKUP(BC40,List!$B$2:$D$6,3,1)","v":4},{"$f":"VLOOKUP(BD40,List!$B$2:$D$6,3,1)","v":3},{"$f":"VLOOKUP(BE40,List!$B$2:$D$6,3,1)","v":4},{"$f":"VLOOKUP(BF40,List!$B$2:$D$6,3,1)","v":4},{"$f":"VLOOKUP(BG40,List!$B$2:$D$6,3,1)","v":4},{"$f":"VLOOKUP(BH40,List!$B$2:$D$6,3,1)","v":4},78929.96617829724,86793.953957388017,95699.955541844363,110371.86496453684,124616.27419377308,149298.762091927,172256.53254221816,190218,200500.69177532248,212185.66167530068,227766.46743052342,225967.13551725601,215260,237668.00869696931,232229.40000250257,235549.41603632964,243457.61679371569,{"$f":"VLOOKUP(BZ40,List!$C$2:$D$6,2,1)","v":1},{"$f":"VLOOKUP(CA40,List!$C$2:$D$6,2,1)","v":1},{"$f":"VLOOKUP(CB40,List!$C$2:$D$6,2,1)","v":2},{"$f":"VLOOKUP(CC40,List!$C$2:$D$6,2,1)","v":2},{"$f":"VLOOKUP(CD40,List!$C$2:$D$6,2,1)","v":2},{"$f":"VLOOKUP(CE40,List!$C$2:$D$6,2,1)","v":2},{"$f":"VLOOKUP(CF40,List!$C$2:$D$6,2,1)","v":3},{"$f":"VLOOKUP(CG40,List!$C$2:$D$6,2,1)","v":3},{"$f":"VLOOKUP(CH40,List!$C$2:$D$6,2,1)","v":3},{"$f":"VLOOKUP(CI40,List!$C$2:$D$6,2,1)","v":3},{"$f":"VLOOKUP(CJ40,List!$C$2:$D$6,2,1)","v":3},{"$f":"VLOOKUP(CK40,List!$C$2:$D$6,2,1)","v":3},{"$f":"VLOOKUP(CL40,List!$C$2:$D$6,2,1)","v":3},{"$f":"VLOOKUP(CM40,List!$C$2:$D$6,2,1)","v":3},{"$f":"VLOOKUP(CN40,List!$C$2:$D$6,2,1)","v":3},{"$f":"VLOOKUP(CO40,List!$C$2:$D$6,2,1)","v":3},{"$f":"VLOOKUP(CP40,List!$C$2:$D$6,2,1)","v":3}]
["East Midlands","Derbyshire",null,10300,17000,9460,17900,2,{"$f":"VLOOKUP(G41,List!$A$2:$D$6,4,1)","v":2},13983.451390890516,14333.037675662777,14691.363617554345,15058.647707993203,15435.113900693032,15820.991748210356,16216.516541915616,16621.929455463505,17037.47769185009,17463.414634146342,17463.414634146342,17900,18347.5,18806.1875,19276.342187499999,19758.250742187494,20252.207010742182,{"$f":"VLOOKUP(J41,List!$A$2:$D$6,4,1)","v":1},{"$f":"VLOOKUP(K41,List!$A$2:$D$6,4,1)","v":1},{"$f":"VLOOKUP(L41,List!$A$2:$D$6,4,1)","v":1},{"$f":"VLOOKUP(M41,List!$A$2:$D$6,4,1)","v":1},{"$f":"VLOOKUP(N41,List!$A$2:$D$6,4,1)","v":1},{"$f":"VLOOKUP(O41,List!$A$2:$D$6,4,1)","v":1},{"$f":"VLOOKUP(P41,List!$A$2:$D$6,4,1)","v":2},{"$f":"VLOOKUP(Q41,List!$A$2:$D$6,4,1)","v":2},{"$f":"VLOOKUP(R41,List!$A$2:$D$6,4,1)","v":2},{"$f":"VLOOKUP(S41,List!$A$2:$D$6,4,1)","v":2},{"$f":"VLOOKUP(T41,List!$A$2:$D$6,4,1)","v":2},{"$f":"VLOOKUP(U41,List!$A$2:$D$6,4,1)","v":2},{"$f":"VLOOKUP(V41,List!$A$2:$D$6,4,1)","v":2},{"$f":"VLOOKUP(W41,List!$A$2:$D$6,4,1)","v":2},{"$f":"VLOOKUP(X41,List!$A$2:$D$6,4,1)","v":2},{"$f":"VLOOKUP(Y41,List!$A$2:$D$6,4,1)","v":2},{"$f":"VLOOKUP(Z41,List!$A$2:$D$6,4,1)","v":3},3.14,3.25,3.28,3.48,3.73,4.18,4.95,6.05,6.15,6.13,6.45,6.03,5.46,5.6464492577627636,5.6453611037308216,5.5936814748639652,5.6184284453005855,{"$f":"VLOOKUP(AR41,List!$B$2:$D$6,3,1)","v":1},{"$f":"VLOOKUP(AS41,List!$B$2:$D$6,3,1)","v":1},{"$f":"VLOOKUP(AT41,List!$B$2:$D$6,3,1)","v":1},{"$f":"VLOOKUP(AU41,List!$B$2:$D$6,3,1)","v":1},{"$f":"VLOOKUP(AV41,List!$B$2:$D$6,3,1)","v":1},{"$f":"VLOOKUP(AW41,List!$B$2:$D$6,3,1)","v":1},{"$f":"VLOOKUP(AX41,List!$B$2:$D$6,3,1)","v":2},{"$f":"VLOOKUP(AY41,List!$B$2:$D$6,3,1)","v":3},{"$f":"VLOOKUP(AZ41,List!$B$2:$D$6,3,1)","v":3},{"$f":"VLOOKUP(BA41,List!$B$2:$D$6,3,1)","v":3},{"$f":"VLOOKUP(BB41,List!$B$2:$D$6,3,1)","v":3},{"$f":"VLOOKUP(BC41,List!$B$2:$D$6,3,1)","v":3},{"$f":"VLOOKUP(BD41,List!$B$2:$D$6,3,1)","v":2},{"$f":"VLOOKUP(BE41,List!$B$2:$D$6,3,1)","v":3},{"$f":"VLOOKUP(BF41,List!$B$2:$D$6,3,1)","v":3},{"$f":"VLOOKUP(BG41,List!$B$2:$D$6,3,1)","v":3},{"$f":"VLOOKUP(BH41,List!$B$2:$D$6,3,1)","v":3},60770.835549445597,64771.898011399331,70191.537436593193,76633.34882930397,85243.743395941201,102387.49763338691,125557.28383937317,144792,153732.5370186746,160219.89366457981,168812.92267449776,163292.83452958651,158123,164920.78456609609,160762.37411707669,162438.01727128736,165693.49066263574,{"$f":"VLOOKUP(BZ41,List!$C$2:$D$6,2,1)","v":1},{"$f":"VLOOKUP(CA41,List!$C$2:$D$6,2,1)","v":1},{"$f":"VLOOKUP(CB41,List!$C$2:$D$6,2,1)","v":1},{"$f":"VLOOKUP(CC41,List!$C$2:$D$6,2,1)","v":1},{"$f":"VLOOKUP(CD41,List!$C$2:$D$6,2,1)","v":1},{"$f":"VLOOKUP(CE41,List!$C$2:$D$6,2,1)","v":2},{"$f":"VLOOKUP(CF41,List!$C$2:$D$6,2,1)","v":2},{"$f":"VLOOKUP(CG41,List!$C$2:$D$6,2,1)","v":2},{"$f":"VLOOKUP(CH41,List!$C$2:$D$6,2,1)","v":3},{"$f":"VLOOKUP(CI41,List!$C$2:$D$6,2,1)","v":3},{"$f":"VLOOKUP(CJ41,List!$C$2:$D$6,2,1)","v":3},{"$f":"VLOOKUP(CK41,List!$C$2:$D$6,2,1)","v":3},{"$f":"VLOOKUP(CL41,List!$C$2:$D$6,2,1)","v":3},{"$f":"VLOOKUP(CM41,List!$C$2:$D$6,2,1)","v":3},{"$f":"VLOOKUP(CN41,List!$C$2:$D$6,2,1)","v":3},{"$f":"VLOOKUP(CO41,List!$C$2:$D$6,2,1)","v":3},{"$f":"VLOOKUP(CP41,List!$C$2:$D$6,2,1)","v":3}]
["East Midlands","Leicestershire",null,10300,17000,9460,17900,2,{"$f":"VLOOKUP(G42,List!$A$2:$D$6,4,1)","v":2},13983.451390890516,14333.037675662777,14691.363617554345,15058.647707993203,15435.113900693032,15820.991748210356,16216.516541915616,16621.929455463505,17037.47769185009,17463.414634146342,17463.414634146342,17900,18347.5,18806.1875,19276.342187499999,19758.250742187494,20252.207010742182,{"$f":"VLOOKUP(J42,List!$A$2:$D$6,4,1)","v":1},{"$f":"VLOOKUP(K42,List!$A$2:$D$6,4,1)","v":1},{"$f":"VLOOKUP(L42,List!$A$2:$D$6,4,1)","v":1},{"$f":"VLOOKUP(M42,List!$A$2:$D$6,4,1)","v":1},{"$f":"VLOOKUP(N42,List!$A$2:$D$6,4,1)","v":1},{"$f":"VLOOKUP(O42,List!$A$2:$D$6,4,1)","v":1},{"$f":"VLOOKUP(P42,List!$A$2:$D$6,4,1)","v":2},{"$f":"VLOOKUP(Q42,List!$A$2:$D$6,4,1)","v":2},{"$f":"VLOOKUP(R42,List!$A$2:$D$6,4,1)","v":2},{"$f":"VLOOKUP(S42,List!$A$2:$D$6,4,1)","v":2},{"$f":"VLOOKUP(T42,List!$A$2:$D$6,4,1)","v":2},{"$f":"VLOOKUP(U42,List!$A$2:$D$6,4,1)","v":2},{"$f":"VLOOKUP(V42,List!$A$2:$D$6,4,1)","v":2},{"$f":"VLOOKUP(W42,List!$A$2:$D$6,4,1)","v":2},{"$f":"VLOOKUP(X42,List!$A$2:$D$6,4,1)","v":2},{"$f":"VLOOKUP(Y42,List!$A$2:$D$6,4,1)","v":2},{"$f":"VLOOKUP(Z42,List!$A$2:$D$6,4,1)","v":3},3.14,3.25,3.28,3.48,3.73,4.18,4.95,6.05,6.15,6.13,6.45,6.03,5.46,5.6464492577627636,5.6453611037308216,5.5936814748639652,5.6184284453005855,{"$f":"VLOOKUP(AR42,List!$B$2:$D$6,3,1)","v":1},{"$f":"VLOOKUP(AS42,List!$B$2:$D$6,3,1)","v":1},{"$f":"VLOOKUP(AT42,List!$B$2:$D$6,3,1)","v":1},{"$f":"VLOOKUP(AU42,List!$B$2:$D$6,3,1)","v":1},{"$f":"VLOOKUP(AV42,List!$B$2:$D$6,3,1)","v":1},{"$f":"VLOOKUP(AW42,List!$B$2:$D$6,3,1)","v":1},{"$f":"VLOOKUP(AX42,List!$B$2:$D$6,3,1)","v":2},{"$f":"VLOOKUP(AY42,List!$B$2:$D$6,3,1)","v":3},{"$f":"VLOOKUP(AZ42,List!$B$2:$D$6,3,1)","v":3},{"$f":"VLOOKUP(BA42,List!$B$2:$D$6,3,1)","v":3},{"$f":"VLOOKUP(BB42,List!$B$2:$D$6,3,1)","v":3},{"$f":"VLOOKUP(BC42,List!$B$2:$D$6,3,1)","v":3},{"$f":"VLOOKUP(BD42,List!$B$2:$D$6,3,1)","v":2},{"$f":"VLOOKUP(BE42,List!$B$2:$D$6,3,1)","v":3},{"$f":"VLOOKUP(BF42,List!$B$2:$D$6,3,1)","v":3},{"$f":"VLOOKUP(BG42,List!$B$2:$D$6,3,1)","v":3},{"$f":"VLOOKUP(BH42,List!$B$2:$D$6,3,1)","v":3},60770.835549445597,64771.898011399331,70191.537436593193,76633.34882930397,85243.743395941201,102387.49763338691,125557.28383937317,144792,153732.5370186746,160219.89366457981,168812.92267449776,163292.83452958651,158123,164920.78456609609,160762.37411707669,162438.01727128736,165693.49066263574,{"$f":"VLOOKUP(BZ42,List!$C$2:$D$6,2,1)","v":1},{"$f":"VLOOKUP(CA42,List!$C$2:$D$6,2,1)","v":1},{"$f":"VLOOKUP(CB42,List!$C$2:$D$6,2,1)","v":1},{"$f":"VLOOKUP(CC42,List!$C$2:$D$6,2,1)","v":1},{"$f":"VLOOKUP(CD42,List!$C$2:$D$6,2,1)","v":1},{"$f":"VLOOKUP(CE42,List!$C$2:$D$6,2,1)","v":2},{"$f":"VLOOKUP(CF42,List!$C$2:$D$6,2,1)","v":2},{"$f":"VLOOKUP(CG42,List!$C$2:$D$6,2,1)","v":2},{"$f":"VLOOKUP(CH42,List!$C$2:$D$6,2,1)","v":3},{"$f":"VLOOKUP(CI42,List!$C$2:$D$6,2,1)","v":3},{"$f":"VLOOKUP(CJ42,List!$C$2:$D$6,2,1)","v":3},{"$f":"VLOOKUP(CK42,List!$C$2:$D$6,2,1)","v":3},{"$f":"VLOOKUP(CL42,List!$C$2:$D$6,2,1)","v":3},{"$f":"VLOOKUP(CM42,List!$C$2:$D$6,2,1)","v":3},{"$f":"VLOOKUP(CN42,List!$C$2:$D$6,2,1)","v":3},{"$f":"VLOOKUP(CO42,List!$C$2:$D$6,2,1)","v":3},{"$f":"VLOOKUP(CP42,List!$C$2:$D$6,2,1)","v":3}]
["East Midlands","Lincolnshire",null,10300,17000,9460,17900,2,{"$f":"VLOOKUP(G43,List!$A$2:$D$6,4,1)","v":2},13983.451390890516,14333.037675662777,14691.363617554345,15058.647707993203,15435.113900693032,15820.991748210356,16216.516541915616,16621.929455463505,17037.47769185009,17463.414634146342,17463.414634146342,17900,18347.5,18806.1875,19276.342187499999,19758.250742187494,20252.207010742182,{"$f":"VLOOKUP(J43,List!$A$2:$D$6,4,1)","v":1},{"$f":"VLOOKUP(K43,List!$A$2:$D$6,4,1)","v":1},{"$f":"VLOOKUP(L43,List!$A$2:$D$6,4,1)","v":1},{"$f":"VLOOKUP(M43,List!$A$2:$D$6,4,1)","v":1},{"$f":"VLOOKUP(N43,List!$A$2:$D$6,4,1)","v":1},{"$f":"VLOOKUP(O43,List!$A$2:$D$6,4,1)","v":1},{"$f":"VLOOKUP(P43,List!$A$2:$D$6,4,1)","v":2},{"$f":"VLOOKUP(Q43,List!$A$2:$D$6,4,1)","v":2},{"$f":"VLOOKUP(R43,List!$A$2:$D$6,4,1)","v":2},{"$f":"VLOOKUP(S43,List!$A$2:$D$6,4,1)","v":2},{"$f":"VLOOKUP(T43,List!$A$2:$D$6,4,1)","v":2},{"$f":"VLOOKUP(U43,List!$A$2:$D$6,4,1)","v":2},{"$f":"VLOOKUP(V43,List!$A$2:$D$6,4,1)","v":2},{"$f":"VLOOKUP(W43,List!$A$2:$D$6,4,1)","v":2},{"$f":"VLOOKUP(X43,List!$A$2:$D$6,4,1)","v":2},{"$f":"VLOOKUP(Y43,List!$A$2:$D$6,4,1)","v":2},{"$f":"VLOOKUP(Z43,List!$A$2:$D$6,4,1)","v":3},3.14,3.25,3.28,3.48,3.73,4.18,4.95,6.05,6.15,6.13,6.45,6.03,5.46,5.6464492577627636,5.6453611037308216,5.5936814748639652,5.6184284453005855,{"$f":"VLOOKUP(AR43,List!$B$2:$D$6,3,1)","v":1},{"$f":"VLOOKUP(AS43,List!$B$2:$D$6,3,1)","v":1},{"$f":"VLOOKUP(AT43,List!$B$2:$D$6,3,1)","v":1},{"$f":"VLOOKUP(AU43,List!$B$2:$D$6,3,1)","v":1},{"$f":"VLOOKUP(AV43,List!$B$2:$D$6,3,1)","v":1},{"$f":"VLOOKUP(AW43,List!$B$2:$D$6,3,1)","v":1},{"$f":"VLOOKUP(AX43,List!$B$2:$D$6,3,1)","v":2},{"$f":"VLOOKUP(AY43,List!$B$2:$D$6,3,1)","v":3},{"$f":"VLOOKUP(AZ43,List!$B$2:$D$6,3,1)","v":3},{"$f":"VLOOKUP(BA43,List!$B$2:$D$6,3,1)","v":3},{"$f":"VLOOKUP(BB43,List!$B$2:$D$6,3,1)","v":3},{"$f":"VLOOKUP(BC43,List!$B$2:$D$6,3,1)","v":3},{"$f":"VLOOKUP(BD43,List!$B$2:$D$6,3,1)","v":2},{"$f":"VLOOKUP(BE43,List!$B$2:$D$6,3,1)","v":3},{"$f":"VLOOKUP(BF43,List!$B$2:$D$6,3,1)","v":3},{"$f":"VLOOKUP(BG43,List!$B$2:$D$6,3,1)","v":3},{"$f":"VLOOKUP(BH43,List!$B$2:$D$6,3,1)","v":3},60770.835549445597,64771.898011399331,70191.537436593193,76633.34882930397,85243.743395941201,102387.49763338691,125557.28383937317,144792,153732.5370186746,160219.89366457981,168812.92267449776,163292.83452958651,158123,164920.78456609609,160762.37411707669,162438.01727128736,165693.49066263574,{"$f":"VLOOKUP(BZ43,List!$C$2:$D$6,2,1)","v":1},{"$f":"VLOOKUP(CA43,List!$C$2:$D$6,2,1)","v":1},{"$f":"VLOOKUP(CB43,List!$C$2:$D$6,2,1)","v":1},{"$f":"VLOOKUP(CC43,List!$C$2:$D$6,2,1)","v":1},{"$f":"VLOOKUP(CD43,List!$C$2:$D$6,2,1)","v":1},{"$f":"VLOOKUP(CE43,List!$C$2:$D$6,2,1)","v":2},{"$f":"VLOOKUP(CF43,List!$C$2:$D$6,2,1)","v":2},{"$f":"VLOOKUP(CG43,List!$C$2:$D$6,2,1)","v":2},{"$f":"VLOOKUP(CH43,List!$C$2:$D$6,2,1)","v":3},{"$f":"VLOOKUP(CI43,List!$C$2:$D$6,2,1)","v":3},{"$f":"VLOOKUP(CJ43,List!$C$2:$D$6,2,1)","v":3},{"$f":"VLOOKUP(CK43,List!$C$2:$D$6,2,1)","v":3},{"$f":"VLOOKUP(CL43,List!$C$2:$D$6,2,1)","v":3},{"$f":"VLOOKUP(CM43,List!$C$2:$D$6,2,1)","v":3},{"$f":"VLOOKUP(CN43,List!$C$2:$D$6,2,1)","v":3},{"$f":"VLOOKUP(CO43,List!$C$2:$D$6,2,1)","v":3},{"$f":"VLOOKUP(CP43,List!$C$2:$D$6,2,1)","v":3}]
["East Midlands","Northamptonshire",null,10300,17000,9460,17900,2,{"$f":"VLOOKUP(G44,List!$A$2:$D$6,4,1)","v":2},13983.451390890516,14333.037675662777,14691.363617554345,15058.647707993203,15435.113900693032,15820.991748210356,16216.516541915616,16621.929455463505,17037.47769185009,17463.414634146342,17463.414634146342,17900,18347.5,18806.1875,19276.342187499999,19758.250742187494,20252.207010742182,{"$f":"VLOOKUP(J44,List!$A$2:$D$6,4,1)","v":1},{"$f":"VLOOKUP(K44,List!$A$2:$D$6,4,1)","v":1},{"$f":"VLOOKUP(L44,List!$A$2:$D$6,4,1)","v":1},{"$f":"VLOOKUP(M44,List!$A$2:$D$6,4,1)","v":1},{"$f":"VLOOKUP(N44,List!$A$2:$D$6,4,1)","v":1},{"$f":"VLOOKUP(O44,List!$A$2:$D$6,4,1)","v":1},{"$f":"VLOOKUP(P44,List!$A$2:$D$6,4,1)","v":2},{"$f":"VLOOKUP(Q44,List!$A$2:$D$6,4,1)","v":2},{"$f":"VLOOKUP(R44,List!$A$2:$D$6,4,1)","v":2},{"$f":"VLOOKUP(S44,List!$A$2:$D$6,4,1)","v":2},{"$f":"VLOOKUP(T44,List!$A$2:$D$6,4,1)","v":2},{"$f":"VLOOKUP(U44,List!$A$2:$D$6,4,1)","v":2},{"$f":"VLOOKUP(V44,List!$A$2:$D$6,4,1)","v":2},{"$f":"VLOOKUP(W44,List!$A$2:$D$6,4,1)","v":2},{"$f":"VLOOKUP(X44,List!$A$2:$D$6,4,1)","v":2},{"$f":"VLOOKUP(Y44,List!$A$2:$D$6,4,1)","v":2},{"$f":"VLOOKUP(Z44,List!$A$2:$D$6,4,1)","v":3},3.14,3.25,3.28,3.48,3.73,4.18,4.95,6.05,6.15,6.13,6.45,6.03,5.46,5.6464492577627636,5.6453611037308216,5.5936814748639652,5.6184284453005855,{"$f":"VLOOKUP(AR44,List!$B$2:$D$6,3,1)","v":1},{"$f":"VLOOKUP(AS44,List!$B$2:$D$6,3,1)","v":1},{"$f":"VLOOKUP(AT44,List!$B$2:$D$6,3,1)","v":1},{"$f":"VLOOKUP(AU44,List!$B$2:$D$6,3,1)","v":1},{"$f":"VLOOKUP(AV44,List!$B$2:$D$6,3,1)","v":1},{"$f":"VLOOKUP(AW44,List!$B$2:$D$6,3,1)","v":1},{"$f":"VLOOKUP(AX44,List!$B$2:$D$6,3,1)","v":2},{"$f":"VLOOKUP(AY44,List!$B$2:$D$6,3,1)","v":3},{"$f":"VLOOKUP(AZ44,List!$B$2:$D$6,3,1)","v":3},{"$f":"VLOOKUP(BA44,List!$B$2:$D$6,3,1)","v":3},{"$f":"VLOOKUP(BB44,List!$B$2:$D$6,3,1)","v":3},{"$f":"VLOOKUP(BC44,List!$B$2:$D$6,3,1)","v":3},{"$f":"VLOOKUP(BD44,List!$B$2:$D$6,3,1)","v":2},{"$f":"VLOOKUP(BE44,List!$B$2:$D$6,3,1)","v":3},{"$f":"VLOOKUP(BF44,List!$B$2:$D$6,3,1)","v":3},{"$f":"VLOOKUP(BG44,List!$B$2:$D$6,3,1)","v":3},{"$f":"VLOOKUP(BH44,List!$B$2:$D$6,3,1)","v":3},60770.835549445597,64771.898011399331,70191.537436593193,76633.34882930397,85243.743395941201,102387.49763338691,125557.28383937317,144792,153732.5370186746,160219.89366457981,168812.92267449776,163292.83452958651,158123,164920.78456609609,160762.37411707669,162438.01727128736,165693.49066263574,{"$f":"VLOOKUP(BZ44,List!$C$2:$D$6,2,1)","v":1},{"$f":"VLOOKUP(CA44,List!$C$2:$D$6,2,1)","v":1},{"$f":"VLOOKUP(CB44,List!$C$2:$D$6,2,1)","v":1},{"$f":"VLOOKUP(CC44,List!$C$2:$D$6,2,1)","v":1},{"$f":"VLOOKUP(CD44,List!$C$2:$D$6,2,1)","v":1},{"$f":"VLOOKUP(CE44,List!$C$2:$D$6,2,1)","v":2},{"$f":"VLOOKUP(CF44,List!$C$2:$D$6,2,1)","v":2},{"$f":"VLOOKUP(CG44,List!$C$2:$D$6,2,1)","v":2},{"$f":"VLOOKUP(CH44,List!$C$2:$D$6,2,1)","v":3},{"$f":"VLOOKUP(CI44,List!$C$2:$D$6,2,1)","v":3},{"$f":"VLOOKUP(CJ44,List!$C$2:$D$6,2,1)","v":3},{"$f":"VLOOKUP(CK44,List!$C$2:$D$6,2,1)","v":3},{"$f":"VLOOKUP(CL44,List!$C$2:$D$6,2,1)","v":3},{"$f":"VLOOKUP(CM44,List!$C$2:$D$6,2,1)","v":3},{"$f":"VLOOKUP(CN44,List!$C$2:$D$6,2,1)","v":3},{"$f":"VLOOKUP(CO44,List!$C$2:$D$6,2,1)","v":3},{"$f":"VLOOKUP(CP44,List!$C$2:$D$6,2,1)","v":3}]
["East Midlands","Nottinghamshire",null,10300,17000,9460,17900,2,{"$f":"VLOOKUP(G45,List!$A$2:$D$6,4,1)","v":2},13983.451390890516,14333.037675662777,14691.363617554345,15058.647707993203,15435.113900693032,15820.991748210356,16216.516541915616,16621.929455463505,17037.47769185009,17463.414634146342,17463.414634146342,17900,18347.5,18806.1875,19276.342187499999,19758.250742187494,20252.207010742182,{"$f":"VLOOKUP(J45,List!$A$2:$D$6,4,1)","v":1},{"$f":"VLOOKUP(K45,List!$A$2:$D$6,4,1)","v":1},{"$f":"VLOOKUP(L45,List!$A$2:$D$6,4,1)","v":1},{"$f":"VLOOKUP(M45,List!$A$2:$D$6,4,1)","v":1},{"$f":"VLOOKUP(N45,List!$A$2:$D$6,4,1)","v":1},{"$f":"VLOOKUP(O45,List!$A$2:$D$6,4,1)","v":1},{"$f":"VLOOKUP(P45,List!$A$2:$D$6,4,1)","v":2},{"$f":"VLOOKUP(Q45,List!$A$2:$D$6,4,1)","v":2},{"$f":"VLOOKUP(R45,List!$A$2:$D$6,4,1)","v":2},{"$f":"VLOOKUP(S45,List!$A$2:$D$6,4,1)","v":2},{"$f":"VLOOKUP(T45,List!$A$2:$D$6,4,1)","v":2},{"$f":"VLOOKUP(U45,List!$A$2:$D$6,4,1)","v":2},{"$f":"VLOOKUP(V45,List!$A$2:$D$6,4,1)","v":2},{"$f":"VLOOKUP(W45,List!$A$2:$D$6,4,1)","v":2},{"$f":"VLOOKUP(X45,List!$A$2:$D$6,4,1)","v":2},{"$f":"VLOOKUP(Y45,List!$A$2:$D$6,4,1)","v":2},{"$f":"VLOOKUP(Z45,List!$A$2:$D$6,4,1)","v":3},3.14,3.25,3.28,3.48,3.73,4.18,4.95,6.05,6.15,6.13,6.45,6.03,5.46,5.6464492577627636,5.6453611037308216,5.5936814748639652,5.6184284453005855,{"$f":"VLOOKUP(AR45,List!$B$2:$D$6,3,1)","v":1},{"$f":"VLOOKUP(AS45,List!$B$2:$D$6,3,1)","v":1},{"$f":"VLOOKUP(AT45,List!$B$2:$D$6,3,1)","v":1},{"$f":"VLOOKUP(AU45,List!$B$2:$D$6,3,1)","v":1},{"$f":"VLOOKUP(AV45,List!$B$2:$D$6,3,1)","v":1},{"$f":"VLOOKUP(AW45,List!$B$2:$D$6,3,1)","v":1},{"$f":"VLOOKUP(AX45,List!$B$2:$D$6,3,1)","v":2},{"$f":"VLOOKUP(AY45,List!$B$2:$D$6,3,1)","v":3},{"$f":"VLOOKUP(AZ45,List!$B$2:$D$6,3,1)","v":3},{"$f":"VLOOKUP(BA45,List!$B$2:$D$6,3,1)","v":3},{"$f":"VLOOKUP(BB45,List!$B$2:$D$6,3,1)","v":3},{"$f":"VLOOKUP(BC45,List!$B$2:$D$6,3,1)","v":3},{"$f":"VLOOKUP(BD45,List!$B$2:$D$6,3,1)","v":2},{"$f":"VLOOKUP(BE45,List!$B$2:$D$6,3,1)","v":3},{"$f":"VLOOKUP(BF45,List!$B$2:$D$6,3,1)","v":3},{"$f":"VLOOKUP(BG45,List!$B$2:$D$6,3,1)","v":3},{"$f":"VLOOKUP(BH45,List!$B$2:$D$6,3,1)","v":3},60770.835549445597,64771.898011399331,70191.537436593193,76633.34882930397,85243.743395941201,102387.49763338691,125557.28383937317,144792,153732.5370186746,160219.89366457981,168812.92267449776,163292.83452958651,158123,164920.78456609609,160762.37411707669,162438.01727128736,165693.49066263574,{"$f":"VLOOKUP(BZ45,List!$C$2:$D$6,2,1)","v":1},{"$f":"VLOOKUP(CA45,List!$C$2:$D$6,2,1)","v":1},{"$f":"VLOOKUP(CB45,List!$C$2:$D$6,2,1)","v":1},{"$f":"VLOOKUP(CC45,List!$C$2:$D$6,2,1)","v":1},{"$f":"VLOOKUP(CD45,List!$C$2:$D$6,2,1)","v":1},{"$f":"VLOOKUP(CE45,List!$C$2:$D$6,2,1)","v":2},{"$f":"VLOOKUP(CF45,List!$C$2:$D$6,2,1)","v":2},{"$f":"VLOOKUP(CG45,List!$C$2:$D$6,2,1)","v":2},{"$f":"VLOOKUP(CH45,List!$C$2:$D$6,2,1)","v":3},{"$f":"VLOOKUP(CI45,List!$C$2:$D$6,2,1)","v":3},{"$f":"VLOOKUP(CJ45,List!$C$2:$D$6,2,1)","v":3},{"$f":"VLOOKUP(CK45,List!$C$2:$D$6,2,1)","v":3},{"$f":"VLOOKUP(CL45,List!$C$2:$D$6,2,1)","v":3},{"$f":"VLOOKUP(CM45,List!$C$2:$D$6,2,1)","v":3},{"$f":"VLOOKUP(CN45,List!$C$2:$D$6,2,1)","v":3},{"$f":"VLOOKUP(CO45,List!$C$2:$D$6,2,1)","v":3},{"$f":"VLOOKUP(CP45,List!$C$2:$D$6,2,1)","v":3}]
["East Midlands","Rutland",null,10300,17000,9460,17900,2,{"$f":"VLOOKUP(G46,List!$A$2:$D$6,4,1)","v":2},13983.451390890516,14333.037675662777,14691.363617554345,15058.647707993203,15435.113900693032,15820.991748210356,16216.516541915616,16621.929455463505,17037.47769185009,17463.414634146342,17463.414634146342,17900,18347.5,18806.1875,19276.342187499999,19758.250742187494,20252.207010742182,{"$f":"VLOOKUP(J46,List!$A$2:$D$6,4,1)","v":1},{"$f":"VLOOKUP(K46,List!$A$2:$D$6,4,1)","v":1},{"$f":"VLOOKUP(L46,List!$A$2:$D$6,4,1)","v":1},{"$f":"VLOOKUP(M46,List!$A$2:$D$6,4,1)","v":1},{"$f":"VLOOKUP(N46,List!$A$2:$D$6,4,1)","v":1},{"$f":"VLOOKUP(O46,List!$A$2:$D$6,4,1)","v":1},{"$f":"VLOOKUP(P46,List!$A$2:$D$6,4,1)","v":2},{"$f":"VLOOKUP(Q46,List!$A$2:$D$6,4,1)","v":2},{"$f":"VLOOKUP(R46,List!$A$2:$D$6,4,1)","v":2},{"$f":"VLOOKUP(S46,List!$A$2:$D$6,4,1)","v":2},{"$f":"VLOOKUP(T46,List!$A$2:$D$6,4,1)","v":2},{"$f":"VLOOKUP(U46,List!$A$2:$D$6,4,1)","v":2},{"$f":"VLOOKUP(V46,List!$A$2:$D$6,4,1)","v":2},{"$f":"VLOOKUP(W46,List!$A$2:$D$6,4,1)","v":2},{"$f":"VLOOKUP(X46,List!$A$2:$D$6,4,1)","v":2},{"$f":"VLOOKUP(Y46,List!$A$2:$D$6,4,1)","v":2},{"$f":"VLOOKUP(Z46,List!$A$2:$D$6,4,1)","v":3},3.14,3.25,3.28,3.48,3.73,4.18,4.95,6.05,6.15,6.13,6.45,6.03,5.46,5.6464492577627636,5.6453611037308216,5.5936814748639652,5.6184284453005855,{"$f":"VLOOKUP(AR46,List!$B$2:$D$6,3,1)","v":1},{"$f":"VLOOKUP(AS46,List!$B$2:$D$6,3,1)","v":1},{"$f":"VLOOKUP(AT46,List!$B$2:$D$6,3,1)","v":1},{"$f":"VLOOKUP(AU46,List!$B$2:$D$6,3,1)","v":1},{"$f":"VLOOKUP(AV46,List!$B$2:$D$6,3,1)","v":1},{"$f":"VLOOKUP(AW46,List!$B$2:$D$6,3,1)","v":1},{"$f":"VLOOKUP(AX46,List!$B$2:$D$6,3,1)","v":2},{"$f":"VLOOKUP(AY46,List!$B$2:$D$6,3,1)","v":3},{"$f":"VLOOKUP(AZ46,List!$B$2:$D$6,3,1)","v":3},{"$f":"VLOOKUP(BA46,List!$B$2:$D$6,3,1)","v":3},{"$f":"VLOOKUP(BB46,List!$B$2:$D$6,3,1)","v":3},{"$f":"VLOOKUP(BC46,List!$B$2:$D$6,3,1)","v":3},{"$f":"VLOOKUP(BD46,List!$B$2:$D$6,3,1)","v":2},{"$f":"VLOOKUP(BE46,List!$B$2:$D$6,3,1)","v":3},{"$f":"VLOOKUP(BF46,List!$B$2:$D$6,3,1)","v":3},{"$f":"VLOOKUP(BG46,List!$B$2:$D$6,3,1)","v":3},{"$f":"VLOOKUP(BH46,List!$B$2:$D$6,3,1)","v":3},60770.835549445597,64771.898011399331,70191.537436593193,76633.34882930397,85243.743395941201,102387.49763338691,125557.28383937317,144792,153732.5370186746,160219.89366457981,168812.92267449776,163292.83452958651,158123,164920.78456609609,160762.37411707669,162438.01727128736,165693.49066263574,{"$f":"VLOOKUP(BZ46,List!$C$2:$D$6,2,1)","v":1},{"$f":"VLOOKUP(CA46,List!$C$2:$D$6,2,1)","v":1},{"$f":"VLOOKUP(CB46,List!$C$2:$D$6,2,1)","v":1},{"$f":"VLOOKUP(CC46,List!$C$2:$D$6,2,1)","v":1},{"$f":"VLOOKUP(CD46,List!$C$2:$D$6,2,1)","v":1},{"$f":"VLOOKUP(CE46,List!$C$2:$D$6,2,1)","v":2},{"$f":"VLOOKUP(CF46,List!$C$2:$D$6,2,1)","v":2},{"$f":"VLOOKUP(CG46,List!$C$2:$D$6,2,1)","v":2},{"$f":"VLOOKUP(CH46,List!$C$2:$D$6,2,1)","v":3},{"$f":"VLOOKUP(CI46,List!$C$2:$D$6,2,1)","v":3},{"$f":"VLOOKUP(CJ46,List!$C$2:$D$6,2,1)","v":3},{"$f":"VLOOKUP(CK46,List!$C$2:$D$6,2,1)","v":3},{"$f":"VLOOKUP(CL46,List!$C$2:$D$6,2,1)","v":3},{"$f":"VLOOKUP(CM46,List!$C$2:$D$6,2,1)","v":3},{"$f":"VLOOKUP(CN46,List!$C$2:$D$6,2,1)","v":3},{"$f":"VLOOKUP(CO46,List!$C$2:$D$6,2,1)","v":3},{"$f":"VLOOKUP(CP46,List!$C$2:$D$6,2,1)","v":3}]
["London","Greater London",null,{"$f":"AVERAGE(D2:D34)","v":12865.454545454546},{"$f":"AVERAGE(E2:E34)","v":23006.060606060608},{"$f":"AVERAGE(F2:F34)","v":10162.424242424242},{"$f":"AVERAGE(G2:G34)","v":23378.78787878788},3,{"$f":"VLOOKUP(G47,List!$A$2:$D$6,4,1)","v":4},18263.471725193893,18720.058518323742,19188.059981281829,19667.761480813875,20159.455517834223,20663.441905780077,21180.027953424578,21709.528652260189,22252.26686856669,22808.57354028086,22808.57354028086,23378.78787878788,23963.257575757576,24562.339015151516,25176.3974905303,25805.807427793556,26450.952613488393,{"$f":"VLOOKUP(J47,List!$A$2:$D$6,4,1)","v":2},{"$f":"VLOOKUP(K47,List!$A$2:$D$6,4,1)","v":2},{"$f":"VLOOKUP(L47,List!$A$2:$D$6,4,1)","v":2},{"$f":"VLOOKUP(M47,List!$A$2:$D$6,4,1)","v":2},{"$f":"VLOOKUP(N47,List!$A$2:$D$6,4,1)","v":3},{"$f":"VLOOKUP(O47,List!$A$2:$D$6,4,1)","v":3},{"$f":"VLOOKUP(P47,List!$A$2:$D$6,4,1)","v":3},{"$f":"VLOOKUP(Q47,List!$A$2:$D$6,4,1)","v":3},{"$f":"VLOOKUP(R47,List!$A$2:$D$6,4,1)","v":4},{"$f":"VLOOKUP(S47,List!$A$2:$D$6,4,1)","v":4},{"$f":"VLOOKUP(T47,List!$A$2:$D$6,4,1)","v":4},{"$f":"VLOOKUP(U47,List!$A$2:$D$6,4,1)","v":4},{"$f":"VLOOKUP(V47,List!$A$2:$D$6,4,1)","v":4},{"$f":"VLOOKUP(W47,List!$A$2:$D$6,4,1)","v":4},{"$f":"VLOOKUP(X47,List!$A$2:$D$6,4,1)","v":5},{"$f":"VLOOKUP(Y47,List!$A$2:$D$6,4,1)","v":5},{"$f":"VLOOKUP(Z47,List!$A$2:$D$6,4,1)","v":5},3.98,4.3499999999999996,4.87,5.62,5.99,6.5,7.17,7.67,7.86,8.08,8.17,8.2799999999999994,7.64,8.3857871352987274,8.571617979454297,8.6001777370065646,9.1094840796867018,{"$f":"VLOOKUP(AR47,List!$B$2:$D$6,3,1)","v":1},{"$f":"VLOOKUP(AS47,List!$B$2:$D$6,3,1)","v":1},{"$f":"VLOOKUP(AT47,List!$B$2:$D$6,3,1)","v":2},{"$f":"VLOOKUP(AU47,List!$B$2:$D$6,3,1)","v":3},{"$f":"VLOOKUP(AV47,List!$B$2:$D$6,3,1)","v":3},{"$f":"VLOOKUP(AW47,List!$B$2:$D$6,3,1)","v":3},{"$f":"VLOOKUP(AX47,List!$B$2:$D$6,3,1)","v":4},{"$f":"VLOOKUP(AY47,List!$B$2:$D$6,3,1)","v":4},{"$f":"VLOOKUP(AZ47,List!$B$2:$D$6,3,1)","v":4},{"$f":"VLOOKUP(BA47,List!$B$2:$D$6,3,1)","v":4},{"$f":"VLOOKUP(BB47,List!$B$2:$D$6,3,1)","v":4},{"$f":"VLOOKUP(BC47,List!$B$2:$D$6,3,1)","v":4},{"$f":"VLOOKUP(BD47,List!$B$2:$D$6,3,1)","v":4},{"$f":"VLOOKUP(BE47,List!$B$2:$D$6,3,1)","v":4},{"$f":"VLOOKUP(BF47,List!$B$2:$D$6,3,1)","v":4},{"$f":"VLOOKUP(BG47,List!$B$2:$D$6,3,1)","v":4},{"$f":"VLOOKUP(BH47,List!$B$2:$D$6,3,1)","v":5},121445.82196734063,141804.94868299057,160682.9624869251,194335.73229329844,211027.89062697455,238188.97406010749,259768.11322349688,280280.87878787878,294657.73387564771,320800.50954413606,366038.79459533328,374555.36180561699,359234.90909090912,402226.25132933166,413449.44554319122,437452.80686641828,483745.26081605215,{"$f":"VLOOKUP(BZ47,List!$C$2:$D$6,2,1)","v":2},{"$f":"VLOOKUP(CA47,List!$C$2:$D$6,2,1)","v":2},{"$f":"VLOOKUP(CB47,List!$C$2:$D$6,2,1)","v":3},{"$f":"VLOOKUP(CC47,List!$C$2:$D$6,2,1)","v":3},{"$f":"VLOOKUP(CD47,List!$C$2:$D$6,2,1)","v":3},{"$f":"VLOOKUP(CE47,List!$C$2:$D$6,2,1)","v":3},{"$f":"VLOOKUP(CF47,List!$C$2:$D$6,2,1)","v":4},{"$f":"VLOOKUP(CG47,List!$C$2:$D$6,2,1)","v":4},{"$f":"VLOOKUP(CH47,List!$C$2:$D$6,2,1)","v":4},{"$f":"VLOOKUP(CI47,List!$C$2:$D$6,2,1)","v":4},{"$f":"VLOOKUP(CJ47,List!$C$2:$D$6,2,1)","v":4},{"$f":"VLOOKUP(CK47,List!$C$2:$D$6,2,1)","v":4},{"$f":"VLOOKUP(CL47,List!$C$2:$D$6,2,1)","v":4},{"$f":"VLOOKUP(CM47,List!$C$2:$D$6,2,1)","v":4},{"$f":"VLOOKUP(CN47,List!$C$2:$D$6,2,1)","v":4},{"$f":"VLOOKUP(CO47,List!$C$2:$D$6,2,1)","v":4},{"$f":"VLOOKUP(CP47,List!$C$2:$D$6,2,1)","v":5}]
["North East","County Durham",null,11200,19200,10400,20400,4,{"$f":"VLOOKUP(G48,List!$A$2:$D$6,4,1)","v":3},15936.447395204832,16334.858580084954,16743.230044587075,17161.810795701749,17590.856065594293,18030.62746723415,18481.393153915003,18943.427982762878,19417.013682331944,19902.439024390245,19902.439024390245,20400,20910,21432.75,21968.568749999999,22517.782968749994,23080.727542968743,{"$f":"VLOOKUP(J48,List!$A$2:$D$6,4,1)","v":1},{"$f":"VLOOKUP(K48,List!$A$2:$D$6,4,1)","v":2},{"$f":"VLOOKUP(L48,List!$A$2:$D$6,4,1)","v":2},{"$f":"VLOOKUP(M48,List!$A$2:$D$6,4,1)","v":2},{"$f":"VLOOKUP(N48,List!$A$2:$D$6,4,1)","v":2},{"$f":"VLOOKUP(O48,List!$A$2:$D$6,4,1)","v":2},{"$f":"VLOOKUP(P48,List!$A$2:$D$6,4,1)","v":2},{"$f":"VLOOKUP(Q48,List!$A$2:$D$6,4,1)","v":2},{"$f":"VLOOKUP(R48,List!$A$2:$D$6,4,1)","v":2},{"$f":"VLOOKUP(S48,List!$A$2:$D$6,4,1)","v":2},{"$f":"VLOOKUP(T48,List!$A$2:$D$6,4,1)","v":2},{"$f":"VLOOKUP(U48,List!$A$2:$D$6,4,1)","v":3},{"$f":"VLOOKUP(V48,List!$A$2:$D$6,4,1)","v":3},{"$f":"VLOOKUP(W48,List!$A$2:$D$6,4,1)","v":3},{"$f":"VLOOKUP(X48,List!$A$2:$D$6,4,1)","v":3},{"$f":"VLOOKUP(Y48,List!$A$2:$D$6,4,1)","v":4},{"$f":"VLOOKUP(Z48,List!$A$2:$D$6,4,1)","v":4},2.94,3.01,2.99,2.97,3.02,3.22,3.85,4.66,4.99,5.58,5.69,5.47,5.0999999999999996,5.1902384590182011,4.9928741809423087,5.0460451621042006,4.9825610363726955,{"$f":"VLOOKUP(AR48,List!$B$2:$D$6,3,1)","v":1},{"$f":"VLOOKUP(AS48,List!$B$2:$D$6,3,1)","v":1},{"$f":"VLOOKUP(AT48,List!$B$2:$D$6,3,1)","v":1},{"$f":"VLOOKUP(AU48,List!$B$2:$D$6,3,1)","v":1},{"$f":"VLOOKUP(AV48,List!$B$2:$D$6,3,1)","v":1},{"$f":"VLOOKUP(AW48,List!$B$2:$D$6,3,1)","v":1},{"$f":"VLOOKUP(AX48,List!$B$2:$D$6,3,1)","v":1},{"$f":"VLOOKUP(AY48,List!$B$2:$D$6,3,1)","v":2},{"$f":"VLOOKUP(AZ48,List!$B$2:$D$6,3,1)","v":2},{"$f":"VLOOKUP(BA48,List!$B$2:$D$6,3,1)","v":3},{"$f":"VLOOKUP(BB48,List!$B$2:$D$6,3,1)","v":3},{"$f":"VLOOKUP(BC48,List!$B$2:$D$6,3,1)","v":2},{"$f":"VLOOKUP(BD48,List!$B$2:$D$6,3,1)","v":2},{"$f":"VLOOKUP(BE48,List!$B$2:$D$6,3,1)","v":2},{"$f":"VLOOKUP(BF48,List!$B$2:$D$6,3,1)","v":2},{"$f":"VLOOKUP(BG48,List!$B$2:$D$6,3,1)","v":2},{"$f":"VLOOKUP(BH48,List!$B$2:$D$6,3,1)","v":2},54430.647353906141,56748.088690068696,59397.309076475256,61983.987644063825,66239.180316863582,76186.083500677967,94413.519158463227,115297,126128.90602500948,136511.81534643154,142217.7786333657,141673.96200968119,140079,144121.13957987839,136607.78098198585,139047.6945472979,140212.54852634645,{"$f":"VLOOKUP(BZ48,List!$C$2:$D$6,2,1)","v":1},{"$f":"VLOOKUP(CA48,List!$C$2:$D$6,2,1)","v":1},{"$f":"VLOOKUP(CB48,List!$C$2:$D$6,2,1)","v":1},{"$f":"VLOOKUP(CC48,List!$C$2:$D$6,2,1)","v":1},{"$f":"VLOOKUP(CD48,List!$C$2:$D$6,2,1)","v":1},{"$f":"VLOOKUP(CE48,List!$C$2:$D$6,2,1)","v":1},{"$f":"VLOOKUP(CF48,List!$C$2:$D$6,2,1)","v":2},{"$f":"VLOOKUP(CG48,List!$C$2:$D$6,2,1)","v":2},{"$f":"VLOOKUP(CH48,List!$C$2:$D$6,2,1)","v":2},{"$f":"VLOOKUP(CI48,List!$C$2:$D$6,2,1)","v":2},{"$f":"VLOOKUP(CJ48,List!$C$2:$D$6,2,1)","v":2},{"$f":"VLOOKUP(CK48,List!$C$2:$D$6,2,1)","v":2},{"$f":"VLOOKUP(CL48,List!$C$2:$D$6,2,1)","v":2},{"$f":"VLOOKUP(CM48,List!$C$2:$D$6,2,1)","v":2},{"$f":"VLOOKUP(CN48,List!$C$2:$D$6,2,1)","v":2},{"$f":"VLOOKUP(CO48,List!$C$2:$D$6,2,1)","v":2},{"$f":"VLOOKUP(CP48,List!$C$2:$D$6,2,1)","v":2}]
["North East","Northumberland",null,11200,19200,10400,20400,4,{"$f":"VLOOKUP(G49,List!$A$2:$D$6,4,1)","v":3},15936.447395204832,16334.858580084954,16743.230044587075,17161.810795701749,17590.856065594293,18030.62746723415,18481.393153915003,18943.427982762878,19417.013682331944,19902.439024390245,19902.439024390245,20400,20910,21432.75,21968.568749999999,22517.782968749994,23080.727542968743,{"$f":"VLOOKUP(J49,List!$A$2:$D$6,4,1)","v":1},{"$f":"VLOOKUP(K49,List!$A$2:$D$6,4,1)","v":2},{"$f":"VLOOKUP(L49,List!$A$2:$D$6,4,1)","v":2},{"$f":"VLOOKUP(M49,List!$A$2:$D$6,4,1)","v":2},{"$f":"VLOOKUP(N49,List!$A$2:$D$6,4,1)","v":2},{"$f":"VLOOKUP(O49,List!$A$2:$D$6,4,1)","v":2},{"$f":"VLOOKUP(P49,List!$A$2:$D$6,4,1)","v":2},{"$f":"VLOOKUP(Q49,List!$A$2:$D$6,4,1)","v":2},{"$f":"VLOOKUP(R49,List!$A$2:$D$6,4,1)","v":2},{"$f":"VLOOKUP(S49,List!$A$2:$D$6,4,1)","v":2},{"$f":"VLOOKUP(T49,List!$A$2:$D$6,4,1)","v":2},{"$f":"VLOOKUP(U49,List!$A$2:$D$6,4,1)","v":3},{"$f":"VLOOKUP(V49,List!$A$2:$D$6,4,1)","v":3},{"$f":"VLOOKUP(W49,List!$A$2:$D$6,4,1)","v":3},{"$f":"VLOOKUP(X49,List!$A$2:$D$6,4,1)","v":3},{"$f":"VLOOKUP(Y49,List!$A$2:$D$6,4,1)","v":4},{"$f":"VLOOKUP(Z49,List!$A$2:$D$6,4,1)","v":4},2.94,3.01,2.99,2.97,3.02,3.22,3.85,4.66,4.99,5.58,5.69,5.47,5.0999999999999996,5.1902384590182011,4.9928741809423087,5.0460451621042006,4.9825610363726955,{"$f":"VLOOKUP(AR49,List!$B$2:$D$6,3,1)","v":1},{"$f":"VLOOKUP(AS49,List!$B$2:$D$6,3,1)","v":1},{"$f":"VLOOKUP(AT49,List!$B$2:$D$6,3,1)","v":1},{"$f":"VLOOKUP(AU49,List!$B$2:$D$6,3,1)","v":1},{"$f":"VLOOKUP(AV49,List!$B$2:$D$6,3,1)","v":1},{"$f":"VLOOKUP(AW49,List!$B$2:$D$6,3,1)","v":1},{"$f":"VLOOKUP(AX49,List!$B$2:$D$6,3,1)","v":1},{"$f":"VLOOKUP(AY49,List!$B$2:$D$6,3,1)","v":2},{"$f":"VLOOKUP(AZ49,List!$B$2:$D$6,3,1)","v":2},{"$f":"VLOOKUP(BA49,List!$B$2:$D$6,3,1)","v":3},{"$f":"VLOOKUP(BB49,List!$B$2:$D$6,3,1)","v":3},{"$f":"VLOOKUP(BC49,List!$B$2:$D$6,3,1)","v":2},{"$f":"VLOOKUP(BD49,List!$B$2:$D$6,3,1)","v":2},{"$f":"VLOOKUP(BE49,List!$B$2:$D$6,3,1)","v":2},{"$f":"VLOOKUP(BF49,List!$B$2:$D$6,3,1)","v":2},{"$f":"VLOOKUP(BG49,List!$B$2:$D$6,3,1)","v":2},{"$f":"VLOOKUP(BH49,List!$B$2:$D$6,3,1)","v":2},54430.647353906141,56748.088690068696,59397.309076475256,61983.987644063825,66239.180316863582,76186.083500677967,94413.519158463227,115297,126128.90602500948,136511.81534643154,142217.7786333657,141673.96200968119,140079,144121.13957987839,136607.78098198585,139047.6945472979,140212.54852634645,{"$f":"VLOOKUP(BZ49,List!$C$2:$D$6,2,1)","v":1},{"$f":"VLOOKUP(CA49,List!$C$2:$D$6,2,1)","v":1},{"$f":"VLOOKUP(CB49,List!$C$2:$D$6,2,1)","v":1},{"$f":"VLOOKUP(CC49,List!$C$2:$D$6,2,1)","v":1},{"$f":"VLOOKUP(CD49,List!$C$2:$D$6,2,1)","v":1},{"$f":"VLOOKUP(CE49,List!$C$2:$D$6,2,1)","v":1},{"$f":"VLOOKUP(CF49,List!$C$2:$D$6,2,1)","v":2},{"$f":"VLOOKUP(CG49,List!$C$2:$D$6,2,1)","v":2},{"$f":"VLOOKUP(CH49,List!$C$2:$D$6,2,1)","v":2},{"$f":"VLOOKUP(CI49,List!$C$2:$D$6,2,1)","v":2},{"$f":"VLOOKUP(CJ49,List!$C$2:$D$6,2,1)","v":2},{"$f":"VLOOKUP(CK49,List!$C$2:$D$6,2,1)","v":2},{"$f":"VLOOKUP(CL49,List!$C$2:$D$6,2,1)","v":2},{"$f":"VLOOKUP(CM49,List!$C$2:$D$6,2,1)","v":2},{"$f":"VLOOKUP(CN49,List!$C$2:$D$6,2,1)","v":2},{"$f":"VLOOKUP(CO49,List!$C$2:$D$6,2,1)","v":2},{"$f":"VLOOKUP(CP49,List!$C$2:$D$6,2,1)","v":2}]
["North East","Tyne and Wear",null,11200,19200,10400,20400,4,{"$f":"VLOOKUP(G50,List!$A$2:$D$6,4,1)","v":3},15936.447395204832,16334.858580084954,16743.230044587075,17161.810795701749,17590.856065594293,18030.62746723415,18481.393153915003,18943.427982762878,19417.013682331944,19902.439024390245,19902.439024390245,20400,20910,21432.75,21968.568749999999,22517.782968749994,23080.727542968743,{"$f":"VLOOKUP(J50,List!$A$2:$D$6,4,1)","v":1},{"$f":"VLOOKUP(K50,List!$A$2:$D$6,4,1)","v":2},{"$f":"VLOOKUP(L50,List!$A$2:$D$6,4,1)","v":2},{"$f":"VLOOKUP(M50,List!$A$2:$D$6,4,1)","v":2},{"$f":"VLOOKUP(N50,List!$A$2:$D$6,4,1)","v":2},{"$f":"VLOOKUP(O50,List!$A$2:$D$6,4,1)","v":2},{"$f":"VLOOKUP(P50,List!$A$2:$D$6,4,1)","v":2},{"$f":"VLOOKUP(Q50,List!$A$2:$D$6,4,1)","v":2},{"$f":"VLOOKUP(R50,List!$A$2:$D$6,4,1)","v":2},{"$f":"VLOOKUP(S50,List!$A$2:$D$6,4,1)","v":2},{"$f":"VLOOKUP(T50,List!$A$2:$D$6,4,1)","v":2},{"$f":"VLOOKUP(U50,List!$A$2:$D$6,4,1)","v":3},{"$f":"VLOOKUP(V50,List!$A$2:$D$6,4,1)","v":3},{"$f":"VLOOKUP(W50,List!$A$2:$D$6,4,1)","v":3},{"$f":"VLOOKUP(X50,List!$A$2:$D$6,4,1)","v":3},{"$f":"VLOOKUP(Y50,List!$A$2:$D$6,4,1)","v":4},{"$f":"VLOOKUP(Z50,List!$A$2:$D$6,4,1)","v":4},2.94,3.01,2.99,2.97,3.02,3.22,3.85,4.66,4.99,5.58,5.69,5.47,5.0999999999999996,5.1902384590182011,4.9928741809423087,5.0460451621042006,4.9825610363726955,{"$f":"VLOOKUP(AR50,List!$B$2:$D$6,3,1)","v":1},{"$f":"VLOOKUP(AS50,List!$B$2:$D$6,3,1)","v":1},{"$f":"VLOOKUP(AT50,List!$B$2:$D$6,3,1)","v":1},{"$f":"VLOOKUP(AU50,List!$B$2:$D$6,3,1)","v":1},{"$f":"VLOOKUP(AV50,List!$B$2:$D$6,3,1)","v":1},{"$f":"VLOOKUP(AW50,List!$B$2:$D$6,3,1)","v":1},{"$f":"VLOOKUP(AX50,List!$B$2:$D$6,3,1)","v":1},{"$f":"VLOOKUP(AY50,List!$B$2:$D$6,3,1)","v":2},{"$f":"VLOOKUP(AZ50,List!$B$2:$D$6,3,1)","v":2},{"$f":"VLOOKUP(BA50,List!$B$2:$D$6,3,1)","v":3},{"$f":"VLOOKUP(BB50,List!$B$2:$D$6,3,1)","v":3},{"$f":"VLOOKUP(BC50,List!$B$2:$D$6,3,1)","v":2},{"$f":"VLOOKUP(BD50,List!$B$2:$D$6,3,1)","v":2},{"$f":"VLOOKUP(BE50,List!$B$2:$D$6,3,1)","v":2},{"$f":"VLOOKUP(BF50,List!$B$2:$D$6,3,1)","v":2},{"$f":"VLOOKUP(BG50,List!$B$2:$D$6,3,1)","v":2},{"$f":"VLOOKUP(BH50,List!$B$2:$D$6,3,1)","v":2},54430.647353906141,56748.088690068696,59397.309076475256,61983.987644063825,66239.180316863582,76186.083500677967,94413.519158463227,115297,126128.90602500948,136511.81534643154,142217.7786333657,141673.96200968119,140079,144121.13957987839,136607.78098198585,139047.6945472979,140212.54852634645,{"$f":"VLOOKUP(BZ50,List!$C$2:$D$6,2,1)","v":1},{"$f":"VLOOKUP(CA50,List!$C$2:$D$6,2,1)","v":1},{"$f":"VLOOKUP(CB50,List!$C$2:$D$6,2,1)","v":1},{"$f":"VLOOKUP(CC50,List!$C$2:$D$6,2,1)","v":1},{"$f":"VLOOKUP(CD50,List!$C$2:$D$6,2,1)","v":1},{"$f":"VLOOKUP(CE50,List!$C$2:$D$6,2,1)","v":1},{"$f":"VLOOKUP(CF50,List!$C$2:$D$6,2,1)","v":2},{"$f":"VLOOKUP(CG50,List!$C$2:$D$6,2,1)","v":2},{"$f":"VLOOKUP(CH50,List!$C$2:$D$6,2,1)","v":2},{"$f":"VLOOKUP(CI50,List!$C$2:$D$6,2,1)","v":2},{"$f":"VLOOKUP(CJ50,List!$C$2:$D$6,2,1)","v":2},{"$f":"VLOOKUP(CK50,List!$C$2:$D$6,2,1)","v":2},{"$f":"VLOOKUP(CL50,List!$C$2:$D$6,2,1)","v":2},{"$f":"VLOOKUP(CM50,List!$C$2:$D$6,2,1)","v":2},{"$f":"VLOOKUP(CN50,List!$C$2:$D$6,2,1)","v":2},{"$f":"VLOOKUP(CO50,List!$C$2:$D$6,2,1)","v":2},{"$f":"VLOOKUP(CP50,List!$C$2:$D$6,2,1)","v":2}]
["North West","Cheshire West and Chester",null,9560,16700,9600,17400,5,{"$f":"VLOOKUP(G51,List!$A$2:$D$6,4,1)","v":2},13592.852190027652,13932.673494778343,14280.9903321478,14638.015090451492,15003.96546771278,15379.064604405597,15763.541219515739,16157.629750003631,16561.570493753719,16975.609756097561,16975.609756097561,17400,17835,18280.875,18737.896874999999,19206.344296874995,19686.502904296867,{"$f":"VLOOKUP(J51,List!$A$2:$D$6,4,1)","v":1},{"$f":"VLOOKUP(K51,List!$A$2:$D$6,4,1)","v":1},{"$f":"VLOOKUP(L51,List!$A$2:$D$6,4,1)","v":1},{"$f":"VLOOKUP(M51,List!$A$2:$D$6,4,1)","v":1},{"$f":"VLOOKUP(N51,List!$A$2:$D$6,4,1)","v":1},{"$f":"VLOOKUP(O51,List!$A$2:$D$6,4,1)","v":1},{"$f":"VLOOKUP(P51,List!$A$2:$D$6,4,1)","v":1},{"$f":"VLOOKUP(Q51,List!$A$2:$D$6,4,1)","v":2},{"$f":"VLOOKUP(R51,List!$A$2:$D$6,4,1)","v":2},{"$f":"VLOOKUP(S51,List!$A$2:$D$6,4,1)","v":2},{"$f":"VLOOKUP(T51,List!$A$2:$D$6,4,1)","v":2},{"$f":"VLOOKUP(U51,List!$A$2:$D$6,4,1)","v":2},{"$f":"VLOOKUP(V51,List!$A$2:$D$6,4,1)","v":2},{"$f":"VLOOKUP(W51,List!$A$2:$D$6,4,1)","v":2},{"$f":"VLOOKUP(X51,List!$A$2:$D$6,4,1)","v":2},{"$f":"VLOOKUP(Y51,List!$A$2:$D$6,4,1)","v":2},{"$f":"VLOOKUP(Z51,List!$A$2:$D$6,4,1)","v":2},3.01,3.01,3.04,3.09,3.19,3.43,3.94,4.84,5.38,5.68,5.81,5.54,5.17,5.2335228689556663,5.2135352312091152,5.2839084664471816,5.1799019803163722,{"$f":"VLOOKUP(AR51,List!$B$2:$D$6,3,1)","v":1},{"$f":"VLOOKUP(AS51,List!$B$2:$D$6,3,1)","v":1},{"$f":"VLOOKUP(AT51,List!$B$2:$D$6,3,1)","v":1},{"$f":"VLOOKUP(AU51,List!$B$2:$D$6,3,1)","v":1},{"$f":"VLOOKUP(AV51,List!$B$2:$D$6,3,1)","v":1},{"$f":"VLOOKUP(AW51,List!$B$2:$D$6,3,1)","v":1},{"$f":"VLOOKUP(AX51,List!$B$2:$D$6,3,1)","v":1},{"$f":"VLOOKUP(AY51,List!$B$2:$D$6,3,1)","v":2},{"$f":"VLOOKUP(AZ51,List!$B$2:$D$6,3,1)","v":2},{"$f":"VLOOKUP(BA51,List!$B$2:$D$6,3,1)","v":3},{"$f":"VLOOKUP(BB51,List!$B$2:$D$6,3,1)","v":3},{"$f":"VLOOKUP(BC51,List!$B$2:$D$6,3,1)","v":3},{"$f":"VLOOKUP(BD51,List!$B$2:$D$6,3,1)","v":2},{"$f":"VLOOKUP(BE51,List!$B$2:$D$6,3,1)","v":2},{"$f":"VLOOKUP(BF51,List!$B$2:$D$6,3,1)","v":2},{"$f":"VLOOKUP(BG51,List!$B$2:$D$6,3,1)","v":2},{"$f":"VLOOKUP(BH51,List!$B$2:$D$6,3,1)","v":2},58840.601812379726,61570.384499294094,66289.179217725061,70721.329707617639,77386.294077673898,88382.455998408375,104450.47451395122,126424,137804.12542536165,150045.60868163951,159892.26515030611,156810.56982445443,154436,159805.12795836898,154745.40456551558,155736.77020323847,158348.20493715958,{"$f":"VLOOKUP(BZ51,List!$C$2:$D$6,2,1)","v":1},{"$f":"VLOOKUP(CA51,List!$C$2:$D$6,2,1)","v":1},{"$f":"VLOOKUP(CB51,List!$C$2:$D$6,2,1)","v":1},{"$f":"VLOOKUP(CC51,List!$C$2:$D$6,2,1)","v":1},{"$f":"VLOOKUP(CD51,List!$C$2:$D$6,2,1)","v":1},{"$f":"VLOOKUP(CE51,List!$C$2:$D$6,2,1)","v":1},{"$f":"VLOOKUP(CF51,List!$C$2:$D$6,2,1)","v":2},{"$f":"VLOOKUP(CG51,List!$C$2:$D$6,2,1)","v":2},{"$f":"VLOOKUP(CH51,List!$C$2:$D$6,2,1)","v":2},{"$f":"VLOOKUP(CI51,List!$C$2:$D$6,2,1)","v":3},{"$f":"VLOOKUP(CJ51,List!$C$2:$D$6,2,1)","v":3},{"$f":"VLOOKUP(CK51,List!$C$2:$D$6,2,1)","v":3},{"$f":"VLOOKUP(CL51,List!$C$2:$D$6,2,1)","v":3},{"$f":"VLOOKUP(CM51,List!$C$2:$D$6,2,1)","v":3},{"$f":"VLOOKUP(CN51,List!$C$2:$D$6,2,1)","v":3},{"$f":"VLOOKUP(CO51,List!$C$2:$D$6,2,1)","v":3},{"$f":"VLOOKUP(CP51,List!$C$2:$D$6,2,1)","v":3}]
["North West","Cumbria",null,9560,16700,9600,17400,5,{"$f":"VLOOKUP(G52,List!$A$2:$D$6,4,1)","v":2},13592.852190027652,13932.673494778343,14280.9903321478,14638.015090451492,15003.96546771278,15379.064604405597,15763.541219515739,16157.629750003631,16561.570493753719,16975.609756097561,16975.609756097561,17400,17835,18280.875,18737.896874999999,19206.344296874995,19686.502904296867,{"$f":"VLOOKUP(J52,List!$A$2:$D$6,4,1)","v":1},{"$f":"VLOOKUP(K52,List!$A$2:$D$6,4,1)","v":1},{"$f":"VLOOKUP(L52,List!$A$2:$D$6,4,1)","v":1},{"$f":"VLOOKUP(M52,List!$A$2:$D$6,4,1)","v":1},{"$f":"VLOOKUP(N52,List!$A$2:$D$6,4,1)","v":1},{"$f":"VLOOKUP(O52,List!$A$2:$D$6,4,1)","v":1},{"$f":"VLOOKUP(P52,List!$A$2:$D$6,4,1)","v":1},{"$f":"VLOOKUP(Q52,List!$A$2:$D$6,4,1)","v":2},{"$f":"VLOOKUP(R52,List!$A$2:$D$6,4,1)","v":2},{"$f":"VLOOKUP(S52,List!$A$2:$D$6,4,1)","v":2},{"$f":"VLOOKUP(T52,List!$A$2:$D$6,4,1)","v":2},{"$f":"VLOOKUP(U52,List!$A$2:$D$6,4,1)","v":2},{"$f":"VLOOKUP(V52,List!$A$2:$D$6,4,1)","v":2},{"$f":"VLOOKUP(W52,List!$A$2:$D$6,4,1)","v":2},{"$f":"VLOOKUP(X52,List!$A$2:$D$6,4,1)","v":2},{"$f":"VLOOKUP(Y52,List!$A$2:$D$6,4,1)","v":2},{"$f":"VLOOKUP(Z52,List!$A$2:$D$6,4,1)","v":2},3.01,3.01,3.04,3.09,3.19,3.43,3.94,4.84,5.38,5.68,5.81,5.54,5.17,5.2335228689556663,5.2135352312091152,5.2839084664471816,5.1799019803163722,{"$f":"VLOOKUP(AR52,List!$B$2:$D$6,3,1)","v":1},{"$f":"VLOOKUP(AS52,List!$B$2:$D$6,3,1)","v":1},{"$f":"VLOOKUP(AT52,List!$B$2:$D$6,3,1)","v":1},{"$f":"VLOOKUP(AU52,List!$B$2:$D$6,3,1)","v":1},{"$f":"VLOOKUP(AV52,List!$B$2:$D$6,3,1)","v":1},{"$f":"VLOOKUP(AW52,List!$B$2:$D$6,3,1)","v":1},{"$f":"VLOOKUP(AX52,List!$B$2:$D$6,3,1)","v":1},{"$f":"VLOOKUP(AY52,List!$B$2:$D$6,3,1)","v":2},{"$f":"VLOOKUP(AZ52,List!$B$2:$D$6,3,1)","v":2},{"$f":"VLOOKUP(BA52,List!$B$2:$D$6,3,1)","v":3},{"$f":"VLOOKUP(BB52,List!$B$2:$D$6,3,1)","v":3},{"$f":"VLOOKUP(BC52,List!$B$2:$D$6,3,1)","v":3},{"$f":"VLOOKUP(BD52,List!$B$2:$D$6,3,1)","v":2},{"$f":"VLOOKUP(BE52,List!$B$2:$D$6,3,1)","v":2},{"$f":"VLOOKUP(BF52,List!$B$2:$D$6,3,1)","v":2},{"$f":"VLOOKUP(BG52,List!$B$2:$D$6,3,1)","v":2},{"$f":"VLOOKUP(BH52,List!$B$2:$D$6,3,1)","v":2},58840.601812379726,61570.384499294094,66289.179217725061,70721.329707617639,77386.294077673898,88382.455998408375,104450.47451395122,126424,137804.12542536165,150045.60868163951,159892.26515030611,156810.56982445443,154436,159805.12795836898,154745.40456551558,155736.77020323847,158348.20493715958,{"$f":"VLOOKUP(BZ52,List!$C$2:$D$6,2,1)","v":1},{"$f":"VLOOKUP(CA52,List!$C$2:$D$6,2,1)","v":1},{"$f":"VLOOKUP(CB52,List!$C$2:$D$6,2,1)","v":1},{"$f":"VLOOKUP(CC52,List!$C$2:$D$6,2,1)","v":1},{"$f":"VLOOKUP(CD52,List!$C$2:$D$6,2,1)","v":1},{"$f":"VLOOKUP(CE52,List!$C$2:$D$6,2,1)","v":1},{"$f":"VLOOKUP(CF52,List!$C$2:$D$6,2,1)","v":2},{"$f":"VLOOKUP(CG52,List!$C$2:$D$6,2,1)","v":2},{"$f":"VLOOKUP(CH52,List!$C$2:$D$6,2,1)","v":2},{"$f":"VLOOKUP(CI52,List!$C$2:$D$6,2,1)","v":3},{"$f":"VLOOKUP(CJ52,List!$C$2:$D$6,2,1)","v":3},{"$f":"VLOOKUP(CK52,List!$C$2:$D$6,2,1)","v":3},{"$f":"VLOOKUP(CL52,List!$C$2:$D$6,2,1)","v":3},{"$f":"VLOOKUP(CM52,List!$C$2:$D$6,2,1)","v":3},{"$f":"VLOOKUP(CN52,List!$C$2:$D$6,2,1)","v":3},{"$f":"VLOOKUP(CO52,List!$C$2:$D$6,2,1)","v":3},{"$f":"VLOOKUP(CP52,List!$C$2:$D$6,2,1)","v":3}]
["North West","Greater Manchester",null,9560,16700,9600,17400,5,{"$f":"VLOOKUP(G53,List!$A$2:$D$6,4,1)","v":2},13592.852190027652,13932.673494778343,14280.9903321478,14638.015090451492,15003.96546771278,15379.064604405597,15763.541219515739,16157.629750003631,16561.570493753719,16975.609756097561,16975.609756097561,17400,17835,18280.875,18737.896874999999,19206.344296874995,19686.502904296867,{"$f":"VLOOKUP(J53,List!$A$2:$D$6,4,1)","v":1},{"$f":"VLOOKUP(K53,List!$A$2:$D$6,4,1)","v":1},{"$f":"VLOOKUP(L53,List!$A$2:$D$6,4,1)","v":1},{"$f":"VLOOKUP(M53,List!$A$2:$D$6,4,1)","v":1},{"$f":"VLOOKUP(N53,List!$A$2:$D$6,4,1)","v":1},{"$f":"VLOOKUP(O53,List!$A$2:$D$6,4,1)","v":1},{"$f":"VLOOKUP(P53,List!$A$2:$D$6,4,1)","v":1},{"$f":"VLOOKUP(Q53,List!$A$2:$D$6,4,1)","v":2},{"$f":"VLOOKUP(R53,List!$A$2:$D$6,4,1)","v":2},{"$f":"VLOOKUP(S53,List!$A$2:$D$6,4,1)","v":2},{"$f":"VLOOKUP(T53,List!$A$2:$D$6,4,1)","v":2},{"$f":"VLOOKUP(U53,List!$A$2:$D$6,4,1)","v":2},{"$f":"VLOOKUP(V53,List!$A$2:$D$6,4,1)","v":2},{"$f":"VLOOKUP(W53,List!$A$2:$D$6,4,1)","v":2},{"$f":"VLOOKUP(X53,List!$A$2:$D$6,4,1)","v":2},{"$f":"VLOOKUP(Y53,List!$A$2:$D$6,4,1)","v":2},{"$f":"VLOOKUP(Z53,List!$A$2:$D$6,4,1)","v":2},3.01,3.01,3.04,3.09,3.19,3.43,3.94,4.84,5.38,5.68,5.81,5.54,5.17,5.2335228689556663,5.2135352312091152,5.2839084664471816,5.1799019803163722,{"$f":"VLOOKUP(AR53,List!$B$2:$D$6,3,1)","v":1},{"$f":"VLOOKUP(AS53,List!$B$2:$D$6,3,1)","v":1},{"$f":"VLOOKUP(AT53,List!$B$2:$D$6,3,1)","v":1},{"$f":"VLOOKUP(AU53,List!$B$2:$D$6,3,1)","v":1},{"$f":"VLOOKUP(AV53,List!$B$2:$D$6,3,1)","v":1},{"$f":"VLOOKUP(AW53,List!$B$2:$D$6,3,1)","v":1},{"$f":"VLOOKUP(AX53,List!$B$2:$D$6,3,1)","v":1},{"$f":"VLOOKUP(AY53,List!$B$2:$D$6,3,1)","v":2},{"$f":"VLOOKUP(AZ53,List!$B$2:$D$6,3,1)","v":2},{"$f":"VLOOKUP(BA53,List!$B$2:$D$6,3,1)","v":3},{"$f":"VLOOKUP(BB53,List!$B$2:$D$6,3,1)","v":3},{"$f":"VLOOKUP(BC53,List!$B$2:$D$6,3,1)","v":3},{"$f":"VLOOKUP(BD53,List!$B$2:$D$6,3,1)","v":2},{"$f":"VLOOKUP(BE53,List!$B$2:$D$6,3,1)","v":2},{"$f":"VLOOKUP(BF53,List!$B$2:$D$6,3,1)","v":2},{"$f":"VLOOKUP(BG53,List!$B$2:$D$6,3,1)","v":2},{"$f":"VLOOKUP(BH53,List!$B$2:$D$6,3,1)","v":2},58840.601812379726,61570.384499294094,66289.179217725061,70721.329707617639,77386.294077673898,88382.455998408375,104450.47451395122,126424,137804.12542536165,150045.60868163951,159892.26515030611,156810.56982445443,154436,159805.12795836898,154745.40456551558,155736.77020323847,158348.20493715958,{"$f":"VLOOKUP(BZ53,List!$C$2:$D$6,2,1)","v":1},{"$f":"VLOOKUP(CA53,List!$C$2:$D$6,2,1)","v":1},{"$f":"VLOOKUP(CB53,List!$C$2:$D$6,2,1)","v":1},{"$f":"VLOOKUP(CC53,List!$C$2:$D$6,2,1)","v":1},{"$f":"VLOOKUP(CD53,List!$C$2:$D$6,2,1)","v":1},{"$f":"VLOOKUP(CE53,List!$C$2:$D$6,2,1)","v":1},{"$f":"VLOOKUP(CF53,List!$C$2:$D$6,2,1)","v":2},{"$f":"VLOOKUP(CG53,List!$C$2:$D$6,2,1)","v":2},{"$f":"VLOOKUP(CH53,List!$C$2:$D$6,2,1)","v":2},{"$f":"VLOOKUP(CI53,List!$C$2:$D$6,2,1)","v":3},{"$f":"VLOOKUP(CJ53,List!$C$2:$D$6,2,1)","v":3},{"$f":"VLOOKUP(CK53,List!$C$2:$D$6,2,1)","v":3},{"$f":"VLOOKUP(CL53,List!$C$2:$D$6,2,1)","v":3},{"$f":"VLOOKUP(CM53,List!$C$2:$D$6,2,1)","v":3},{"$f":"VLOOKUP(CN53,List!$C$2:$D$6,2,1)","v":3},{"$f":"VLOOKUP(CO53,List!$C$2:$D$6,2,1)","v":3},{"$f":"VLOOKUP(CP53,List!$C$2:$D$6,2,1)","v":3}]
["North West","Isle of Man",null,9560,16700,9600,17400,5,{"$f":"VLOOKUP(G54,List!$A$2:$D$6,4,1)","v":2},13592.852190027652,13932.673494778343,14280.9903321478,14638.015090451492,15003.96546771278,15379.064604405597,15763.541219515739,16157.629750003631,16561.570493753719,16975.609756097561,16975.609756097561,17400,17835,18280.875,18737.896874999999,19206.344296874995,19686.502904296867,{"$f":"VLOOKUP(J54,List!$A$2:$D$6,4,1)","v":1},{"$f":"VLOOKUP(K54,List!$A$2:$D$6,4,1)","v":1},{"$f":"VLOOKUP(L54,List!$A$2:$D$6,4,1)","v":1},{"$f":"VLOOKUP(M54,List!$A$2:$D$6,4,1)","v":1},{"$f":"VLOOKUP(N54,List!$A$2:$D$6,4,1)","v":1},{"$f":"VLOOKUP(O54,List!$A$2:$D$6,4,1)","v":1},{"$f":"VLOOKUP(P54,List!$A$2:$D$6,4,1)","v":1},{"$f":"VLOOKUP(Q54,List!$A$2:$D$6,4,1)","v":2},{"$f":"VLOOKUP(R54,List!$A$2:$D$6,4,1)","v":2},{"$f":"VLOOKUP(S54,List!$A$2:$D$6,4,1)","v":2},{"$f":"VLOOKUP(T54,List!$A$2:$D$6,4,1)","v":2},{"$f":"VLOOKUP(U54,List!$A$2:$D$6,4,1)","v":2},{"$f":"VLOOKUP(V54,List!$A$2:$D$6,4,1)","v":2},{"$f":"VLOOKUP(W54,List!$A$2:$D$6,4,1)","v":2},{"$f":"VLOOKUP(X54,List!$A$2:$D$6,4,1)","v":2},{"$f":"VLOOKUP(Y54,List!$A$2:$D$6,4,1)","v":2},{"$f":"VLOOKUP(Z54,List!$A$2:$D$6,4,1)","v":2},3.01,3.01,3.04,3.09,3.19,3.43,3.94,4.84,5.38,5.68,5.81,5.54,5.17,5.2335228689556663,5.2135352312091152,5.2839084664471816,5.1799019803163722,{"$f":"VLOOKUP(AR54,List!$B$2:$D$6,3,1)","v":1},{"$f":"VLOOKUP(AS54,List!$B$2:$D$6,3,1)","v":1},{"$f":"VLOOKUP(AT54,List!$B$2:$D$6,3,1)","v":1},{"$f":"VLOOKUP(AU54,List!$B$2:$D$6,3,1)","v":1},{"$f":"VLOOKUP(AV54,List!$B$2:$D$6,3,1)","v":1},{"$f":"VLOOKUP(AW54,List!$B$2:$D$6,3,1)","v":1},{"$f":"VLOOKUP(AX54,List!$B$2:$D$6,3,1)","v":1},{"$f":"VLOOKUP(AY54,List!$B$2:$D$6,3,1)","v":2},{"$f":"VLOOKUP(AZ54,List!$B$2:$D$6,3,1)","v":2},{"$f":"VLOOKUP(BA54,List!$B$2:$D$6,3,1)","v":3},{"$f":"VLOOKUP(BB54,List!$B$2:$D$6,3,1)","v":3},{"$f":"VLOOKUP(BC54,List!$B$2:$D$6,3,1)","v":3},{"$f":"VLOOKUP(BD54,List!$B$2:$D$6,3,1)","v":2},{"$f":"VLOOKUP(BE54,List!$B$2:$D$6,3,1)","v":2},{"$f":"VLOOKUP(BF54,List!$B$2:$D$6,3,1)","v":2},{"$f":"VLOOKUP(BG54,List!$B$2:$D$6,3,1)","v":2},{"$f":"VLOOKUP(BH54,List!$B$2:$D$6,3,1)","v":2},58840.601812379726,61570.384499294094,66289.179217725061,70721.329707617639,77386.294077673898,88382.455998408375,104450.47451395122,126424,137804.12542536165,150045.60868163951,159892.26515030611,156810.56982445443,154436,159805.12795836898,154745.40456551558,155736.77020323847,158348.20493715958,{"$f":"VLOOKUP(BZ54,List!$C$2:$D$6,2,1)","v":1},{"$f":"VLOOKUP(CA54,List!$C$2:$D$6,2,1)","v":1},{"$f":"VLOOKUP(CB54,List!$C$2:$D$6,2,1)","v":1},{"$f":"VLOOKUP(CC54,List!$C$2:$D$6,2,1)","v":1},{"$f":"VLOOKUP(CD54,List!$C$2:$D$6,2,1)","v":1},{"$f":"VLOOKUP(CE54,List!$C$2:$D$6,2,1)","v":1},{"$f":"VLOOKUP(CF54,List!$C$2:$D$6,2,1)","v":2},{"$f":"VLOOKUP(CG54,List!$C$2:$D$6,2,1)","v":2},{"$f":"VLOOKUP(CH54,List!$C$2:$D$6,2,1)","v":2},{"$f":"VLOOKUP(CI54,List!$C$2:$D$6,2,1)","v":3},{"$f":"VLOOKUP(CJ54,List!$C$2:$D$6,2,1)","v":3},{"$f":"VLOOKUP(CK54,List!$C$2:$D$6,2,1)","v":3},{"$f":"VLOOKUP(CL54,List!$C$2:$D$6,2,1)","v":3},{"$f":"VLOOKUP(CM54,List!$C$2:$D$6,2,1)","v":3},{"$f":"VLOOKUP(CN54,List!$C$2:$D$6,2,1)","v":3},{"$f":"VLOOKUP(CO54,List!$C$2:$D$6,2,1)","v":3},{"$f":"VLOOKUP(CP54,List!$C$2:$D$6,2,1)","v":3}]
["North West","Lancashire",null,9560,16700,9600,17400,5,{"$f":"VLOOKUP(G55,List!$A$2:$D$6,4,1)","v":2},13592.852190027652,13932.673494778343,14280.9903321478,14638.015090451492,15003.96546771278,15379.064604405597,15763.541219515739,16157.629750003631,16561.570493753719,16975.609756097561,16975.609756097561,17400,17835,18280.875,18737.896874999999,19206.344296874995,19686.502904296867,{"$f":"VLOOKUP(J55,List!$A$2:$D$6,4,1)","v":1},{"$f":"VLOOKUP(K55,List!$A$2:$D$6,4,1)","v":1},{"$f":"VLOOKUP(L55,List!$A$2:$D$6,4,1)","v":1},{"$f":"VLOOKUP(M55,List!$A$2:$D$6,4,1)","v":1},{"$f":"VLOOKUP(N55,List!$A$2:$D$6,4,1)","v":1},{"$f":"VLOOKUP(O55,List!$A$2:$D$6,4,1)","v":1},{"$f":"VLOOKUP(P55,List!$A$2:$D$6,4,1)","v":1},{"$f":"VLOOKUP(Q55,List!$A$2:$D$6,4,1)","v":2},{"$f":"VLOOKUP(R55,List!$A$2:$D$6,4,1)","v":2},{"$f":"VLOOKUP(S55,List!$A$2:$D$6,4,1)","v":2},{"$f":"VLOOKUP(T55,List!$A$2:$D$6,4,1)","v":2},{"$f":"VLOOKUP(U55,List!$A$2:$D$6,4,1)","v":2},{"$f":"VLOOKUP(V55,List!$A$2:$D$6,4,1)","v":2},{"$f":"VLOOKUP(W55,List!$A$2:$D$6,4,1)","v":2},{"$f":"VLOOKUP(X55,List!$A$2:$D$6,4,1)","v":2},{"$f":"VLOOKUP(Y55,List!$A$2:$D$6,4,1)","v":2},{"$f":"VLOOKUP(Z55,List!$A$2:$D$6,4,1)","v":2},3.01,3.01,3.04,3.09,3.19,3.43,3.94,4.84,5.38,5.68,5.81,5.54,5.17,5.2335228689556663,5.2135352312091152,5.2839084664471816,5.1799019803163722,{"$f":"VLOOKUP(AR55,List!$B$2:$D$6,3,1)","v":1},{"$f":"VLOOKUP(AS55,List!$B$2:$D$6,3,1)","v":1},{"$f":"VLOOKUP(AT55,List!$B$2:$D$6,3,1)","v":1},{"$f":"VLOOKUP(AU55,List!$B$2:$D$6,3,1)","v":1},{"$f":"VLOOKUP(AV55,List!$B$2:$D$6,3,1)","v":1},{"$f":"VLOOKUP(AW55,List!$B$2:$D$6,3,1)","v":1},{"$f":"VLOOKUP(AX55,List!$B$2:$D$6,3,1)","v":1},{"$f":"VLOOKUP(AY55,List!$B$2:$D$6,3,1)","v":2},{"$f":"VLOOKUP(AZ55,List!$B$2:$D$6,3,1)","v":2},{"$f":"VLOOKUP(BA55,List!$B$2:$D$6,3,1)","v":3},{"$f":"VLOOKUP(BB55,List!$B$2:$D$6,3,1)","v":3},{"$f":"VLOOKUP(BC55,List!$B$2:$D$6,3,1)","v":3},{"$f":"VLOOKUP(BD55,List!$B$2:$D$6,3,1)","v":2},{"$f":"VLOOKUP(BE55,List!$B$2:$D$6,3,1)","v":2},{"$f":"VLOOKUP(BF55,List!$B$2:$D$6,3,1)","v":2},{"$f":"VLOOKUP(BG55,List!$B$2:$D$6,3,1)","v":2},{"$f":"VLOOKUP(BH55,List!$B$2:$D$6,3,1)","v":2},58840.601812379726,61570.384499294094,66289.179217725061,70721.329707617639,77386.294077673898,88382.455998408375,104450.47451395122,126424,137804.12542536165,150045.60868163951,159892.26515030611,156810.56982445443,154436,159805.12795836898,154745.40456551558,155736.77020323847,158348.20493715958,{"$f":"VLOOKUP(BZ55,List!$C$2:$D$6,2,1)","v":1},{"$f":"VLOOKUP(CA55,List!$C$2:$D$6,2,1)","v":1},{"$f":"VLOOKUP(CB55,List!$C$2:$D$6,2,1)","v":1},{"$f":"VLOOKUP(CC55,List!$C$2:$D$6,2,1)","v":1},{"$f":"VLOOKUP(CD55,List!$C$2:$D$6,2,1)","v":1},{"$f":"VLOOKUP(CE55,List!$C$2:$D$6,2,1)","v":1},{"$f":"VLOOKUP(CF55,List!$C$2:$D$6,2,1)","v":2},{"$f":"VLOOKUP(CG55,List!$C$2:$D$6,2,1)","v":2},{"$f":"VLOOKUP(CH55,List!$C$2:$D$6,2,1)","v":2},{"$f":"VLOOKUP(CI55,List!$C$2:$D$6,2,1)","v":3},{"$f":"VLOOKUP(CJ55,List!$C$2:$D$6,2,1)","v":3},{"$f":"VLOOKUP(CK55,List!$C$2:$D$6,2,1)","v":3},{"$f":"VLOOKUP(CL55,List!$C$2:$D$6,2,1)","v":3},{"$f":"VLOOKUP(CM55,List!$C$2:$D$6,2,1)","v":3},{"$f":"VLOOKUP(CN55,List!$C$2:$D$6,2,1)","v":3},{"$f":"VLOOKUP(CO55,List!$C$2:$D$6,2,1)","v":3},{"$f":"VLOOKUP(CP55,List!$C$2:$D$6,2,1)","v":3}]
["North West","Merseyside",null,9560,16700,9600,17400,5,{"$f":"VLOOKUP(G56,List!$A$2:$D$6,4,1)","v":2},13592.852190027652,13932.673494778343,14280.9903321478,14638.015090451492,15003.96546771278,15379.064604405597,15763.541219515739,16157.629750003631,16561.570493753719,16975.609756097561,16975.609756097561,17400,17835,18280.875,18737.896874999999,19206.344296874995,19686.502904296867,{"$f":"VLOOKUP(J56,List!$A$2:$D$6,4,1)","v":1},{"$f":"VLOOKUP(K56,List!$A$2:$D$6,4,1)","v":1},{"$f":"VLOOKUP(L56,List!$A$2:$D$6,4,1)","v":1},{"$f":"VLOOKUP(M56,List!$A$2:$D$6,4,1)","v":1},{"$f":"VLOOKUP(N56,List!$A$2:$D$6,4,1)","v":1},{"$f":"VLOOKUP(O56,List!$A$2:$D$6,4,1)","v":1},{"$f":"VLOOKUP(P56,List!$A$2:$D$6,4,1)","v":1},{"$f":"VLOOKUP(Q56,List!$A$2:$D$6,4,1)","v":2},{"$f":"VLOOKUP(R56,List!$A$2:$D$6,4,1)","v":2},{"$f":"VLOOKUP(S56,List!$A$2:$D$6,4,1)","v":2},{"$f":"VLOOKUP(T56,List!$A$2:$D$6,4,1)","v":2},{"$f":"VLOOKUP(U56,List!$A$2:$D$6,4,1)","v":2},{"$f":"VLOOKUP(V56,List!$A$2:$D$6,4,1)","v":2},{"$f":"VLOOKUP(W56,List!$A$2:$D$6,4,1)","v":2},{"$f":"VLOOKUP(X56,List!$A$2:$D$6,4,1)","v":2},{"$f":"VLOOKUP(Y56,List!$A$2:$D$6,4,1)","v":2},{"$f":"VLOOKUP(Z56,List!$A$2:$D$6,4,1)","v":2},3.01,3.01,3.04,3.09,3.19,3.43,3.94,4.84,5.38,5.68,5.81,5.54,5.17,5.2335228689556663,5.2135352312091152,5.2839084664471816,5.1799019803163722,{"$f":"VLOOKUP(AR56,List!$B$2:$D$6,3,1)","v":1},{"$f":"VLOOKUP(AS56,List!$B$2:$D$6,3,1)","v":1},{"$f":"VLOOKUP(AT56,List!$B$2:$D$6,3,1)","v":1},{"$f":"VLOOKUP(AU56,List!$B$2:$D$6,3,1)","v":1},{"$f":"VLOOKUP(AV56,List!$B$2:$D$6,3,1)","v":1},{"$f":"VLOOKUP(AW56,List!$B$2:$D$6,3,1)","v":1},{"$f":"VLOOKUP(AX56,List!$B$2:$D$6,3,1)","v":1},{"$f":"VLOOKUP(AY56,List!$B$2:$D$6,3,1)","v":2},{"$f":"VLOOKUP(AZ56,List!$B$2:$D$6,3,1)","v":2},{"$f":"VLOOKUP(BA56,List!$B$2:$D$6,3,1)","v":3},{"$f":"VLOOKUP(BB56,List!$B$2:$D$6,3,1)","v":3},{"$f":"VLOOKUP(BC56,List!$B$2:$D$6,3,1)","v":3},{"$f":"VLOOKUP(BD56,List!$B$2:$D$6,3,1)","v":2},{"$f":"VLOOKUP(BE56,List!$B$2:$D$6,3,1)","v":2},{"$f":"VLOOKUP(BF56,List!$B$2:$D$6,3,1)","v":2},{"$f":"VLOOKUP(BG56,List!$B$2:$D$6,3,1)","v":2},{"$f":"VLOOKUP(BH56,List!$B$2:$D$6,3,1)","v":2},58840.601812379726,61570.384499294094,66289.179217725061,70721.329707617639,77386.294077673898,88382.455998408375,104450.47451395122,126424,137804.12542536165,150045.60868163951,159892.26515030611,156810.56982445443,154436,159805.12795836898,154745.40456551558,155736.77020323847,158348.20493715958,{"$f":"VLOOKUP(BZ56,List!$C$2:$D$6,2,1)","v":1},{"$f":"VLOOKUP(CA56,List!$C$2:$D$6,2,1)","v":1},{"$f":"VLOOKUP(CB56,List!$C$2:$D$6,2,1)","v":1},{"$f":"VLOOKUP(CC56,List!$C$2:$D$6,2,1)","v":1},{"$f":"VLOOKUP(CD56,List!$C$2:$D$6,2,1)","v":1},{"$f":"VLOOKUP(CE56,List!$C$2:$D$6,2,1)","v":1},{"$f":"VLOOKUP(CF56,List!$C$2:$D$6,2,1)","v":2},{"$f":"VLOOKUP(CG56,List!$C$2:$D$6,2,1)","v":2},{"$f":"VLOOKUP(CH56,List!$C$2:$D$6,2,1)","v":2},{"$f":"VLOOKUP(CI56,List!$C$2:$D$6,2,1)","v":3},{"$f":"VLOOKUP(CJ56,List!$C$2:$D$6,2,1)","v":3},{"$f":"VLOOKUP(CK56,List!$C$2:$D$6,2,1)","v":3},{"$f":"VLOOKUP(CL56,List!$C$2:$D$6,2,1)","v":3},{"$f":"VLOOKUP(CM56,List!$C$2:$D$6,2,1)","v":3},{"$f":"VLOOKUP(CN56,List!$C$2:$D$6,2,1)","v":3},{"$f":"VLOOKUP(CO56,List!$C$2:$D$6,2,1)","v":3},{"$f":"VLOOKUP(CP56,List!$C$2:$D$6,2,1)","v":3}]
["South East","Buckinghamshire",null,11200,19200,10400,20400,6,{"$f":"VLOOKUP(G57,List!$A$2:$D$6,4,1)","v":3},15936.447395204832,16334.858580084954,16743.230044587075,17161.810795701749,17590.856065594293,18030.62746723415,18481.393153915003,18943.427982762878,19417.013682331944,19902.439024390245,19902.439024390245,20400,20910,21432.75,21968.568749999999,22517.782968749994,23080.727542968743,{"$f":"VLOOKUP(J57,List!$A$2:$D$6,4,1)","v":1},{"$f":"VLOOKUP(K57,List!$A$2:$D$6,4,1)","v":2},{"$f":"VLOOKUP(L57,List!$A$2:$D$6,4,1)","v":2},{"$f":"VLOOKUP(M57,List!$A$2:$D$6,4,1)","v":2},{"$f":"VLOOKUP(N57,List!$A$2:$D$6,4,1)","v":2},{"$f":"VLOOKUP(O57,List!$A$2:$D$6,4,1)","v":2},{"$f":"VLOOKUP(P57,List!$A$2:$D$6,4,1)","v":2},{"$f":"VLOOKUP(Q57,List!$A$2:$D$6,4,1)","v":2},{"$f":"VLOOKUP(R57,List!$A$2:$D$6,4,1)","v":2},{"$f":"VLOOKUP(S57,List!$A$2:$D$6,4,1)","v":2},{"$f":"VLOOKUP(T57,List!$A$2:$D$6,4,1)","v":2},{"$f":"VLOOKUP(U57,List!$A$2:$D$6,4,1)","v":3},{"$f":"VLOOKUP(V57,List!$A$2:$D$6,4,1)","v":3},{"$f":"VLOOKUP(W57,List!$A$2:$D$6,4,1)","v":3},{"$f":"VLOOKUP(X57,List!$A$2:$D$6,4,1)","v":3},{"$f":"VLOOKUP(Y57,List!$A$2:$D$6,4,1)","v":4},{"$f":"VLOOKUP(Z57,List!$A$2:$D$6,4,1)","v":4},4.1399999999999997,4.38,4.6500000000000004,5.44,5.82,6.28,7.16,7.71,8.08,7.97,8.4499999999999993,8.42,7.28,8.2323692052941198,7.9703028585698226,8.1277728482697427,8.274647887323944,{"$f":"VLOOKUP(AR57,List!$B$2:$D$6,3,1)","v":1},{"$f":"VLOOKUP(AS57,List!$B$2:$D$6,3,1)","v":1},{"$f":"VLOOKUP(AT57,List!$B$2:$D$6,3,1)","v":2},{"$f":"VLOOKUP(AU57,List!$B$2:$D$6,3,1)","v":2},{"$f":"VLOOKUP(AV57,List!$B$2:$D$6,3,1)","v":3},{"$f":"VLOOKUP(AW57,List!$B$2:$D$6,3,1)","v":3},{"$f":"VLOOKUP(AX57,List!$B$2:$D$6,3,1)","v":4},{"$f":"VLOOKUP(AY57,List!$B$2:$D$6,3,1)","v":4},{"$f":"VLOOKUP(AZ57,List!$B$2:$D$6,3,1)","v":4},{"$f":"VLOOKUP(BA57,List!$B$2:$D$6,3,1)","v":4},{"$f":"VLOOKUP(BB57,List!$B$2:$D$6,3,1)","v":4},{"$f":"VLOOKUP(BC57,List!$B$2:$D$6,3,1)","v":4},{"$f":"VLOOKUP(BD57,List!$B$2:$D$6,3,1)","v":4},{"$f":"VLOOKUP(BE57,List!$B$2:$D$6,3,1)","v":4},{"$f":"VLOOKUP(BF57,List!$B$2:$D$6,3,1)","v":4},{"$f":"VLOOKUP(BG57,List!$B$2:$D$6,3,1)","v":4},{"$f":"VLOOKUP(BH57,List!$B$2:$D$6,3,1)","v":4},95526.738434935076,107194.58322937823,120742.50279640792,141907.91927312032,157244.19693296845,181910.76504531261,204055.42613513261,223447,232736.04572495728,247823.77736511026,267978.26225864899,267572.82285252109,253905,284379.01630813663,279791.21690973052,284226.25376556965,292208.59264006693,{"$f":"VLOOKUP(BZ57,List!$C$2:$D$6,2,1)","v":2},{"$f":"VLOOKUP(CA57,List!$C$2:$D$6,2,1)","v":2},{"$f":"VLOOKUP(CB57,List!$C$2:$D$6,2,1)","v":2},{"$f":"VLOOKUP(CC57,List!$C$2:$D$6,2,1)","v":2},{"$f":"VLOOKUP(CD57,List!$C$2:$D$6,2,1)","v":3},{"$f":"VLOOKUP(CE57,List!$C$2:$D$6,2,1)","v":3},{"$f":"VLOOKUP(CF57,List!$C$2:$D$6,2,1)","v":3},{"$f":"VLOOKUP(CG57,List!$C$2:$D$6,2,1)","v":3},{"$f":"VLOOKUP(CH57,List!$C$2:$D$6,2,1)","v":3},{"$f":"VLOOKUP(CI57,List!$C$2:$D$6,2,1)","v":3},{"$f":"VLOOKUP(CJ57,List!$C$2:$D$6,2,1)","v":4},{"$f":"VLOOKUP(CK57,List!$C$2:$D$6,2,1)","v":4},{"$f":"VLOOKUP(CL57,List!$C$2:$D$6,2,1)","v":4},{"$f":"VLOOKUP(CM57,List!$C$2:$D$6,2,1)","v":4},{"$f":"VLOOKUP(CN57,List!$C$2:$D$6,2,1)","v":4},{"$f":"VLOOKUP(CO57,List!$C$2:$D$6,2,1)","v":4},{"$f":"VLOOKUP(CP57,List!$C$2:$D$6,2,1)","v":4}]
["South East","East Sussex",null,11200,19200,10400,20400,6,{"$f":"VLOOKUP(G58,List!$A$2:$D$6,4,1)","v":3},15936.447395204832,16334.858580084954,16743.230044587075,17161.810795701749,17590.856065594293,18030.62746723415,18481.393153915003,18943.427982762878,19417.013682331944,19902.439024390245,19902.439024390245,20400,20910,21432.75,21968.568749999999,22517.782968749994,23080.727542968743,{"$f":"VLOOKUP(J58,List!$A$2:$D$6,4,1)","v":1},{"$f":"VLOOKUP(K58,List!$A$2:$D$6,4,1)","v":2},{"$f":"VLOOKUP(L58,List!$A$2:$D$6,4,1)","v":2},{"$f":"VLOOKUP(M58,List!$A$2:$D$6,4,1)","v":2},{"$f":"VLOOKUP(N58,List!$A$2:$D$6,4,1)","v":2},{"$f":"VLOOKUP(O58,List!$A$2:$D$6,4,1)","v":2},{"$f":"VLOOKUP(P58,List!$A$2:$D$6,4,1)","v":2},{"$f":"VLOOKUP(Q58,List!$A$2:$D$6,4,1)","v":2},{"$f":"VLOOKUP(R58,List!$A$2:$D$6,4,1)","v":2},{"$f":"VLOOKUP(S58,List!$A$2:$D$6,4,1)","v":2},{"$f":"VLOOKUP(T58,List!$A$2:$D$6,4,1)","v":2},{"$f":"VLOOKUP(U58,List!$A$2:$D$6,4,1)","v":3},{"$f":"VLOOKUP(V58,List!$A$2:$D$6,4,1)","v":3},{"$f":"VLOOKUP(W58,List!$A$2:$D$6,4,1)","v":3},{"$f":"VLOOKUP(X58,List!$A$2:$D$6,4,1)","v":3},{"$f":"VLOOKUP(Y58,List!$A$2:$D$6,4,1)","v":4},{"$f":"VLOOKUP(Z58,List!$A$2:$D$6,4,1)","v":4},4.1399999999999997,4.38,4.6500000000000004,5.44,5.82,6.28,7.16,7.71,8.08,7.97,8.4499999999999993,8.42,7.28,8.2323692052941198,7.9703028585698226,8.1277728482697427,8.274647887323944,{"$f":"VLOOKUP(AR58,List!$B$2:$D$6,3,1)","v":1},{"$f":"VLOOKUP(AS58,List!$B$2:$D$6,3,1)","v":1},{"$f":"VLOOKUP(AT58,List!$B$2:$D$6,3,1)","v":2},{"$f":"VLOOKUP(AU58,List!$B$2:$D$6,3,1)","v":2},{"$f":"VLOOKUP(AV58,List!$B$2:$D$6,3,1)","v":3},{"$f":"VLOOKUP(AW58,List!$B$2:$D$6,3,1)","v":3},{"$f":"VLOOKUP(AX58,List!$B$2:$D$6,3,1)","v":4},{"$f":"VLOOKUP(AY58,List!$B$2:$D$6,3,1)","v":4},{"$f":"VLOOKUP(AZ58,List!$B$2:$D$6,3,1)","v":4},{"$f":"VLOOKUP(BA58,List!$B$2:$D$6,3,1)","v":4},{"$f":"VLOOKUP(BB58,List!$B$2:$D$6,3,1)","v":4},{"$f":"VLOOKUP(BC58,List!$B$2:$D$6,3,1)","v":4},{"$f":"VLOOKUP(BD58,List!$B$2:$D$6,3,1)","v":4},{"$f":"VLOOKUP(BE58,List!$B$2:$D$6,3,1)","v":4},{"$f":"VLOOKUP(BF58,List!$B$2:$D$6,3,1)","v":4},{"$f":"VLOOKUP(BG58,List!$B$2:$D$6,3,1)","v":4},{"$f":"VLOOKUP(BH58,List!$B$2:$D$6,3,1)","v":4},95526.738434935076,107194.58322937823,120742.50279640792,141907.91927312032,157244.19693296845,181910.76504531261,204055.42613513261,223447,232736.04572495728,247823.77736511026,267978.26225864899,267572.82285252109,253905,284379.01630813663,279791.21690973052,284226.25376556965,292208.59264006693,{"$f":"VLOOKUP(BZ58,List!$C$2:$D$6,2,1)","v":2},{"$f":"VLOOKUP(CA58,List!$C$2:$D$6,2,1)","v":2},{"$f":"VLOOKUP(CB58,List!$C$2:$D$6,2,1)","v":2},{"$f":"VLOOKUP(CC58,List!$C$2:$D$6,2,1)","v":2},{"$f":"VLOOKUP(CD58,List!$C$2:$D$6,2,1)","v":3},{"$f":"VLOOKUP(CE58,List!$C$2:$D$6,2,1)","v":3},{"$f":"VLOOKUP(CF58,List!$C$2:$D$6,2,1)","v":3},{"$f":"VLOOKUP(CG58,List!$C$2:$D$6,2,1)","v":3},{"$f":"VLOOKUP(CH58,List!$C$2:$D$6,2,1)","v":3},{"$f":"VLOOKUP(CI58,List!$C$2:$D$6,2,1)","v":3},{"$f":"VLOOKUP(CJ58,List!$C$2:$D$6,2,1)","v":4},{"$f":"VLOOKUP(CK58,List!$C$2:$D$6,2,1)","v":4},{"$f":"VLOOKUP(CL58,List!$C$2:$D$6,2,1)","v":4},{"$f":"VLOOKUP(CM58,List!$C$2:$D$6,2,1)","v":4},{"$f":"VLOOKUP(CN58,List!$C$2:$D$6,2,1)","v":4},{"$f":"VLOOKUP(CO58,List!$C$2:$D$6,2,1)","v":4},{"$f":"VLOOKUP(CP58,List!$C$2:$D$6,2,1)","v":4}]
["South East","Hampshire",null,11200,19200,10400,20400,6,{"$f":"VLOOKUP(G59,List!$A$2:$D$6,4,1)","v":3},15936.447395204832,16334.858580084954,16743.230044587075,17161.810795701749,17590.856065594293,18030.62746723415,18481.393153915003,18943.427982762878,19417.013682331944,19902.439024390245,19902.439024390245,20400,20910,21432.75,21968.568749999999,22517.782968749994,23080.727542968743,{"$f":"VLOOKUP(J59,List!$A$2:$D$6,4,1)","v":1},{"$f":"VLOOKUP(K59,List!$A$2:$D$6,4,1)","v":2},{"$f":"VLOOKUP(L59,List!$A$2:$D$6,4,1)","v":2},{"$f":"VLOOKUP(M59,List!$A$2:$D$6,4,1)","v":2},{"$f":"VLOOKUP(N59,List!$A$2:$D$6,4,1)","v":2},{"$f":"VLOOKUP(O59,List!$A$2:$D$6,4,1)","v":2},{"$f":"VLOOKUP(P59,List!$A$2:$D$6,4,1)","v":2},{"$f":"VLOOKUP(Q59,List!$A$2:$D$6,4,1)","v":2},{"$f":"VLOOKUP(R59,List!$A$2:$D$6,4,1)","v":2},{"$f":"VLOOKUP(S59,List!$A$2:$D$6,4,1)","v":2},{"$f":"VLOOKUP(T59,List!$A$2:$D$6,4,1)","v":2},{"$f":"VLOOKUP(U59,List!$A$2:$D$6,4,1)","v":3},{"$f":"VLOOKUP(V59,List!$A$2:$D$6,4,1)","v":3},{"$f":"VLOOKUP(W59,List!$A$2:$D$6,4,1)","v":3},{"$f":"VLOOKUP(X59,List!$A$2:$D$6,4,1)","v":3},{"$f":"VLOOKUP(Y59,List!$A$2:$D$6,4,1)","v":4},{"$f":"VLOOKUP(Z59,List!$A$2:$D$6,4,1)","v":4},4.1399999999999997,4.38,4.6500000000000004,5.44,5.82,6.28,7.16,7.71,8.08,7.97,8.4499999999999993,8.42,7.28,8.2323692052941198,7.9703028585698226,8.1277728482697427,8.274647887323944,{"$f":"VLOOKUP(AR59,List!$B$2:$D$6,3,1)","v":1},{"$f":"VLOOKUP(AS59,List!$B$2:$D$6,3,1)","v":1},{"$f":"VLOOKUP(AT59,List!$B$2:$D$6,3,1)","v":2},{"$f":"VLOOKUP(AU59,List!$B$2:$D$6,3,1)","v":2},{"$f":"VLOOKUP(AV59,List!$B$2:$D$6,3,1)","v":3},{"$f":"VLOOKUP(AW59,List!$B$2:$D$6,3,1)","v":3},{"$f":"VLOOKUP(AX59,List!$B$2:$D$6,3,1)","v":4},{"$f":"VLOOKUP(AY59,List!$B$2:$D$6,3,1)","v":4},{"$f":"VLOOKUP(AZ59,List!$B$2:$D$6,3,1)","v":4},{"$f":"VLOOKUP(BA59,List!$B$2:$D$6,3,1)","v":4},{"$f":"VLOOKUP(BB59,List!$B$2:$D$6,3,1)","v":4},{"$f":"VLOOKUP(BC59,List!$B$2:$D$6,3,1)","v":4},{"$f":"VLOOKUP(BD59,List!$B$2:$D$6,3,1)","v":4},{"$f":"VLOOKUP(BE59,List!$B$2:$D$6,3,1)","v":4},{"$f":"VLOOKUP(BF59,List!$B$2:$D$6,3,1)","v":4},{"$f":"VLOOKUP(BG59,List!$B$2:$D$6,3,1)","v":4},{"$f":"VLOOKUP(BH59,List!$B$2:$D$6,3,1)","v":4},95526.738434935076,107194.58322937823,120742.50279640792,141907.91927312032,157244.19693296845,181910.76504531261,204055.42613513261,223447,232736.04572495728,247823.77736511026,267978.26225864899,267572.82285252109,253905,284379.01630813663,279791.21690973052,284226.25376556965,292208.59264006693,{"$f":"VLOOKUP(BZ59,List!$C$2:$D$6,2,1)","v":2},{"$f":"VLOOKUP(CA59,List!$C$2:$D$6,2,1)","v":2},{"$f":"VLOOKUP(CB59,List!$C$2:$D$6,2,1)","v":2},{"$f":"VLOOKUP(CC59,List!$C$2:$D$6,2,1)","v":2},{"$f":"VLOOKUP(CD59,List!$C$2:$D$6,2,1)","v":3},{"$f":"VLOOKUP(CE59,List!$C$2:$D$6,2,1)","v":3},{"$f":"VLOOKUP(CF59,List!$C$2:$D$6,2,1)","v":3},{"$f":"VLOOKUP(CG59,List!$C$2:$D$6,2,1)","v":3},{"$f":"VLOOKUP(CH59,List!$C$2:$D$6,2,1)","v":3},{"$f":"VLOOKUP(CI59,List!$C$2:$D$6,2,1)","v":3},{"$f":"VLOOKUP(CJ59,List!$C$2:$D$6,2,1)","v":4},{"$f":"VLOOKUP(CK59,List!$C$2:$D$6,2,1)","v":4},{"$f":"VLOOKUP(CL59,List!$C$2:$D$6,2,1)","v":4},{"$f":"VLOOKUP(CM59,List!$C$2:$D$6,2,1)","v":4},{"$f":"VLOOKUP(CN59,List!$C$2:$D$6,2,1)","v":4},{"$f":"VLOOKUP(CO59,List!$C$2:$D$6,2,1)","v":4},{"$f":"VLOOKUP(CP59,List!$C$2:$D$6,2,1)","v":4}]
["South East","Isle of Wight",null,11200,19200,10400,20400,6,{"$f":"VLOOKUP(G60,List!$A$2:$D$6,4,1)","v":3},15936.447395204832,16334.858580084954,16743.230044587075,17161.810795701749,17590.856065594293,18030.62746723415,18481.393153915003,18943.427982762878,19417.013682331944,19902.439024390245,19902.439024390245,20400,20910,21432.75,21968.568749999999,22517.782968749994,23080.727542968743,{"$f":"VLOOKUP(J60,List!$A$2:$D$6,4,1)","v":1},{"$f":"VLOOKUP(K60,List!$A$2:$D$6,4,1)","v":2},{"$f":"VLOOKUP(L60,List!$A$2:$D$6,4,1)","v":2},{"$f":"VLOOKUP(M60,List!$A$2:$D$6,4,1)","v":2},{"$f":"VLOOKUP(N60,List!$A$2:$D$6,4,1)","v":2},{"$f":"VLOOKUP(O60,List!$A$2:$D$6,4,1)","v":2},{"$f":"VLOOKUP(P60,List!$A$2:$D$6,4,1)","v":2},{"$f":"VLOOKUP(Q60,List!$A$2:$D$6,4,1)","v":2},{"$f":"VLOOKUP(R60,List!$A$2:$D$6,4,1)","v":2},{"$f":"VLOOKUP(S60,List!$A$2:$D$6,4,1)","v":2},{"$f":"VLOOKUP(T60,List!$A$2:$D$6,4,1)","v":2},{"$f":"VLOOKUP(U60,List!$A$2:$D$6,4,1)","v":3},{"$f":"VLOOKUP(V60,List!$A$2:$D$6,4,1)","v":3},{"$f":"VLOOKUP(W60,List!$A$2:$D$6,4,1)","v":3},{"$f":"VLOOKUP(X60,List!$A$2:$D$6,4,1)","v":3},{"$f":"VLOOKUP(Y60,List!$A$2:$D$6,4,1)","v":4},{"$f":"VLOOKUP(Z60,List!$A$2:$D$6,4,1)","v":4},4.1399999999999997,4.38,4.6500000000000004,5.44,5.82,6.28,7.16,7.71,8.08,7.97,8.4499999999999993,8.42,7.28,8.2323692052941198,7.9703028585698226,8.1277728482697427,8.274647887323944,{"$f":"VLOOKUP(AR60,List!$B$2:$D$6,3,1)","v":1},{"$f":"VLOOKUP(AS60,List!$B$2:$D$6,3,1)","v":1},{"$f":"VLOOKUP(AT60,List!$B$2:$D$6,3,1)","v":2},{"$f":"VLOOKUP(AU60,List!$B$2:$D$6,3,1)","v":2},{"$f":"VLOOKUP(AV60,List!$B$2:$D$6,3,1)","v":3},{"$f":"VLOOKUP(AW60,List!$B$2:$D$6,3,1)","v":3},{"$f":"VLOOKUP(AX60,List!$B$2:$D$6,3,1)","v":4},{"$f":"VLOOKUP(AY60,List!$B$2:$D$6,3,1)","v":4},{"$f":"VLOOKUP(AZ60,List!$B$2:$D$6,3,1)","v":4},{"$f":"VLOOKUP(BA60,List!$B$2:$D$6,3,1)","v":4},{"$f":"VLOOKUP(BB60,List!$B$2:$D$6,3,1)","v":4},{"$f":"VLOOKUP(BC60,List!$B$2:$D$6,3,1)","v":4},{"$f":"VLOOKUP(BD60,List!$B$2:$D$6,3,1)","v":4},{"$f":"VLOOKUP(BE60,List!$B$2:$D$6,3,1)","v":4},{"$f":"VLOOKUP(BF60,List!$B$2:$D$6,3,1)","v":4},{"$f":"VLOOKUP(BG60,List!$B$2:$D$6,3,1)","v":4},{"$f":"VLOOKUP(BH60,List!$B$2:$D$6,3,1)","v":4},95526.738434935076,107194.58322937823,120742.50279640792,141907.91927312032,157244.19693296845,181910.76504531261,204055.42613513261,223447,232736.04572495728,247823.77736511026,267978.26225864899,267572.82285252109,253905,284379.01630813663,279791.21690973052,284226.25376556965,292208.59264006693,{"$f":"VLOOKUP(BZ60,List!$C$2:$D$6,2,1)","v":2},{"$f":"VLOOKUP(CA60,List!$C$2:$D$6,2,1)","v":2},{"$f":"VLOOKUP(CB60,List!$C$2:$D$6,2,1)","v":2},{"$f":"VLOOKUP(CC60,List!$C$2:$D$6,2,1)","v":2},{"$f":"VLOOKUP(CD60,List!$C$2:$D$6,2,1)","v":3},{"$f":"VLOOKUP(CE60,List!$C$2:$D$6,2,1)","v":3},{"$f":"VLOOKUP(CF60,List!$C$2:$D$6,2,1)","v":3},{"$f":"VLOOKUP(CG60,List!$C$2:$D$6,2,1)","v":3},{"$f":"VLOOKUP(CH60,List!$C$2:$D$6,2,1)","v":3},{"$f":"VLOOKUP(CI60,List!$C$2:$D$6,2,1)","v":3},{"$f":"VLOOKUP(CJ60,List!$C$2:$D$6,2,1)","v":4},{"$f":"VLOOKUP(CK60,List!$C$2:$D$6,2,1)","v":4},{"$f":"VLOOKUP(CL60,List!$C$2:$D$6,2,1)","v":4},{"$f":"VLOOKUP(CM60,List!$C$2:$D$6,2,1)","v":4},{"$f":"VLOOKUP(CN60,List!$C$2:$D$6,2,1)","v":4},{"$f":"VLOOKUP(CO60,List!$C$2:$D$6,2,1)","v":4},{"$f":"VLOOKUP(CP60,List!$C$2:$D$6,2,1)","v":4}]
["South East","Kent",null,11200,19200,10400,20400,6,{"$f":"VLOOKUP(G61,List!$A$2:$D$6,4,1)","v":3},15936.447395204832,16334.858580084954,16743.230044587075,17161.810795701749,17590.856065594293,18030.62746723415,18481.393153915003,18943.427982762878,19417.013682331944,19902.439024390245,19902.439024390245,20400,20910,21432.75,21968.568749999999,22517.782968749994,23080.727542968743,{"$f":"VLOOKUP(J61,List!$A$2:$D$6,4,1)","v":1},{"$f":"VLOOKUP(K61,List!$A$2:$D$6,4,1)","v":2},{"$f":"VLOOKUP(L61,List!$A$2:$D$6,4,1)","v":2},{"$f":"VLOOKUP(M61,List!$A$2:$D$6,4,1)","v":2},{"$f":"VLOOKUP(N61,List!$A$2:$D$6,4,1)","v":2},{"$f":"VLOOKUP(O61,List!$A$2:$D$6,4,1)","v":2},{"$f":"VLOOKUP(P61,List!$A$2:$D$6,4,1)","v":2},{"$f":"VLOOKUP(Q61,List!$A$2:$D$6,4,1)","v":2},{"$f":"VLOOKUP(R61,List!$A$2:$D$6,4,1)","v":2},{"$f":"VLOOKUP(S61,List!$A$2:$D$6,4,1)","v":2},{"$f":"VLOOKUP(T61,List!$A$2:$D$6,4,1)","v":2},{"$f":"VLOOKUP(U61,List!$A$2:$D$6,4,1)","v":3},{"$f":"VLOOKUP(V61,List!$A$2:$D$6,4,1)","v":3},{"$f":"VLOOKUP(W61,List!$A$2:$D$6,4,1)","v":3},{"$f":"VLOOKUP(X61,List!$A$2:$D$6,4,1)","v":3},{"$f":"VLOOKUP(Y61,List!$A$2:$D$6,4,1)","v":4},{"$f":"VLOOKUP(Z61,List!$A$2:$D$6,4,1)","v":4},4.1399999999999997,4.38,4.6500000000000004,5.44,5.82,6.28,7.16,7.71,8.08,7.97,8.4499999999999993,8.42,7.28,8.2323692052941198,7.9703028585698226,8.1277728482697427,8.274647887323944,{"$f":"VLOOKUP(AR61,List!$B$2:$D$6,3,1)","v":1},{"$f":"VLOOKUP(AS61,List!$B$2:$D$6,3,1)","v":1},{"$f":"VLOOKUP(AT61,List!$B$2:$D$6,3,1)","v":2},{"$f":"VLOOKUP(AU61,List!$B$2:$D$6,3,1)","v":2},{"$f":"VLOOKUP(AV61,List!$B$2:$D$6,3,1)","v":3},{"$f":"VLOOKUP(AW61,List!$B$2:$D$6,3,1)","v":3},{"$f":"VLOOKUP(AX61,List!$B$2:$D$6,3,1)","v":4},{"$f":"VLOOKUP(AY61,List!$B$2:$D$6,3,1)","v":4},{"$f":"VLOOKUP(AZ61,List!$B$2:$D$6,3,1)","v":4},{"$f":"VLOOKUP(BA61,List!$B$2:$D$6,3,1)","v":4},{"$f":"VLOOKUP(BB61,List!$B$2:$D$6,3,1)","v":4},{"$f":"VLOOKUP(BC61,List!$B$2:$D$6,3,1)","v":4},{"$f":"VLOOKUP(BD61,List!$B$2:$D$6,3,1)","v":4},{"$f":"VLOOKUP(BE61,List!$B$2:$D$6,3,1)","v":4},{"$f":"VLOOKUP(BF61,List!$B$2:$D$6,3,1)","v":4},{"$f":"VLOOKUP(BG61,List!$B$2:$D$6,3,1)","v":4},{"$f":"VLOOKUP(BH61,List!$B$2:$D$6,3,1)","v":4},95526.738434935076,107194.58322937823,120742.50279640792,141907.91927312032,157244.19693296845,181910.76504531261,204055.42613513261,223447,232736.04572495728,247823.77736511026,267978.26225864899,267572.82285252109,253905,284379.01630813663,279791.21690973052,284226.25376556965,292208.59264006693,{"$f":"VLOOKUP(BZ61,List!$C$2:$D$6,2,1)","v":2},{"$f":"VLOOKUP(CA61,List!$C$2:$D$6,2,1)","v":2},{"$f":"VLOOKUP(CB61,List!$C$2:$D$6,2,1)","v":2},{"$f":"VLOOKUP(CC61,List!$C$2:$D$6,2,1)","v":2},{"$f":"VLOOKUP(CD61,List!$C$2:$D$6,2,1)","v":3},{"$f":"VLOOKUP(CE61,List!$C$2:$D$6,2,1)","v":3},{"$f":"VLOOKUP(CF61,List!$C$2:$D$6,2,1)","v":3},{"$f":"VLOOKUP(CG61,List!$C$2:$D$6,2,1)","v":3},{"$f":"VLOOKUP(CH61,List!$C$2:$D$6,2,1)","v":3},{"$f":"VLOOKUP(CI61,List!$C$2:$D$6,2,1)","v":3},{"$f":"VLOOKUP(CJ61,List!$C$2:$D$6,2,1)","v":4},{"$f":"VLOOKUP(CK61,List!$C$2:$D$6,2,1)","v":4},{"$f":"VLOOKUP(CL61,List!$C$2:$D$6,2,1)","v":4},{"$f":"VLOOKUP(CM61,List!$C$2:$D$6,2,1)","v":4},{"$f":"VLOOKUP(CN61,List!$C$2:$D$6,2,1)","v":4},{"$f":"VLOOKUP(CO61,List!$C$2:$D$6,2,1)","v":4},{"$f":"VLOOKUP(CP61,List!$C$2:$D$6,2,1)","v":4}]
["South East","Oxfordshire",null,11200,19200,10400,20400,6,{"$f":"VLOOKUP(G62,List!$A$2:$D$6,4,1)","v":3},15936.447395204832,16334.858580084954,16743.230044587075,17161.810795701749,17590.856065594293,18030.62746723415,18481.393153915003,18943.427982762878,19417.013682331944,19902.439024390245,19902.439024390245,20400,20910,21432.75,21968.568749999999,22517.782968749994,23080.727542968743,{"$f":"VLOOKUP(J62,List!$A$2:$D$6,4,1)","v":1},{"$f":"VLOOKUP(K62,List!$A$2:$D$6,4,1)","v":2},{"$f":"VLOOKUP(L62,List!$A$2:$D$6,4,1)","v":2},{"$f":"VLOOKUP(M62,List!$A$2:$D$6,4,1)","v":2},{"$f":"VLOOKUP(N62,List!$A$2:$D$6,4,1)","v":2},{"$f":"VLOOKUP(O62,List!$A$2:$D$6,4,1)","v":2},{"$f":"VLOOKUP(P62,List!$A$2:$D$6,4,1)","v":2},{"$f":"VLOOKUP(Q62,List!$A$2:$D$6,4,1)","v":2},{"$f":"VLOOKUP(R62,List!$A$2:$D$6,4,1)","v":2},{"$f":"VLOOKUP(S62,List!$A$2:$D$6,4,1)","v":2},{"$f":"VLOOKUP(T62,List!$A$2:$D$6,4,1)","v":2},{"$f":"VLOOKUP(U62,List!$A$2:$D$6,4,1)","v":3},{"$f":"VLOOKUP(V62,List!$A$2:$D$6,4,1)","v":3},{"$f":"VLOOKUP(W62,List!$A$2:$D$6,4,1)","v":3},{"$f":"VLOOKUP(X62,List!$A$2:$D$6,4,1)","v":3},{"$f":"VLOOKUP(Y62,List!$A$2:$D$6,4,1)","v":4},{"$f":"VLOOKUP(Z62,List!$A$2:$D$6,4,1)","v":4},4.1399999999999997,4.38,4.6500000000000004,5.44,5.82,6.28,7.16,7.71,8.08,7.97,8.4499999999999993,8.42,7.28,8.2323692052941198,7.9703028585698226,8.1277728482697427,8.274647887323944,{"$f":"VLOOKUP(AR62,List!$B$2:$D$6,3,1)","v":1},{"$f":"VLOOKUP(AS62,List!$B$2:$D$6,3,1)","v":1},{"$f":"VLOOKUP(AT62,List!$B$2:$D$6,3,1)","v":2},{"$f":"VLOOKUP(AU62,List!$B$2:$D$6,3,1)","v":2},{"$f":"VLOOKUP(AV62,List!$B$2:$D$6,3,1)","v":3},{"$f":"VLOOKUP(AW62,List!$B$2:$D$6,3,1)","v":3},{"$f":"VLOOKUP(AX62,List!$B$2:$D$6,3,1)","v":4},{"$f":"VLOOKUP(AY62,List!$B$2:$D$6,3,1)","v":4},{"$f":"VLOOKUP(AZ62,List!$B$2:$D$6,3,1)","v":4},{"$f":"VLOOKUP(BA62,List!$B$2:$D$6,3,1)","v":4},{"$f":"VLOOKUP(BB62,List!$B$2:$D$6,3,1)","v":4},{"$f":"VLOOKUP(BC62,List!$B$2:$D$6,3,1)","v":4},{"$f":"VLOOKUP(BD62,List!$B$2:$D$6,3,1)","v":4},{"$f":"VLOOKUP(BE62,List!$B$2:$D$6,3,1)","v":4},{"$f":"VLOOKUP(BF62,List!$B$2:$D$6,3,1)","v":4},{"$f":"VLOOKUP(BG62,List!$B$2:$D$6,3,1)","v":4},{"$f":"VLOOKUP(BH62,List!$B$2:$D$6,3,1)","v":4},95526.738434935076,107194.58322937823,120742.50279640792,141907.91927312032,157244.19693296845,181910.76504531261,204055.42613513261,223447,232736.04572495728,247823.77736511026,267978.26225864899,267572.82285252109,253905,284379.01630813663,279791.21690973052,284226.25376556965,292208.59264006693,{"$f":"VLOOKUP(BZ62,List!$C$2:$D$6,2,1)","v":2},{"$f":"VLOOKUP(CA62,List!$C$2:$D$6,2,1)","v":2},{"$f":"VLOOKUP(CB62,List!$C$2:$D$6,2,1)","v":2},{"$f":"VLOOKUP(CC62,List!$C$2:$D$6,2,1)","v":2},{"$f":"VLOOKUP(CD62,List!$C$2:$D$6,2,1)","v":3},{"$f":"VLOOKUP(CE62,List!$C$2:$D$6,2,1)","v":3},{"$f":"VLOOKUP(CF62,List!$C$2:$D$6,2,1)","v":3},{"$f":"VLOOKUP(CG62,List!$C$2:$D$6,2,1)","v":3},{"$f":"VLOOKUP(CH62,List!$C$2:$D$6,2,1)","v":3},{"$f":"VLOOKUP(CI62,List!$C$2:$D$6,2,1)","v":3},{"$f":"VLOOKUP(CJ62,List!$C$2:$D$6,2,1)","v":4},{"$f":"VLOOKUP(CK62,List!$C$2:$D$6,2,1)","v":4},{"$f":"VLOOKUP(CL62,List!$C$2:$D$6,2,1)","v":4},{"$f":"VLOOKUP(CM62,List!$C$2:$D$6,2,1)","v":4},{"$f":"VLOOKUP(CN62,List!$C$2:$D$6,2,1)","v":4},{"$f":"VLOOKUP(CO62,List!$C$2:$D$6,2,1)","v":4},{"$f":"VLOOKUP(CP62,List!$C$2:$D$6,2,1)","v":4}]
["South East","Surrey",null,11200,19200,10400,20400,6,{"$f":"VLOOKUP(G63,List!$A$2:$D$6,4,1)","v":3},15936.447395204832,16334.858580084954,16743.230044587075,17161.810795701749,17590.856065594293,18030.62746723415,18481.393153915003,18943.427982762878,19417.013682331944,19902.439024390245,19902.439024390245,20400,20910,21432.75,21968.568749999999,22517.782968749994,23080.727542968743,{"$f":"VLOOKUP(J63,List!$A$2:$D$6,4,1)","v":1},{"$f":"VLOOKUP(K63,List!$A$2:$D$6,4,1)","v":2},{"$f":"VLOOKUP(L63,List!$A$2:$D$6,4,1)","v":2},{"$f":"VLOOKUP(M63,List!$A$2:$D$6,4,1)","v":2},{"$f":"VLOOKUP(N63,List!$A$2:$D$6,4,1)","v":2},{"$f":"VLOOKUP(O63,List!$A$2:$D$6,4,1)","v":2},{"$f":"VLOOKUP(P63,List!$A$2:$D$6,4,1)","v":2},{"$f":"VLOOKUP(Q63,List!$A$2:$D$6,4,1)","v":2},{"$f":"VLOOKUP(R63,List!$A$2:$D$6,4,1)","v":2},{"$f":"VLOOKUP(S63,List!$A$2:$D$6,4,1)","v":2},{"$f":"VLOOKUP(T63,List!$A$2:$D$6,4,1)","v":2},{"$f":"VLOOKUP(U63,List!$A$2:$D$6,4,1)","v":3},{"$f":"VLOOKUP(V63,List!$A$2:$D$6,4,1)","v":3},{"$f":"VLOOKUP(W63,List!$A$2:$D$6,4,1)","v":3},{"$f":"VLOOKUP(X63,List!$A$2:$D$6,4,1)","v":3},{"$f":"VLOOKUP(Y63,List!$A$2:$D$6,4,1)","v":4},{"$f":"VLOOKUP(Z63,List!$A$2:$D$6,4,1)","v":4},4.1399999999999997,4.38,4.6500000000000004,5.44,5.82,6.28,7.16,7.71,8.08,7.97,8.4499999999999993,8.42,7.28,8.2323692052941198,7.9703028585698226,8.1277728482697427,8.274647887323944,{"$f":"VLOOKUP(AR63,List!$B$2:$D$6,3,1)","v":1},{"$f":"VLOOKUP(AS63,List!$B$2:$D$6,3,1)","v":1},{"$f":"VLOOKUP(AT63,List!$B$2:$D$6,3,1)","v":2},{"$f":"VLOOKUP(AU63,List!$B$2:$D$6,3,1)","v":2},{"$f":"VLOOKUP(AV63,List!$B$2:$D$6,3,1)","v":3},{"$f":"VLOOKUP(AW63,List!$B$2:$D$6,3,1)","v":3},{"$f":"VLOOKUP(AX63,List!$B$2:$D$6,3,1)","v":4},{"$f":"VLOOKUP(AY63,List!$B$2:$D$6,3,1)","v":4},{"$f":"VLOOKUP(AZ63,List!$B$2:$D$6,3,1)","v":4},{"$f":"VLOOKUP(BA63,List!$B$2:$D$6,3,1)","v":4},{"$f":"VLOOKUP(BB63,List!$B$2:$D$6,3,1)","v":4},{"$f":"VLOOKUP(BC63,List!$B$2:$D$6,3,1)","v":4},{"$f":"VLOOKUP(BD63,List!$B$2:$D$6,3,1)","v":4},{"$f":"VLOOKUP(BE63,List!$B$2:$D$6,3,1)","v":4},{"$f":"VLOOKUP(BF63,List!$B$2:$D$6,3,1)","v":4},{"$f":"VLOOKUP(BG63,List!$B$2:$D$6,3,1)","v":4},{"$f":"VLOOKUP(BH63,List!$B$2:$D$6,3,1)","v":4},95526.738434935076,107194.58322937823,120742.50279640792,141907.91927312032,157244.19693296845,181910.76504531261,204055.42613513261,223447,232736.04572495728,247823.77736511026,267978.26225864899,267572.82285252109,253905,284379.01630813663,279791.21690973052,284226.25376556965,292208.59264006693,{"$f":"VLOOKUP(BZ63,List!$C$2:$D$6,2,1)","v":2},{"$f":"VLOOKUP(CA63,List!$C$2:$D$6,2,1)","v":2},{"$f":"VLOOKUP(CB63,List!$C$2:$D$6,2,1)","v":2},{"$f":"VLOOKUP(CC63,List!$C$2:$D$6,2,1)","v":2},{"$f":"VLOOKUP(CD63,List!$C$2:$D$6,2,1)","v":3},{"$f":"VLOOKUP(CE63,List!$C$2:$D$6,2,1)","v":3},{"$f":"VLOOKUP(CF63,List!$C$2:$D$6,2,1)","v":3},{"$f":"VLOOKUP(CG63,List!$C$2:$D$6,2,1)","v":3},{"$f":"VLOOKUP(CH63,List!$C$2:$D$6,2,1)","v":3},{"$f":"VLOOKUP(CI63,List!$C$2:$D$6,2,1)","v":3},{"$f":"VLOOKUP(CJ63,List!$C$2:$D$6,2,1)","v":4},{"$f":"VLOOKUP(CK63,List!$C$2:$D$6,2,1)","v":4},{"$f":"VLOOKUP(CL63,List!$C$2:$D$6,2,1)","v":4},{"$f":"VLOOKUP(CM63,List!$C$2:$D$6,2,1)","v":4},{"$f":"VLOOKUP(CN63,List!$C$2:$D$6,2,1)","v":4},{"$f":"VLOOKUP(CO63,List!$C$2:$D$6,2,1)","v":4},{"$f":"VLOOKUP(CP63,List!$C$2:$D$6,2,1)","v":4}]
["South East","West Berkshire",null,11200,19200,10400,20400,6,{"$f":"VLOOKUP(G64,List!$A$2:$D$6,4,1)","v":3},15936.447395204832,16334.858580084954,16743.230044587075,17161.810795701749,17590.856065594293,18030.62746723415,18481.393153915003,18943.427982762878,19417.013682331944,19902.439024390245,19902.439024390245,20400,20910,21432.75,21968.568749999999,22517.782968749994,23080.727542968743,{"$f":"VLOOKUP(J64,List!$A$2:$D$6,4,1)","v":1},{"$f":"VLOOKUP(K64,List!$A$2:$D$6,4,1)","v":2},{"$f":"VLOOKUP(L64,List!$A$2:$D$6,4,1)","v":2},{"$f":"VLOOKUP(M64,List!$A$2:$D$6,4,1)","v":2},{"$f":"VLOOKUP(N64,List!$A$2:$D$6,4,1)","v":2},{"$f":"VLOOKUP(O64,List!$A$2:$D$6,4,1)","v":2},{"$f":"VLOOKUP(P64,List!$A$2:$D$6,4,1)","v":2},{"$f":"VLOOKUP(Q64,List!$A$2:$D$6,4,1)","v":2},{"$f":"VLOOKUP(R64,List!$A$2:$D$6,4,1)","v":2},{"$f":"VLOOKUP(S64,List!$A$2:$D$6,4,1)","v":2},{"$f":"VLOOKUP(T64,List!$A$2:$D$6,4,1)","v":2},{"$f":"VLOOKUP(U64,List!$A$2:$D$6,4,1)","v":3},{"$f":"VLOOKUP(V64,List!$A$2:$D$6,4,1)","v":3},{"$f":"VLOOKUP(W64,List!$A$2:$D$6,4,1)","v":3},{"$f":"VLOOKUP(X64,List!$A$2:$D$6,4,1)","v":3},{"$f":"VLOOKUP(Y64,List!$A$2:$D$6,4,1)","v":4},{"$f":"VLOOKUP(Z64,List!$A$2:$D$6,4,1)","v":4},4.1399999999999997,4.38,4.6500000000000004,5.44,5.82,6.28,7.16,7.71,8.08,7.97,8.4499999999999993,8.42,7.28,8.2323692052941198,7.9703028585698226,8.1277728482697427,8.274647887323944,{"$f":"VLOOKUP(AR64,List!$B$2:$D$6,3,1)","v":1},{"$f":"VLOOKUP(AS64,List!$B$2:$D$6,3,1)","v":1},{"$f":"VLOOKUP(AT64,List!$B$2:$D$6,3,1)","v":2},{"$f":"VLOOKUP(AU64,List!$B$2:$D$6,3,1)","v":2},{"$f":"VLOOKUP(AV64,List!$B$2:$D$6,3,1)","v":3},{"$f":"VLOOKUP(AW64,List!$B$2:$D$6,3,1)","v":3},{"$f":"VLOOKUP(AX64,List!$B$2:$D$6,3,1)","v":4},{"$f":"VLOOKUP(AY64,List!$B$2:$D$6,3,1)","v":4},{"$f":"VLOOKUP(AZ64,List!$B$2:$D$6,3,1)","v":4},{"$f":"VLOOKUP(BA64,List!$B$2:$D$6,3,1)","v":4},{"$f":"VLOOKUP(BB64,List!$B$2:$D$6,3,1)","v":4},{"$f":"VLOOKUP(BC64,List!$B$2:$D$6,3,1)","v":4},{"$f":"VLOOKUP(BD64,List!$B$2:$D$6,3,1)","v":4},{"$f":"VLOOKUP(BE64,List!$B$2:$D$6,3,1)","v":4},{"$f":"VLOOKUP(BF64,List!$B$2:$D$6,3,1)","v":4},{"$f":"VLOOKUP(BG64,List!$B$2:$D$6,3,1)","v":4},{"$f":"VLOOKUP(BH64,List!$B$2:$D$6,3,1)","v":4},95526.738434935076,107194.58322937823,120742.50279640792,141907.91927312032,157244.19693296845,181910.76504531261,204055.42613513261,223447,232736.04572495728,247823.77736511026,267978.26225864899,267572.82285252109,253905,284379.01630813663,279791.21690973052,284226.25376556965,292208.59264006693,{"$f":"VLOOKUP(BZ64,List!$C$2:$D$6,2,1)","v":2},{"$f":"VLOOKUP(CA64,List!$C$2:$D$6,2,1)","v":2},{"$f":"VLOOKUP(CB64,List!$C$2:$D$6,2,1)","v":2},{"$f":"VLOOKUP(CC64,List!$C$2:$D$6,2,1)","v":2},{"$f":"VLOOKUP(CD64,List!$C$2:$D$6,2,1)","v":3},{"$f":"VLOOKUP(CE64,List!$C$2:$D$6,2,1)","v":3},{"$f":"VLOOKUP(CF64,List!$C$2:$D$6,2,1)","v":3},{"$f":"VLOOKUP(CG64,List!$C$2:$D$6,2,1)","v":3},{"$f":"VLOOKUP(CH64,List!$C$2:$D$6,2,1)","v":3},{"$f":"VLOOKUP(CI64,List!$C$2:$D$6,2,1)","v":3},{"$f":"VLOOKUP(CJ64,List!$C$2:$D$6,2,1)","v":4},{"$f":"VLOOKUP(CK64,List!$C$2:$D$6,2,1)","v":4},{"$f":"VLOOKUP(CL64,List!$C$2:$D$6,2,1)","v":4},{"$f":"VLOOKUP(CM64,List!$C$2:$D$6,2,1)","v":4},{"$f":"VLOOKUP(CN64,List!$C$2:$D$6,2,1)","v":4},{"$f":"VLOOKUP(CO64,List!$C$2:$D$6,2,1)","v":4},{"$f":"VLOOKUP(CP64,List!$C$2:$D$6,2,1)","v":4}]
["South East","West Sussex",null,11200,19200,10400,20400,6,{"$f":"VLOOKUP(G65,List!$A$2:$D$6,4,1)","v":3},15936.447395204832,16334.858580084954,16743.230044587075,17161.810795701749,17590.856065594293,18030.62746723415,18481.393153915003,18943.427982762878,19417.013682331944,19902.439024390245,19902.439024390245,20400,20910,21432.75,21968.568749999999,22517.782968749994,23080.727542968743,{"$f":"VLOOKUP(J65,List!$A$2:$D$6,4,1)","v":1},{"$f":"VLOOKUP(K65,List!$A$2:$D$6,4,1)","v":2},{"$f":"VLOOKUP(L65,List!$A$2:$D$6,4,1)","v":2},{"$f":"VLOOKUP(M65,List!$A$2:$D$6,4,1)","v":2},{"$f":"VLOOKUP(N65,List!$A$2:$D$6,4,1)","v":2},{"$f":"VLOOKUP(O65,List!$A$2:$D$6,4,1)","v":2},{"$f":"VLOOKUP(P65,List!$A$2:$D$6,4,1)","v":2},{"$f":"VLOOKUP(Q65,List!$A$2:$D$6,4,1)","v":2},{"$f":"VLOOKUP(R65,List!$A$2:$D$6,4,1)","v":2},{"$f":"VLOOKUP(S65,List!$A$2:$D$6,4,1)","v":2},{"$f":"VLOOKUP(T65,List!$A$2:$D$6,4,1)","v":2},{"$f":"VLOOKUP(U65,List!$A$2:$D$6,4,1)","v":3},{"$f":"VLOOKUP(V65,List!$A$2:$D$6,4,1)","v":3},{"$f":"VLOOKUP(W65,List!$A$2:$D$6,4,1)","v":3},{"$f":"VLOOKUP(X65,List!$A$2:$D$6,4,1)","v":3},{"$f":"VLOOKUP(Y65,List!$A$2:$D$6,4,1)","v":4},{"$f":"VLOOKUP(Z65,List!$A$2:$D$6,4,1)","v":4},4.1399999999999997,4.38,4.6500000000000004,5.44,5.82,6.28,7.16,7.71,8.08,7.97,8.4499999999999993,8.42,7.28,8.2323692052941198,7.9703028585698226,8.1277728482697427,8.274647887323944,{"$f":"VLOOKUP(AR65,List!$B$2:$D$6,3,1)","v":1},{"$f":"VLOOKUP(AS65,List!$B$2:$D$6,3,1)","v":1},{"$f":"VLOOKUP(AT65,List!$B$2:$D$6,3,1)","v":2},{"$f":"VLOOKUP(AU65,List!$B$2:$D$6,3,1)","v":2},{"$f":"VLOOKUP(AV65,List!$B$2:$D$6,3,1)","v":3},{"$f":"VLOOKUP(AW65,List!$B$2:$D$6,3,1)","v":3},{"$f":"VLOOKUP(AX65,List!$B$2:$D$6,3,1)","v":4},{"$f":"VLOOKUP(AY65,List!$B$2:$D$6,3,1)","v":4},{"$f":"VLOOKUP(AZ65,List!$B$2:$D$6,3,1)","v":4},{"$f":"VLOOKUP(BA65,List!$B$2:$D$6,3,1)","v":4},{"$f":"VLOOKUP(BB65,List!$B$2:$D$6,3,1)","v":4},{"$f":"VLOOKUP(BC65,List!$B$2:$D$6,3,1)","v":4},{"$f":"VLOOKUP(BD65,List!$B$2:$D$6,3,1)","v":4},{"$f":"VLOOKUP(BE65,List!$B$2:$D$6,3,1)","v":4},{"$f":"VLOOKUP(BF65,List!$B$2:$D$6,3,1)","v":4},{"$f":"VLOOKUP(BG65,List!$B$2:$D$6,3,1)","v":4},{"$f":"VLOOKUP(BH65,List!$B$2:$D$6,3,1)","v":4},95526.738434935076,107194.58322937823,120742.50279640792,141907.91927312032,157244.19693296845,181910.76504531261,204055.42613513261,223447,232736.04572495728,247823.77736511026,267978.26225864899,267572.82285252109,253905,284379.01630813663,279791.21690973052,284226.25376556965,292208.59264006693,{"$f":"VLOOKUP(BZ65,List!$C$2:$D$6,2,1)","v":2},{"$f":"VLOOKUP(CA65,List!$C$2:$D$6,2,1)","v":2},{"$f":"VLOOKUP(CB65,List!$C$2:$D$6,2,1)","v":2},{"$f":"VLOOKUP(CC65,List!$C$2:$D$6,2,1)","v":2},{"$f":"VLOOKUP(CD65,List!$C$2:$D$6,2,1)","v":3},{"$f":"VLOOKUP(CE65,List!$C$2:$D$6,2,1)","v":3},{"$f":"VLOOKUP(CF65,List!$C$2:$D$6,2,1)","v":3},{"$f":"VLOOKUP(CG65,List!$C$2:$D$6,2,1)","v":3},{"$f":"VLOOKUP(CH65,List!$C$2:$D$6,2,1)","v":3},{"$f":"VLOOKUP(CI65,List!$C$2:$D$6,2,1)","v":3},{"$f":"VLOOKUP(CJ65,List!$C$2:$D$6,2,1)","v":4},{"$f":"VLOOKUP(CK65,List!$C$2:$D$6,2,1)","v":4},{"$f":"VLOOKUP(CL65,List!$C$2:$D$6,2,1)","v":4},{"$f":"VLOOKUP(CM65,List!$C$2:$D$6,2,1)","v":4},{"$f":"VLOOKUP(CN65,List!$C$2:$D$6,2,1)","v":4},{"$f":"VLOOKUP(CO65,List!$C$2:$D$6,2,1)","v":4},{"$f":"VLOOKUP(CP65,List!$C$2:$D$6,2,1)","v":4}]
["South West","Bristol",null,9980,16800,9670,18000,8,{"$f":"VLOOKUP(G66,List!$A$2:$D$6,4,1)","v":2},{"$f":"$G66*(1.025)^-COLUMN(J:J)","v":14061.571231063088},{"$f":"$G66*(1.025)^-COLUMN(I:I)","v":14413.110511839666},{"$f":"$G66*(1.025)^-COLUMN(H:H)","v":14773.438274635653},{"$f":"$G66*(1.025)^-COLUMN(G:G)","v":15142.774231501544},{"$f":"$G66*(1.025)^-COLUMN(F:F)","v":15521.343587289082},{"$f":"$G66*(1.025)^-COLUMN(E:E)","v":15909.377176971308},{"$f":"$G66*(1.025)^-COLUMN(D:D)","v":16307.111606395591},{"$f":"$G66*(1.025)^-COLUMN(C:C)","v":16714.789396555479},{"$f":"$G66*(1.025)^-COLUMN(B:B)","v":17132.659131469365},{"$f":"$G66*(1.025)^-COLUMN(A:A)","v":17560.9756097561},{"$f":"$G66*(1.025)^-COLUMN(A:A)","v":17560.9756097561},{"$f":"$G66*(1.025)^0","v":18000},{"$f":"$G66*(1.025)^COLUMN(A:A)","v":18450},{"$f":"$G66*(1.025)^COLUMN(B:B)","v":18911.25},{"$f":"$G66*(1.025)^COLUMN(C:C)","v":19384.031249999996},{"$f":"$G66*(1.025)^COLUMN(D:D)","v":19868.632031249996},{"$f":"$G66*(1.025)^COLUMN(E:E)","v":20365.347832031242},{"$f":"VLOOKUP(J66,List!$A$2:$D$6,4,1)","v":1},{"$f":"VLOOKUP(K66,List!$A$2:$D$6,4,1)","v":1},{"$f":"VLOOKUP(L66,List!$A$2:$D$6,4,1)","v":1},{"$f":"VLOOKUP(M66,List!$A$2:$D$6,4,1)","v":1},{"$f":"VLOOKUP(N66,List!$A$2:$D$6,4,1)","v":1},{"$f":"VLOOKUP(O66,List!$A$2:$D$6,4,1)","v":1},{"$f":"VLOOKUP(P66,List!$A$2:$D$6,4,1)","v":2},{"$f":"VLOOKUP(Q66,List!$A$2:$D$6,4,1)","v":2},{"$f":"VLOOKUP(R66,List!$A$2:$D$6,4,1)","v":2},{"$f":"VLOOKUP(S66,List!$A$2:$D$6,4,1)","v":2},{"$f":"VLOOKUP(T66,List!$A$2:$D$6,4,1)","v":2},{"$f":"VLOOKUP(U66,List!$A$2:$D$6,4,1)","v":2},{"$f":"VLOOKUP(V66,List!$A$2:$D$6,4,1)","v":2},{"$f":"VLOOKUP(W66,List!$A$2:$D$6,4,1)","v":2},{"$f":"VLOOKUP(X66,List!$A$2:$D$6,4,1)","v":2},{"$f":"VLOOKUP(Y66,List!$A$2:$D$6,4,1)","v":2},{"$f":"VLOOKUP(Z66,List!$A$2:$D$6,4,1)","v":3},3.78,3.96,4.1399999999999997,4.68,5,5.93,6.92,7.71,8.0500000000000007,8.01,8.34,8.06,7.18,7.9108006667080044,7.5995381545313583,7.6075017289776659,7.5244544770504138,{"$f":"VLOOKUP(AR66,List!$B$2:$D$6,3,1)","v":1},{"$f":"VLOOKUP(AS66,List!$B$2:$D$6,3,1)","v":1},{"$f":"VLOOKUP(AT66,List!$B$2:$D$6,3,1)","v":1},{"$f":"VLOOKUP(AU66,List!$B$2:$D$6,3,1)","v":2},{"$f":"VLOOKUP(AV66,List!$B$2:$D$6,3,1)","v":2},{"$f":"VLOOKUP(AW66,List!$B$2:$D$6,3,1)","v":3},{"$f":"VLOOKUP(AX66,List!$B$2:$D$6,3,1)","v":3},{"$f":"VLOOKUP(AY66,List!$B$2:$D$6,3,1)","v":4},{"$f":"VLOOKUP(AZ66,List!$B$2:$D$6,3,1)","v":4},{"$f":"VLOOKUP(BA66,List!$B$2:$D$6,3,1)","v":4},{"$f":"VLOOKUP(BB66,List!$B$2:$D$6,3,1)","v":4},{"$f":"VLOOKUP(BC66,List!$B$2:$D$6,3,1)","v":4},{"$f":"VLOOKUP(BD66,List!$B$2:$D$6,3,1)","v":4},{"$f":"VLOOKUP(BE66,List!$B$2:$D$6,3,1)","v":4},{"$f":"VLOOKUP(BF66,List!$B$2:$D$6,3,1)","v":4},{"$f":"VLOOKUP(BG66,List!$B$2:$D$6,3,1)","v":4},{"$f":"VLOOKUP(BH66,List!$B$2:$D$6,3,1)","v":4},75569.613836654724,82110.175403839035,91532.087647638502,106151.49574097377,119822.91911519261,144935.03728313296,169976.10063910688,191697,199128.78835021026,210639.0364389474,228793.45820316125,222704.25197983094,210830,228940.34842641465,223163.81826425134,224251.24659070352,228354.41159503951,{"$f":"VLOOKUP(BZ66,List!$C$2:$D$6,2,1)","v":1},{"$f":"VLOOKUP(CA66,List!$C$2:$D$6,2,1)","v":1},{"$f":"VLOOKUP(CB66,List!$C$2:$D$6,2,1)","v":2},{"$f":"VLOOKUP(CC66,List!$C$2:$D$6,2,1)","v":2},{"$f":"VLOOKUP(CD66,List!$C$2:$D$6,2,1)","v":2},{"$f":"VLOOKUP(CE66,List!$C$2:$D$6,2,1)","v":2},{"$f":"VLOOKUP(CF66,List!$C$2:$D$6,2,1)","v":3},{"$f":"VLOOKUP(CG66,List!$C$2:$D$6,2,1)","v":3},{"$f":"VLOOKUP(CH66,List!$C$2:$D$6,2,1)","v":3},{"$f":"VLOOKUP(CI66,List!$C$2:$D$6,2,1)","v":3},{"$f":"VLOOKUP(CJ66,List!$C$2:$D$6,2,1)","v":3},{"$f":"VLOOKUP(CK66,List!$C$2:$D$6,2,1)","v":3},{"$f":"VLOOKUP(CL66,List!$C$2:$D$6,2,1)","v":3},{"$f":"VLOOKUP(CM66,List!$C$2:$D$6,2,1)","v":3},{"$f":"VLOOKUP(CN66,List!$C$2:$D$6,2,1)","v":3},{"$f":"VLOOKUP(CO66,List!$C$2:$D$6,2,1)","v":3},{"$f":"VLOOKUP(CP66,List!$C$2:$D$6,2,1)","v":3}]
["South West","Cornwall",null,9980,16800,9670,18000,8,{"$f":"VLOOKUP(G67,List!$A$2:$D$6,4,1)","v":2},14061.571231063088,14413.110511839666,14773.438274635653,15142.774231501544,15521.343587289082,15909.377176971308,16307.111606395591,16714.789396555479,17132.659131469365,17560.9756097561,17560.9756097561,18000,18450,18911.25,19384.031249999996,19868.632031249996,20365.347832031242,{"$f":"VLOOKUP(J67,List!$A$2:$D$6,4,1)","v":1},{"$f":"VLOOKUP(K67,List!$A$2:$D$6,4,1)","v":1},{"$f":"VLOOKUP(L67,List!$A$2:$D$6,4,1)","v":1},{"$f":"VLOOKUP(M67,List!$A$2:$D$6,4,1)","v":1},{"$f":"VLOOKUP(N67,List!$A$2:$D$6,4,1)","v":1},{"$f":"VLOOKUP(O67,List!$A$2:$D$6,4,1)","v":1},{"$f":"VLOOKUP(P67,List!$A$2:$D$6,4,1)","v":2},{"$f":"VLOOKUP(Q67,List!$A$2:$D$6,4,1)","v":2},{"$f":"VLOOKUP(R67,List!$A$2:$D$6,4,1)","v":2},{"$f":"VLOOKUP(S67,List!$A$2:$D$6,4,1)","v":2},{"$f":"VLOOKUP(T67,List!$A$2:$D$6,4,1)","v":2},{"$f":"VLOOKUP(U67,List!$A$2:$D$6,4,1)","v":2},{"$f":"VLOOKUP(V67,List!$A$2:$D$6,4,1)","v":2},{"$f":"VLOOKUP(W67,List!$A$2:$D$6,4,1)","v":2},{"$f":"VLOOKUP(X67,List!$A$2:$D$6,4,1)","v":2},{"$f":"VLOOKUP(Y67,List!$A$2:$D$6,4,1)","v":2},{"$f":"VLOOKUP(Z67,List!$A$2:$D$6,4,1)","v":3},3.78,3.96,4.1399999999999997,4.68,5,5.93,6.92,7.71,8.0500000000000007,8.01,8.34,8.06,7.18,7.9108006667080044,7.5995381545313583,7.6075017289776659,7.5244544770504138,{"$f":"VLOOKUP(AR67,List!$B$2:$D$6,3,1)","v":1},{"$f":"VLOOKUP(AS67,List!$B$2:$D$6,3,1)","v":1},{"$f":"VLOOKUP(AT67,List!$B$2:$D$6,3,1)","v":1},{"$f":"VLOOKUP(AU67,List!$B$2:$D$6,3,1)","v":2},{"$f":"VLOOKUP(AV67,List!$B$2:$D$6,3,1)","v":2},{"$f":"VLOOKUP(AW67,List!$B$2:$D$6,3,1)","v":3},{"$f":"VLOOKUP(AX67,List!$B$2:$D$6,3,1)","v":3},{"$f":"VLOOKUP(AY67,List!$B$2:$D$6,3,1)","v":4},{"$f":"VLOOKUP(AZ67,List!$B$2:$D$6,3,1)","v":4},{"$f":"VLOOKUP(BA67,List!$B$2:$D$6,3,1)","v":4},{"$f":"VLOOKUP(BB67,List!$B$2:$D$6,3,1)","v":4},{"$f":"VLOOKUP(BC67,List!$B$2:$D$6,3,1)","v":4},{"$f":"VLOOKUP(BD67,List!$B$2:$D$6,3,1)","v":4},{"$f":"VLOOKUP(BE67,List!$B$2:$D$6,3,1)","v":4},{"$f":"VLOOKUP(BF67,List!$B$2:$D$6,3,1)","v":4},{"$f":"VLOOKUP(BG67,List!$B$2:$D$6,3,1)","v":4},{"$f":"VLOOKUP(BH67,List!$B$2:$D$6,3,1)","v":4},75569.613836654724,82110.175403839035,91532.087647638502,106151.49574097377,119822.91911519261,144935.03728313296,169976.10063910688,191697,199128.78835021026,210639.0364389474,228793.45820316125,222704.25197983094,210830,228940.34842641465,223163.81826425134,224251.24659070352,228354.41159503951,{"$f":"VLOOKUP(BZ67,List!$C$2:$D$6,2,1)","v":1},{"$f":"VLOOKUP(CA67,List!$C$2:$D$6,2,1)","v":1},{"$f":"VLOOKUP(CB67,List!$C$2:$D$6,2,1)","v":2},{"$f":"VLOOKUP(CC67,List!$C$2:$D$6,2,1)","v":2},{"$f":"VLOOKUP(CD67,List!$C$2:$D$6,2,1)","v":2},{"$f":"VLOOKUP(CE67,List!$C$2:$D$6,2,1)","v":2},{"$f":"VLOOKUP(CF67,List!$C$2:$D$6,2,1)","v":3},{"$f":"VLOOKUP(CG67,List!$C$2:$D$6,2,1)","v":3},{"$f":"VLOOKUP(CH67,List!$C$2:$D$6,2,1)","v":3},{"$f":"VLOOKUP(CI67,List!$C$2:$D$6,2,1)","v":3},{"$f":"VLOOKUP(CJ67,List!$C$2:$D$6,2,1)","v":3},{"$f":"VLOOKUP(CK67,List!$C$2:$D$6,2,1)","v":3},{"$f":"VLOOKUP(CL67,List!$C$2:$D$6,2,1)","v":3},{"$f":"VLOOKUP(CM67,List!$C$2:$D$6,2,1)","v":3},{"$f":"VLOOKUP(CN67,List!$C$2:$D$6,2,1)","v":3},{"$f":"VLOOKUP(CO67,List!$C$2:$D$6,2,1)","v":3},{"$f":"VLOOKUP(CP67,List!$C$2:$D$6,2,1)","v":3}]
["South West","Devon",null,9980,16800,9670,18000,8,{"$f":"VLOOKUP(G68,List!$A$2:$D$6,4,1)","v":2},14061.571231063088,14413.110511839666,14773.438274635653,15142.774231501544,15521.343587289082,15909.377176971308,16307.111606395591,16714.789396555479,17132.659131469365,17560.9756097561,17560.9756097561,18000,18450,18911.25,19384.031249999996,19868.632031249996,20365.347832031242,{"$f":"VLOOKUP(J68,List!$A$2:$D$6,4,1)","v":1},{"$f":"VLOOKUP(K68,List!$A$2:$D$6,4,1)","v":1},{"$f":"VLOOKUP(L68,List!$A$2:$D$6,4,1)","v":1},{"$f":"VLOOKUP(M68,List!$A$2:$D$6,4,1)","v":1},{"$f":"VLOOKUP(N68,List!$A$2:$D$6,4,1)","v":1},{"$f":"VLOOKUP(O68,List!$A$2:$D$6,4,1)","v":1},{"$f":"VLOOKUP(P68,List!$A$2:$D$6,4,1)","v":2},{"$f":"VLOOKUP(Q68,List!$A$2:$D$6,4,1)","v":2},{"$f":"VLOOKUP(R68,List!$A$2:$D$6,4,1)","v":2},{"$f":"VLOOKUP(S68,List!$A$2:$D$6,4,1)","v":2},{"$f":"VLOOKUP(T68,List!$A$2:$D$6,4,1)","v":2},{"$f":"VLOOKUP(U68,List!$A$2:$D$6,4,1)","v":2},{"$f":"VLOOKUP(V68,List!$A$2:$D$6,4,1)","v":2},{"$f":"VLOOKUP(W68,List!$A$2:$D$6,4,1)","v":2},{"$f":"VLOOKUP(X68,List!$A$2:$D$6,4,1)","v":2},{"$f":"VLOOKUP(Y68,List!$A$2:$D$6,4,1)","v":2},{"$f":"VLOOKUP(Z68,List!$A$2:$D$6,4,1)","v":3},3.78,3.96,4.1399999999999997,4.68,5,5.93,6.92,7.71,8.0500000000000007,8.01,8.34,8.06,7.18,7.9108006667080044,7.5995381545313583,7.6075017289776659,7.5244544770504138,{"$f":"VLOOKUP(AR68,List!$B$2:$D$6,3,1)","v":1},{"$f":"VLOOKUP(AS68,List!$B$2:$D$6,3,1)","v":1},{"$f":"VLOOKUP(AT68,List!$B$2:$D$6,3,1)","v":1},{"$f":"VLOOKUP(AU68,List!$B$2:$D$6,3,1)","v":2},{"$f":"VLOOKUP(AV68,List!$B$2:$D$6,3,1)","v":2},{"$f":"VLOOKUP(AW68,List!$B$2:$D$6,3,1)","v":3},{"$f":"VLOOKUP(AX68,List!$B$2:$D$6,3,1)","v":3},{"$f":"VLOOKUP(AY68,List!$B$2:$D$6,3,1)","v":4},{"$f":"VLOOKUP(AZ68,List!$B$2:$D$6,3,1)","v":4},{"$f":"VLOOKUP(BA68,List!$B$2:$D$6,3,1)","v":4},{"$f":"VLOOKUP(BB68,List!$B$2:$D$6,3,1)","v":4},{"$f":"VLOOKUP(BC68,List!$B$2:$D$6,3,1)","v":4},{"$f":"VLOOKUP(BD68,List!$B$2:$D$6,3,1)","v":4},{"$f":"VLOOKUP(BE68,List!$B$2:$D$6,3,1)","v":4},{"$f":"VLOOKUP(BF68,List!$B$2:$D$6,3,1)","v":4},{"$f":"VLOOKUP(BG68,List!$B$2:$D$6,3,1)","v":4},{"$f":"VLOOKUP(BH68,List!$B$2:$D$6,3,1)","v":4},75569.613836654724,82110.175403839035,91532.087647638502,106151.49574097377,119822.91911519261,144935.03728313296,169976.10063910688,191697,199128.78835021026,210639.0364389474,228793.45820316125,222704.25197983094,210830,228940.34842641465,223163.81826425134,224251.24659070352,228354.41159503951,{"$f":"VLOOKUP(BZ68,List!$C$2:$D$6,2,1)","v":1},{"$f":"VLOOKUP(CA68,List!$C$2:$D$6,2,1)","v":1},{"$f":"VLOOKUP(CB68,List!$C$2:$D$6,2,1)","v":2},{"$f":"VLOOKUP(CC68,List!$C$2:$D$6,2,1)","v":2},{"$f":"VLOOKUP(CD68,List!$C$2:$D$6,2,1)","v":2},{"$f":"VLOOKUP(CE68,List!$C$2:$D$6,2,1)","v":2},{"$f":"VLOOKUP(CF68,List!$C$2:$D$6,2,1)","v":3},{"$f":"VLOOKUP(CG68,List!$C$2:$D$6,2,1)","v":3},{"$f":"VLOOKUP(CH68,List!$C$2:$D$6,2,1)","v":3},{"$f":"VLOOKUP(CI68,List!$C$2:$D$6,2,1)","v":3},{"$f":"VLOOKUP(CJ68,List!$C$2:$D$6,2,1)","v":3},{"$f":"VLOOKUP(CK68,List!$C$2:$D$6,2,1)","v":3},{"$f":"VLOOKUP(CL68,List!$C$2:$D$6,2,1)","v":3},{"$f":"VLOOKUP(CM68,List!$C$2:$D$6,2,1)","v":3},{"$f":"VLOOKUP(CN68,List!$C$2:$D$6,2,1)","v":3},{"$f":"VLOOKUP(CO68,List!$C$2:$D$6,2,1)","v":3},{"$f":"VLOOKUP(CP68,List!$C$2:$D$6,2,1)","v":3}]
["South West","Dorset",null,9980,16800,9670,18000,8,{"$f":"VLOOKUP(G69,List!$A$2:$D$6,4,1)","v":2},14061.571231063088,14413.110511839666,14773.438274635653,15142.774231501544,15521.343587289082,15909.377176971308,16307.111606395591,16714.789396555479,17132.659131469365,17560.9756097561,17560.9756097561,18000,18450,18911.25,19384.031249999996,19868.632031249996,20365.347832031242,{"$f":"VLOOKUP(J69,List!$A$2:$D$6,4,1)","v":1},{"$f":"VLOOKUP(K69,List!$A$2:$D$6,4,1)","v":1},{"$f":"VLOOKUP(L69,List!$A$2:$D$6,4,1)","v":1},{"$f":"VLOOKUP(M69,List!$A$2:$D$6,4,1)","v":1},{"$f":"VLOOKUP(N69,List!$A$2:$D$6,4,1)","v":1},{"$f":"VLOOKUP(O69,List!$A$2:$D$6,4,1)","v":1},{"$f":"VLOOKUP(P69,List!$A$2:$D$6,4,1)","v":2},{"$f":"VLOOKUP(Q69,List!$A$2:$D$6,4,1)","v":2},{"$f":"VLOOKUP(R69,List!$A$2:$D$6,4,1)","v":2},{"$f":"VLOOKUP(S69,List!$A$2:$D$6,4,1)","v":2},{"$f":"VLOOKUP(T69,List!$A$2:$D$6,4,1)","v":2},{"$f":"VLOOKUP(U69,List!$A$2:$D$6,4,1)","v":2},{"$f":"VLOOKUP(V69,List!$A$2:$D$6,4,1)","v":2},{"$f":"VLOOKUP(W69,List!$A$2:$D$6,4,1)","v":2},{"$f":"VLOOKUP(X69,List!$A$2:$D$6,4,1)","v":2},{"$f":"VLOOKUP(Y69,List!$A$2:$D$6,4,1)","v":2},{"$f":"VLOOKUP(Z69,List!$A$2:$D$6,4,1)","v":3},3.78,3.96,4.1399999999999997,4.68,5,5.93,6.92,7.71,8.0500000000000007,8.01,8.34,8.06,7.18,7.9108006667080044,7.5995381545313583,7.6075017289776659,7.5244544770504138,{"$f":"VLOOKUP(AR69,List!$B$2:$D$6,3,1)","v":1},{"$f":"VLOOKUP(AS69,List!$B$2:$D$6,3,1)","v":1},{"$f":"VLOOKUP(AT69,List!$B$2:$D$6,3,1)","v":1},{"$f":"VLOOKUP(AU69,List!$B$2:$D$6,3,1)","v":2},{"$f":"VLOOKUP(AV69,List!$B$2:$D$6,3,1)","v":2},{"$f":"VLOOKUP(AW69,List!$B$2:$D$6,3,1)","v":3},{"$f":"VLOOKUP(AX69,List!$B$2:$D$6,3,1)","v":3},{"$f":"VLOOKUP(AY69,List!$B$2:$D$6,3,1)","v":4},{"$f":"VLOOKUP(AZ69,List!$B$2:$D$6,3,1)","v":4},{"$f":"VLOOKUP(BA69,List!$B$2:$D$6,3,1)","v":4},{"$f":"VLOOKUP(BB69,List!$B$2:$D$6,3,1)","v":4},{"$f":"VLOOKUP(BC69,List!$B$2:$D$6,3,1)","v":4},{"$f":"VLOOKUP(BD69,List!$B$2:$D$6,3,1)","v":4},{"$f":"VLOOKUP(BE69,List!$B$2:$D$6,3,1)","v":4},{"$f":"VLOOKUP(BF69,List!$B$2:$D$6,3,1)","v":4},{"$f":"VLOOKUP(BG69,List!$B$2:$D$6,3,1)","v":4},{"$f":"VLOOKUP(BH69,List!$B$2:$D$6,3,1)","v":4},75569.613836654724,82110.175403839035,91532.087647638502,106151.49574097377,119822.91911519261,144935.03728313296,169976.10063910688,191697,199128.78835021026,210639.0364389474,228793.45820316125,222704.25197983094,210830,228940.34842641465,223163.81826425134,224251.24659070352,228354.41159503951,{"$f":"VLOOKUP(BZ69,List!$C$2:$D$6,2,1)","v":1},{"$f":"VLOOKUP(CA69,List!$C$2:$D$6,2,1)","v":1},{"$f":"VLOOKUP(CB69,List!$C$2:$D$6,2,1)","v":2},{"$f":"VLOOKUP(CC69,List!$C$2:$D$6,2,1)","v":2},{"$f":"VLOOKUP(CD69,List!$C$2:$D$6,2,1)","v":2},{"$f":"VLOOKUP(CE69,List!$C$2:$D$6,2,1)","v":2},{"$f":"VLOOKUP(CF69,List!$C$2:$D$6,2,1)","v":3},{"$f":"VLOOKUP(CG69,List!$C$2:$D$6,2,1)","v":3},{"$f":"VLOOKUP(CH69,List!$C$2:$D$6,2,1)","v":3},{"$f":"VLOOKUP(CI69,List!$C$2:$D$6,2,1)","v":3},{"$f":"VLOOKUP(CJ69,List!$C$2:$D$6,2,1)","v":3},{"$f":"VLOOKUP(CK69,List!$C$2:$D$6,2,1)","v":3},{"$f":"VLOOKUP(CL69,List!$C$2:$D$6,2,1)","v":3},{"$f":"VLOOKUP(CM69,List!$C$2:$D$6,2,1)","v":3},{"$f":"VLOOKUP(CN69,List!$C$2:$D$6,2,1)","v":3},{"$f":"VLOOKUP(CO69,List!$C$2:$D$6,2,1)","v":3},{"$f":"VLOOKUP(CP69,List!$C$2:$D$6,2,1)","v":3}]
["South West","Gloucestershire",null,9980,16800,9670,18000,8,{"$f":"VLOOKUP(G70,List!$A$2:$D$6,4,1)","v":2},14061.571231063088,14413.110511839666,14773.438274635653,15142.774231501544,15521.343587289082,15909.377176971308,16307.111606395591,16714.789396555479,17132.659131469365,17560.9756097561,17560.9756097561,18000,18450,18911.25,19384.031249999996,19868.632031249996,20365.347832031242,{"$f":"VLOOKUP(J70,List!$A$2:$D$6,4,1)","v":1},{"$f":"VLOOKUP(K70,List!$A$2:$D$6,4,1)","v":1},{"$f":"VLOOKUP(L70,List!$A$2:$D$6,4,1)","v":1},{"$f":"VLOOKUP(M70,List!$A$2:$D$6,4,1)","v":1},{"$f":"VLOOKUP(N70,List!$A$2:$D$6,4,1)","v":1},{"$f":"VLOOKUP(O70,List!$A$2:$D$6,4,1)","v":1},{"$f":"VLOOKUP(P70,List!$A$2:$D$6,4,1)","v":2},{"$f":"VLOOKUP(Q70,List!$A$2:$D$6,4,1)","v":2},{"$f":"VLOOKUP(R70,List!$A$2:$D$6,4,1)","v":2},{"$f":"VLOOKUP(S70,List!$A$2:$D$6,4,1)","v":2},{"$f":"VLOOKUP(T70,List!$A$2:$D$6,4,1)","v":2},{"$f":"VLOOKUP(U70,List!$A$2:$D$6,4,1)","v":2},{"$f":"VLOOKUP(V70,List!$A$2:$D$6,4,1)","v":2},{"$f":"VLOOKUP(W70,List!$A$2:$D$6,4,1)","v":2},{"$f":"VLOOKUP(X70,List!$A$2:$D$6,4,1)","v":2},{"$f":"VLOOKUP(Y70,List!$A$2:$D$6,4,1)","v":2},{"$f":"VLOOKUP(Z70,List!$A$2:$D$6,4,1)","v":3},3.78,3.96,4.1399999999999997,4.68,5,5.93,6.92,7.71,8.0500000000000007,8.01,8.34,8.06,7.18,7.9108006667080044,7.5995381545313583,7.6075017289776659,7.5244544770504138,{"$f":"VLOOKUP(AR70,List!$B$2:$D$6,3,1)","v":1},{"$f":"VLOOKUP(AS70,List!$B$2:$D$6,3,1)","v":1},{"$f":"VLOOKUP(AT70,List!$B$2:$D$6,3,1)","v":1},{"$f":"VLOOKUP(AU70,List!$B$2:$D$6,3,1)","v":2},{"$f":"VLOOKUP(AV70,List!$B$2:$D$6,3,1)","v":2},{"$f":"VLOOKUP(AW70,List!$B$2:$D$6,3,1)","v":3},{"$f":"VLOOKUP(AX70,List!$B$2:$D$6,3,1)","v":3},{"$f":"VLOOKUP(AY70,List!$B$2:$D$6,3,1)","v":4},{"$f":"VLOOKUP(AZ70,List!$B$2:$D$6,3,1)","v":4},{"$f":"VLOOKUP(BA70,List!$B$2:$D$6,3,1)","v":4},{"$f":"VLOOKUP(BB70,List!$B$2:$D$6,3,1)","v":4},{"$f":"VLOOKUP(BC70,List!$B$2:$D$6,3,1)","v":4},{"$f":"VLOOKUP(BD70,List!$B$2:$D$6,3,1)","v":4},{"$f":"VLOOKUP(BE70,List!$B$2:$D$6,3,1)","v":4},{"$f":"VLOOKUP(BF70,List!$B$2:$D$6,3,1)","v":4},{"$f":"VLOOKUP(BG70,List!$B$2:$D$6,3,1)","v":4},{"$f":"VLOOKUP(BH70,List!$B$2:$D$6,3,1)","v":4},75569.613836654724,82110.175403839035,91532.087647638502,106151.49574097377,119822.91911519261,144935.03728313296,169976.10063910688,191697,199128.78835021026,210639.0364389474,228793.45820316125,222704.25197983094,210830,228940.34842641465,223163.81826425134,224251.24659070352,228354.41159503951,{"$f":"VLOOKUP(BZ70,List!$C$2:$D$6,2,1)","v":1},{"$f":"VLOOKUP(CA70,List!$C$2:$D$6,2,1)","v":1},{"$f":"VLOOKUP(CB70,List!$C$2:$D$6,2,1)","v":2},{"$f":"VLOOKUP(CC70,List!$C$2:$D$6,2,1)","v":2},{"$f":"VLOOKUP(CD70,List!$C$2:$D$6,2,1)","v":2},{"$f":"VLOOKUP(CE70,List!$C$2:$D$6,2,1)","v":2},{"$f":"VLOOKUP(CF70,List!$C$2:$D$6,2,1)","v":3},{"$f":"VLOOKUP(CG70,List!$C$2:$D$6,2,1)","v":3},{"$f":"VLOOKUP(CH70,List!$C$2:$D$6,2,1)","v":3},{"$f":"VLOOKUP(CI70,List!$C$2:$D$6,2,1)","v":3},{"$f":"VLOOKUP(CJ70,List!$C$2:$D$6,2,1)","v":3},{"$f":"VLOOKUP(CK70,List!$C$2:$D$6,2,1)","v":3},{"$f":"VLOOKUP(CL70,List!$C$2:$D$6,2,1)","v":3},{"$f":"VLOOKUP(CM70,List!$C$2:$D$6,2,1)","v":3},{"$f":"VLOOKUP(CN70,List!$C$2:$D$6,2,1)","v":3},{"$f":"VLOOKUP(CO70,List!$C$2:$D$6,2,1)","v":3},{"$f":"VLOOKUP(CP70,List!$C$2:$D$6,2,1)","v":3}]
["South West","Somerset",null,9980,16800,9670,18000,8,{"$f":"VLOOKUP(G71,List!$A$2:$D$6,4,1)","v":2},14061.571231063088,14413.110511839666,14773.438274635653,15142.774231501544,15521.343587289082,15909.377176971308,16307.111606395591,16714.789396555479,17132.659131469365,17560.9756097561,17560.9756097561,18000,18450,18911.25,19384.031249999996,19868.632031249996,20365.347832031242,{"$f":"VLOOKUP(J71,List!$A$2:$D$6,4,1)","v":1},{"$f":"VLOOKUP(K71,List!$A$2:$D$6,4,1)","v":1},{"$f":"VLOOKUP(L71,List!$A$2:$D$6,4,1)","v":1},{"$f":"VLOOKUP(M71,List!$A$2:$D$6,4,1)","v":1},{"$f":"VLOOKUP(N71,List!$A$2:$D$6,4,1)","v":1},{"$f":"VLOOKUP(O71,List!$A$2:$D$6,4,1)","v":1},{"$f":"VLOOKUP(P71,List!$A$2:$D$6,4,1)","v":2},{"$f":"VLOOKUP(Q71,List!$A$2:$D$6,4,1)","v":2},{"$f":"VLOOKUP(R71,List!$A$2:$D$6,4,1)","v":2},{"$f":"VLOOKUP(S71,List!$A$2:$D$6,4,1)","v":2},{"$f":"VLOOKUP(T71,List!$A$2:$D$6,4,1)","v":2},{"$f":"VLOOKUP(U71,List!$A$2:$D$6,4,1)","v":2},{"$f":"VLOOKUP(V71,List!$A$2:$D$6,4,1)","v":2},{"$f":"VLOOKUP(W71,List!$A$2:$D$6,4,1)","v":2},{"$f":"VLOOKUP(X71,List!$A$2:$D$6,4,1)","v":2},{"$f":"VLOOKUP(Y71,List!$A$2:$D$6,4,1)","v":2},{"$f":"VLOOKUP(Z71,List!$A$2:$D$6,4,1)","v":3},3.78,3.96,4.1399999999999997,4.68,5,5.93,6.92,7.71,8.0500000000000007,8.01,8.34,8.06,7.18,7.9108006667080044,7.5995381545313583,7.6075017289776659,7.5244544770504138,{"$f":"VLOOKUP(AR71,List!$B$2:$D$6,3,1)","v":1},{"$f":"VLOOKUP(AS71,List!$B$2:$D$6,3,1)","v":1},{"$f":"VLOOKUP(AT71,List!$B$2:$D$6,3,1)","v":1},{"$f":"VLOOKUP(AU71,List!$B$2:$D$6,3,1)","v":2},{"$f":"VLOOKUP(AV71,List!$B$2:$D$6,3,1)","v":2},{"$f":"VLOOKUP(AW71,List!$B$2:$D$6,3,1)","v":3},{"$f":"VLOOKUP(AX71,List!$B$2:$D$6,3,1)","v":3},{"$f":"VLOOKUP(AY71,List!$B$2:$D$6,3,1)","v":4},{"$f":"VLOOKUP(AZ71,List!$B$2:$D$6,3,1)","v":4},{"$f":"VLOOKUP(BA71,List!$B$2:$D$6,3,1)","v":4},{"$f":"VLOOKUP(BB71,List!$B$2:$D$6,3,1)","v":4},{"$f":"VLOOKUP(BC71,List!$B$2:$D$6,3,1)","v":4},{"$f":"VLOOKUP(BD71,List!$B$2:$D$6,3,1)","v":4},{"$f":"VLOOKUP(BE71,List!$B$2:$D$6,3,1)","v":4},{"$f":"VLOOKUP(BF71,List!$B$2:$D$6,3,1)","v":4},{"$f":"VLOOKUP(BG71,List!$B$2:$D$6,3,1)","v":4},{"$f":"VLOOKUP(BH71,List!$B$2:$D$6,3,1)","v":4},75569.613836654724,82110.175403839035,91532.087647638502,106151.49574097377,119822.91911519261,144935.03728313296,169976.10063910688,191697,199128.78835021026,210639.0364389474,228793.45820316125,222704.25197983094,210830,228940.34842641465,223163.81826425134,224251.24659070352,228354.41159503951,{"$f":"VLOOKUP(BZ71,List!$C$2:$D$6,2,1)","v":1},{"$f":"VLOOKUP(CA71,List!$C$2:$D$6,2,1)","v":1},{"$f":"VLOOKUP(CB71,List!$C$2:$D$6,2,1)","v":2},{"$f":"VLOOKUP(CC71,List!$C$2:$D$6,2,1)","v":2},{"$f":"VLOOKUP(CD71,List!$C$2:$D$6,2,1)","v":2},{"$f":"VLOOKUP(CE71,List!$C$2:$D$6,2,1)","v":2},{"$f":"VLOOKUP(CF71,List!$C$2:$D$6,2,1)","v":3},{"$f":"VLOOKUP(CG71,List!$C$2:$D$6,2,1)","v":3},{"$f":"VLOOKUP(CH71,List!$C$2:$D$6,2,1)","v":3},{"$f":"VLOOKUP(CI71,List!$C$2:$D$6,2,1)","v":3},{"$f":"VLOOKUP(CJ71,List!$C$2:$D$6,2,1)","v":3},{"$f":"VLOOKUP(CK71,List!$C$2:$D$6,2,1)","v":3},{"$f":"VLOOKUP(CL71,List!$C$2:$D$6,2,1)","v":3},{"$f":"VLOOKUP(CM71,List!$C$2:$D$6,2,1)","v":3},{"$f":"VLOOKUP(CN71,List!$C$2:$D$6,2,1)","v":3},{"$f":"VLOOKUP(CO71,List!$C$2:$D$6,2,1)","v":3},{"$f":"VLOOKUP(CP71,List!$C$2:$D$6,2,1)","v":3}]
["South West","Wiltshire",null,9980,16800,9670,18000,8,{"$f":"VLOOKUP(G72,List!$A$2:$D$6,4,1)","v":2},14061.571231063088,14413.110511839666,14773.438274635653,15142.774231501544,15521.343587289082,15909.377176971308,16307.111606395591,16714.789396555479,17132.659131469365,17560.9756097561,17560.9756097561,18000,18450,18911.25,19384.031249999996,19868.632031249996,20365.347832031242,{"$f":"VLOOKUP(J72,List!$A$2:$D$6,4,1)","v":1},{"$f":"VLOOKUP(K72,List!$A$2:$D$6,4,1)","v":1},{"$f":"VLOOKUP(L72,List!$A$2:$D$6,4,1)","v":1},{"$f":"VLOOKUP(M72,List!$A$2:$D$6,4,1)","v":1},{"$f":"VLOOKUP(N72,List!$A$2:$D$6,4,1)","v":1},{"$f":"VLOOKUP(O72,List!$A$2:$D$6,4,1)","v":1},{"$f":"VLOOKUP(P72,List!$A$2:$D$6,4,1)","v":2},{"$f":"VLOOKUP(Q72,List!$A$2:$D$6,4,1)","v":2},{"$f":"VLOOKUP(R72,List!$A$2:$D$6,4,1)","v":2},{"$f":"VLOOKUP(S72,List!$A$2:$D$6,4,1)","v":2},{"$f":"VLOOKUP(T72,List!$A$2:$D$6,4,1)","v":2},{"$f":"VLOOKUP(U72,List!$A$2:$D$6,4,1)","v":2},{"$f":"VLOOKUP(V72,List!$A$2:$D$6,4,1)","v":2},{"$f":"VLOOKUP(W72,List!$A$2:$D$6,4,1)","v":2},{"$f":"VLOOKUP(X72,List!$A$2:$D$6,4,1)","v":2},{"$f":"VLOOKUP(Y72,List!$A$2:$D$6,4,1)","v":2},{"$f":"VLOOKUP(Z72,List!$A$2:$D$6,4,1)","v":3},3.78,3.96,4.1399999999999997,4.68,5,5.93,6.92,7.71,8.0500000000000007,8.01,8.34,8.06,7.18,7.9108006667080044,7.5995381545313583,7.6075017289776659,7.5244544770504138,{"$f":"VLOOKUP(AR72,List!$B$2:$D$6,3,1)","v":1},{"$f":"VLOOKUP(AS72,List!$B$2:$D$6,3,1)","v":1},{"$f":"VLOOKUP(AT72,List!$B$2:$D$6,3,1)","v":1},{"$f":"VLOOKUP(AU72,List!$B$2:$D$6,3,1)","v":2},{"$f":"VLOOKUP(AV72,List!$B$2:$D$6,3,1)","v":2},{"$f":"VLOOKUP(AW72,List!$B$2:$D$6,3,1)","v":3},{"$f":"VLOOKUP(AX72,List!$B$2:$D$6,3,1)","v":3},{"$f":"VLOOKUP(AY72,List!$B$2:$D$6,3,1)","v":4},{"$f":"VLOOKUP(AZ72,List!$B$2:$D$6,3,1)","v":4},{"$f":"VLOOKUP(BA72,List!$B$2:$D$6,3,1)","v":4},{"$f":"VLOOKUP(BB72,List!$B$2:$D$6,3,1)","v":4},{"$f":"VLOOKUP(BC72,List!$B$2:$D$6,3,1)","v":4},{"$f":"VLOOKUP(BD72,List!$B$2:$D$6,3,1)","v":4},{"$f":"VLOOKUP(BE72,List!$B$2:$D$6,3,1)","v":4},{"$f":"VLOOKUP(BF72,List!$B$2:$D$6,3,1)","v":4},{"$f":"VLOOKUP(BG72,List!$B$2:$D$6,3,1)","v":4},{"$f":"VLOOKUP(BH72,List!$B$2:$D$6,3,1)","v":4},75569.613836654724,82110.175403839035,91532.087647638502,106151.49574097377,119822.91911519261,144935.03728313296,169976.10063910688,191697,199128.78835021026,210639.0364389474,228793.45820316125,222704.25197983094,210830,228940.34842641465,223163.81826425134,224251.24659070352,228354.41159503951,{"$f":"VLOOKUP(BZ72,List!$C$2:$D$6,2,1)","v":1},{"$f":"VLOOKUP(CA72,List!$C$2:$D$6,2,1)","v":1},{"$f":"VLOOKUP(CB72,List!$C$2:$D$6,2,1)","v":2},{"$f":"VLOOKUP(CC72,List!$C$2:$D$6,2,1)","v":2},{"$f":"VLOOKUP(CD72,List!$C$2:$D$6,2,1)","v":2},{"$f":"VLOOKUP(CE72,List!$C$2:$D$6,2,1)","v":2},{"$f":"VLOOKUP(CF72,List!$C$2:$D$6,2,1)","v":3},{"$f":"VLOOKUP(CG72,List!$C$2:$D$6,2,1)","v":3},{"$f":"VLOOKUP(CH72,List!$C$2:$D$6,2,1)","v":3},{"$f":"VLOOKUP(CI72,List!$C$2:$D$6,2,1)","v":3},{"$f":"VLOOKUP(CJ72,List!$C$2:$D$6,2,1)","v":3},{"$f":"VLOOKUP(CK72,List!$C$2:$D$6,2,1)","v":3},{"$f":"VLOOKUP(CL72,List!$C$2:$D$6,2,1)","v":3},{"$f":"VLOOKUP(CM72,List!$C$2:$D$6,2,1)","v":3},{"$f":"VLOOKUP(CN72,List!$C$2:$D$6,2,1)","v":3},{"$f":"VLOOKUP(CO72,List!$C$2:$D$6,2,1)","v":3},{"$f":"VLOOKUP(CP72,List!$C$2:$D$6,2,1)","v":3}]
["West Midlands","Herefordshire",null,9970,16900,9330,17600,7,{"$f":"VLOOKUP(G73,List!$A$2:$D$6,4,1)","v":2},13749.091870372797,14092.819167132116,14445.139646310417,14806.268137468176,15176.424840904881,15555.835461927501,15944.731348475689,16343.349632187579,16751.933372992266,17170.731707317074,17170.731707317074,17600,18040,18491,18953.274999999998,19427.106874999998,19912.784546874995,{"$f":"VLOOKUP(J73,List!$A$2:$D$6,4,1)","v":1},{"$f":"VLOOKUP(K73,List!$A$2:$D$6,4,1)","v":1},{"$f":"VLOOKUP(L73,List!$A$2:$D$6,4,1)","v":1},{"$f":"VLOOKUP(M73,List!$A$2:$D$6,4,1)","v":1},{"$f":"VLOOKUP(N73,List!$A$2:$D$6,4,1)","v":1},{"$f":"VLOOKUP(O73,List!$A$2:$D$6,4,1)","v":1},{"$f":"VLOOKUP(P73,List!$A$2:$D$6,4,1)","v":1},{"$f":"VLOOKUP(Q73,List!$A$2:$D$6,4,1)","v":2},{"$f":"VLOOKUP(R73,List!$A$2:$D$6,4,1)","v":2},{"$f":"VLOOKUP(S73,List!$A$2:$D$6,4,1)","v":2},{"$f":"VLOOKUP(T73,List!$A$2:$D$6,4,1)","v":2},{"$f":"VLOOKUP(U73,List!$A$2:$D$6,4,1)","v":2},{"$f":"VLOOKUP(V73,List!$A$2:$D$6,4,1)","v":2},{"$f":"VLOOKUP(W73,List!$A$2:$D$6,4,1)","v":2},{"$f":"VLOOKUP(X73,List!$A$2:$D$6,4,1)","v":2},{"$f":"VLOOKUP(Y73,List!$A$2:$D$6,4,1)","v":2},{"$f":"VLOOKUP(Z73,List!$A$2:$D$6,4,1)","v":2},3.4,3.35,3.46,3.65,3.91,4.3899999999999997,5.07,6.04,6.19,6.43,6.46,6.11,5.67,5.1254160007286877,5.7775490339996969,5.9005819395271235,5.8206069215895191,{"$f":"VLOOKUP(AR73,List!$B$2:$D$6,3,1)","v":1},{"$f":"VLOOKUP(AS73,List!$B$2:$D$6,3,1)","v":1},{"$f":"VLOOKUP(AT73,List!$B$2:$D$6,3,1)","v":1},{"$f":"VLOOKUP(AU73,List!$B$2:$D$6,3,1)","v":1},{"$f":"VLOOKUP(AV73,List!$B$2:$D$6,3,1)","v":1},{"$f":"VLOOKUP(AW73,List!$B$2:$D$6,3,1)","v":1},{"$f":"VLOOKUP(AX73,List!$B$2:$D$6,3,1)","v":2},{"$f":"VLOOKUP(AY73,List!$B$2:$D$6,3,1)","v":3},{"$f":"VLOOKUP(AZ73,List!$B$2:$D$6,3,1)","v":3},{"$f":"VLOOKUP(BA73,List!$B$2:$D$6,3,1)","v":3},{"$f":"VLOOKUP(BB73,List!$B$2:$D$6,3,1)","v":3},{"$f":"VLOOKUP(BC73,List!$B$2:$D$6,3,1)","v":3},{"$f":"VLOOKUP(BD73,List!$B$2:$D$6,3,1)","v":3},{"$f":"VLOOKUP(BE73,List!$B$2:$D$6,3,1)","v":2},{"$f":"VLOOKUP(BF73,List!$B$2:$D$6,3,1)","v":3},{"$f":"VLOOKUP(BG73,List!$B$2:$D$6,3,1)","v":3},{"$f":"VLOOKUP(BH73,List!$B$2:$D$6,3,1)","v":3},66630.054437625702,71107.224125230205,77354.869021785475,84443.666009061082,95015.311313386759,111428.65447764356,131135.03722137262,151183,158751.42116298116,168853.55963400836,175463.75147655536,171597.69446583599,167569,177913.14429903813,169860.72445479955,171369.10800936676,176050.02006167732,{"$f":"VLOOKUP(BZ73,List!$C$2:$D$6,2,1)","v":1},{"$f":"VLOOKUP(CA73,List!$C$2:$D$6,2,1)","v":1},{"$f":"VLOOKUP(CB73,List!$C$2:$D$6,2,1)","v":1},{"$f":"VLOOKUP(CC73,List!$C$2:$D$6,2,1)","v":1},{"$f":"VLOOKUP(CD73,List!$C$2:$D$6,2,1)","v":2},{"$f":"VLOOKUP(CE73,List!$C$2:$D$6,2,1)","v":2},{"$f":"VLOOKUP(CF73,List!$C$2:$D$6,2,1)","v":2},{"$f":"VLOOKUP(CG73,List!$C$2:$D$6,2,1)","v":3},{"$f":"VLOOKUP(CH73,List!$C$2:$D$6,2,1)","v":3},{"$f":"VLOOKUP(CI73,List!$C$2:$D$6,2,1)","v":3},{"$f":"VLOOKUP(CJ73,List!$C$2:$D$6,2,1)","v":3},{"$f":"VLOOKUP(CK73,List!$C$2:$D$6,2,1)","v":3},{"$f":"VLOOKUP(CL73,List!$C$2:$D$6,2,1)","v":3},{"$f":"VLOOKUP(CM73,List!$C$2:$D$6,2,1)","v":3},{"$f":"VLOOKUP(CN73,List!$C$2:$D$6,2,1)","v":3},{"$f":"VLOOKUP(CO73,List!$C$2:$D$6,2,1)","v":3},{"$f":"VLOOKUP(CP73,List!$C$2:$D$6,2,1)","v":3}]
["West Midlands","Shropshire",null,9970,16900,9330,17600,7,{"$f":"VLOOKUP(G74,List!$A$2:$D$6,4,1)","v":2},13749.091870372797,14092.819167132116,14445.139646310417,14806.268137468176,15176.424840904881,15555.835461927501,15944.731348475689,16343.349632187579,16751.933372992266,17170.731707317074,17170.731707317074,17600,18040,18491,18953.274999999998,19427.106874999998,19912.784546874995,{"$f":"VLOOKUP(J74,List!$A$2:$D$6,4,1)","v":1},{"$f":"VLOOKUP(K74,List!$A$2:$D$6,4,1)","v":1},{"$f":"VLOOKUP(L74,List!$A$2:$D$6,4,1)","v":1},{"$f":"VLOOKUP(M74,List!$A$2:$D$6,4,1)","v":1},{"$f":"VLOOKUP(N74,List!$A$2:$D$6,4,1)","v":1},{"$f":"VLOOKUP(O74,List!$A$2:$D$6,4,1)","v":1},{"$f":"VLOOKUP(P74,List!$A$2:$D$6,4,1)","v":1},{"$f":"VLOOKUP(Q74,List!$A$2:$D$6,4,1)","v":2},{"$f":"VLOOKUP(R74,List!$A$2:$D$6,4,1)","v":2},{"$f":"VLOOKUP(S74,List!$A$2:$D$6,4,1)","v":2},{"$f":"VLOOKUP(T74,List!$A$2:$D$6,4,1)","v":2},{"$f":"VLOOKUP(U74,List!$A$2:$D$6,4,1)","v":2},{"$f":"VLOOKUP(V74,List!$A$2:$D$6,4,1)","v":2},{"$f":"VLOOKUP(W74,List!$A$2:$D$6,4,1)","v":2},{"$f":"VLOOKUP(X74,List!$A$2:$D$6,4,1)","v":2},{"$f":"VLOOKUP(Y74,List!$A$2:$D$6,4,1)","v":2},{"$f":"VLOOKUP(Z74,List!$A$2:$D$6,4,1)","v":2},3.4,3.35,3.46,3.65,3.91,4.3899999999999997,5.07,6.04,6.19,6.43,6.46,6.11,5.67,5.1254160007286877,5.7775490339996969,5.9005819395271235,5.8206069215895191,{"$f":"VLOOKUP(AR74,List!$B$2:$D$6,3,1)","v":1},{"$f":"VLOOKUP(AS74,List!$B$2:$D$6,3,1)","v":1},{"$f":"VLOOKUP(AT74,List!$B$2:$D$6,3,1)","v":1},{"$f":"VLOOKUP(AU74,List!$B$2:$D$6,3,1)","v":1},{"$f":"VLOOKUP(AV74,List!$B$2:$D$6,3,1)","v":1},{"$f":"VLOOKUP(AW74,List!$B$2:$D$6,3,1)","v":1},{"$f":"VLOOKUP(AX74,List!$B$2:$D$6,3,1)","v":2},{"$f":"VLOOKUP(AY74,List!$B$2:$D$6,3,1)","v":3},{"$f":"VLOOKUP(AZ74,List!$B$2:$D$6,3,1)","v":3},{"$f":"VLOOKUP(BA74,List!$B$2:$D$6,3,1)","v":3},{"$f":"VLOOKUP(BB74,List!$B$2:$D$6,3,1)","v":3},{"$f":"VLOOKUP(BC74,List!$B$2:$D$6,3,1)","v":3},{"$f":"VLOOKUP(BD74,List!$B$2:$D$6,3,1)","v":3},{"$f":"VLOOKUP(BE74,List!$B$2:$D$6,3,1)","v":2},{"$f":"VLOOKUP(BF74,List!$B$2:$D$6,3,1)","v":3},{"$f":"VLOOKUP(BG74,List!$B$2:$D$6,3,1)","v":3},{"$f":"VLOOKUP(BH74,List!$B$2:$D$6,3,1)","v":3},66630.054437625702,71107.224125230205,77354.869021785475,84443.666009061082,95015.311313386759,111428.65447764356,131135.03722137262,151183,158751.42116298116,168853.55963400836,175463.75147655536,171597.69446583599,167569,177913.14429903813,169860.72445479955,171369.10800936676,176050.02006167732,{"$f":"VLOOKUP(BZ74,List!$C$2:$D$6,2,1)","v":1},{"$f":"VLOOKUP(CA74,List!$C$2:$D$6,2,1)","v":1},{"$f":"VLOOKUP(CB74,List!$C$2:$D$6,2,1)","v":1},{"$f":"VLOOKUP(CC74,List!$C$2:$D$6,2,1)","v":1},{"$f":"VLOOKUP(CD74,List!$C$2:$D$6,2,1)","v":2},{"$f":"VLOOKUP(CE74,List!$C$2:$D$6,2,1)","v":2},{"$f":"VLOOKUP(CF74,List!$C$2:$D$6,2,1)","v":2},{"$f":"VLOOKUP(CG74,List!$C$2:$D$6,2,1)","v":3},{"$f":"VLOOKUP(CH74,List!$C$2:$D$6,2,1)","v":3},{"$f":"VLOOKUP(CI74,List!$C$2:$D$6,2,1)","v":3},{"$f":"VLOOKUP(CJ74,List!$C$2:$D$6,2,1)","v":3},{"$f":"VLOOKUP(CK74,List!$C$2:$D$6,2,1)","v":3},{"$f":"VLOOKUP(CL74,List!$C$2:$D$6,2,1)","v":3},{"$f":"VLOOKUP(CM74,List!$C$2:$D$6,2,1)","v":3},{"$f":"VLOOKUP(CN74,List!$C$2:$D$6,2,1)","v":3},{"$f":"VLOOKUP(CO74,List!$C$2:$D$6,2,1)","v":3},{"$f":"VLOOKUP(CP74,List!$C$2:$D$6,2,1)","v":3}]
["West Midlands","Staffordshire",null,9970,16900,9330,17600,7,{"$f":"VLOOKUP(G75,List!$A$2:$D$6,4,1)","v":2},13749.091870372797,14092.819167132116,14445.139646310417,14806.268137468176,15176.424840904881,15555.835461927501,15944.731348475689,16343.349632187579,16751.933372992266,17170.731707317074,17170.731707317074,17600,18040,18491,18953.274999999998,19427.106874999998,19912.784546874995,{"$f":"VLOOKUP(J75,List!$A$2:$D$6,4,1)","v":1},{"$f":"VLOOKUP(K75,List!$A$2:$D$6,4,1)","v":1},{"$f":"VLOOKUP(L75,List!$A$2:$D$6,4,1)","v":1},{"$f":"VLOOKUP(M75,List!$A$2:$D$6,4,1)","v":1},{"$f":"VLOOKUP(N75,List!$A$2:$D$6,4,1)","v":1},{"$f":"VLOOKUP(O75,List!$A$2:$D$6,4,1)","v":1},{"$f":"VLOOKUP(P75,List!$A$2:$D$6,4,1)","v":1},{"$f":"VLOOKUP(Q75,List!$A$2:$D$6,4,1)","v":2},{"$f":"VLOOKUP(R75,List!$A$2:$D$6,4,1)","v":2},{"$f":"VLOOKUP(S75,List!$A$2:$D$6,4,1)","v":2},{"$f":"VLOOKUP(T75,List!$A$2:$D$6,4,1)","v":2},{"$f":"VLOOKUP(U75,List!$A$2:$D$6,4,1)","v":2},{"$f":"VLOOKUP(V75,List!$A$2:$D$6,4,1)","v":2},{"$f":"VLOOKUP(W75,List!$A$2:$D$6,4,1)","v":2},{"$f":"VLOOKUP(X75,List!$A$2:$D$6,4,1)","v":2},{"$f":"VLOOKUP(Y75,List!$A$2:$D$6,4,1)","v":2},{"$f":"VLOOKUP(Z75,List!$A$2:$D$6,4,1)","v":2},3.4,3.35,3.46,3.65,3.91,4.3899999999999997,5.07,6.04,6.19,6.43,6.46,6.11,5.67,5.1254160007286877,5.7775490339996969,5.9005819395271235,5.8206069215895191,{"$f":"VLOOKUP(AR75,List!$B$2:$D$6,3,1)","v":1},{"$f":"VLOOKUP(AS75,List!$B$2:$D$6,3,1)","v":1},{"$f":"VLOOKUP(AT75,List!$B$2:$D$6,3,1)","v":1},{"$f":"VLOOKUP(AU75,List!$B$2:$D$6,3,1)","v":1},{"$f":"VLOOKUP(AV75,List!$B$2:$D$6,3,1)","v":1},{"$f":"VLOOKUP(AW75,List!$B$2:$D$6,3,1)","v":1},{"$f":"VLOOKUP(AX75,List!$B$2:$D$6,3,1)","v":2},{"$f":"VLOOKUP(AY75,List!$B$2:$D$6,3,1)","v":3},{"$f":"VLOOKUP(AZ75,List!$B$2:$D$6,3,1)","v":3},{"$f":"VLOOKUP(BA75,List!$B$2:$D$6,3,1)","v":3},{"$f":"VLOOKUP(BB75,List!$B$2:$D$6,3,1)","v":3},{"$f":"VLOOKUP(BC75,List!$B$2:$D$6,3,1)","v":3},{"$f":"VLOOKUP(BD75,List!$B$2:$D$6,3,1)","v":3},{"$f":"VLOOKUP(BE75,List!$B$2:$D$6,3,1)","v":2},{"$f":"VLOOKUP(BF75,List!$B$2:$D$6,3,1)","v":3},{"$f":"VLOOKUP(BG75,List!$B$2:$D$6,3,1)","v":3},{"$f":"VLOOKUP(BH75,List!$B$2:$D$6,3,1)","v":3},66630.054437625702,71107.224125230205,77354.869021785475,84443.666009061082,95015.311313386759,111428.65447764356,131135.03722137262,151183,158751.42116298116,168853.55963400836,175463.75147655536,171597.69446583599,167569,177913.14429903813,169860.72445479955,171369.10800936676,176050.02006167732,{"$f":"VLOOKUP(BZ75,List!$C$2:$D$6,2,1)","v":1},{"$f":"VLOOKUP(CA75,List!$C$2:$D$6,2,1)","v":1},{"$f":"VLOOKUP(CB75,List!$C$2:$D$6,2,1)","v":1},{"$f":"VLOOKUP(CC75,List!$C$2:$D$6,2,1)","v":1},{"$f":"VLOOKUP(CD75,List!$C$2:$D$6,2,1)","v":2},{"$f":"VLOOKUP(CE75,List!$C$2:$D$6,2,1)","v":2},{"$f":"VLOOKUP(CF75,List!$C$2:$D$6,2,1)","v":2},{"$f":"VLOOKUP(CG75,List!$C$2:$D$6,2,1)","v":3},{"$f":"VLOOKUP(CH75,List!$C$2:$D$6,2,1)","v":3},{"$f":"VLOOKUP(CI75,List!$C$2:$D$6,2,1)","v":3},{"$f":"VLOOKUP(CJ75,List!$C$2:$D$6,2,1)","v":3},{"$f":"VLOOKUP(CK75,List!$C$2:$D$6,2,1)","v":3},{"$f":"VLOOKUP(CL75,List!$C$2:$D$6,2,1)","v":3},{"$f":"VLOOKUP(CM75,List!$C$2:$D$6,2,1)","v":3},{"$f":"VLOOKUP(CN75,List!$C$2:$D$6,2,1)","v":3},{"$f":"VLOOKUP(CO75,List!$C$2:$D$6,2,1)","v":3},{"$f":"VLOOKUP(CP75,List!$C$2:$D$6,2,1)","v":3}]
["West Midlands","Warwickshire",null,9970,16900,9330,17600,7,{"$f":"VLOOKUP(G76,List!$A$2:$D$6,4,1)","v":2},13749.091870372797,14092.819167132116,14445.139646310417,14806.268137468176,15176.424840904881,15555.835461927501,15944.731348475689,16343.349632187579,16751.933372992266,17170.731707317074,17170.731707317074,17600,18040,18491,18953.274999999998,19427.106874999998,19912.784546874995,{"$f":"VLOOKUP(J76,List!$A$2:$D$6,4,1)","v":1},{"$f":"VLOOKUP(K76,List!$A$2:$D$6,4,1)","v":1},{"$f":"VLOOKUP(L76,List!$A$2:$D$6,4,1)","v":1},{"$f":"VLOOKUP(M76,List!$A$2:$D$6,4,1)","v":1},{"$f":"VLOOKUP(N76,List!$A$2:$D$6,4,1)","v":1},{"$f":"VLOOKUP(O76,List!$A$2:$D$6,4,1)","v":1},{"$f":"VLOOKUP(P76,List!$A$2:$D$6,4,1)","v":1},{"$f":"VLOOKUP(Q76,List!$A$2:$D$6,4,1)","v":2},{"$f":"VLOOKUP(R76,List!$A$2:$D$6,4,1)","v":2},{"$f":"VLOOKUP(S76,List!$A$2:$D$6,4,1)","v":2},{"$f":"VLOOKUP(T76,List!$A$2:$D$6,4,1)","v":2},{"$f":"VLOOKUP(U76,List!$A$2:$D$6,4,1)","v":2},{"$f":"VLOOKUP(V76,List!$A$2:$D$6,4,1)","v":2},{"$f":"VLOOKUP(W76,List!$A$2:$D$6,4,1)","v":2},{"$f":"VLOOKUP(X76,List!$A$2:$D$6,4,1)","v":2},{"$f":"VLOOKUP(Y76,List!$A$2:$D$6,4,1)","v":2},{"$f":"VLOOKUP(Z76,List!$A$2:$D$6,4,1)","v":2},3.4,3.35,3.46,3.65,3.91,4.3899999999999997,5.07,6.04,6.19,6.43,6.46,6.11,5.67,5.1254160007286877,5.7775490339996969,5.9005819395271235,5.8206069215895191,{"$f":"VLOOKUP(AR76,List!$B$2:$D$6,3,1)","v":1},{"$f":"VLOOKUP(AS76,List!$B$2:$D$6,3,1)","v":1},{"$f":"VLOOKUP(AT76,List!$B$2:$D$6,3,1)","v":1},{"$f":"VLOOKUP(AU76,List!$B$2:$D$6,3,1)","v":1},{"$f":"VLOOKUP(AV76,List!$B$2:$D$6,3,1)","v":1},{"$f":"VLOOKUP(AW76,List!$B$2:$D$6,3,1)","v":1},{"$f":"VLOOKUP(AX76,List!$B$2:$D$6,3,1)","v":2},{"$f":"VLOOKUP(AY76,List!$B$2:$D$6,3,1)","v":3},{"$f":"VLOOKUP(AZ76,List!$B$2:$D$6,3,1)","v":3},{"$f":"VLOOKUP(BA76,List!$B$2:$D$6,3,1)","v":3},{"$f":"VLOOKUP(BB76,List!$B$2:$D$6,3,1)","v":3},{"$f":"VLOOKUP(BC76,List!$B$2:$D$6,3,1)","v":3},{"$f":"VLOOKUP(BD76,List!$B$2:$D$6,3,1)","v":3},{"$f":"VLOOKUP(BE76,List!$B$2:$D$6,3,1)","v":2},{"$f":"VLOOKUP(BF76,List!$B$2:$D$6,3,1)","v":3},{"$f":"VLOOKUP(BG76,List!$B$2:$D$6,3,1)","v":3},{"$f":"VLOOKUP(BH76,List!$B$2:$D$6,3,1)","v":3},66630.054437625702,71107.224125230205,77354.869021785475,84443.666009061082,95015.311313386759,111428.65447764356,131135.03722137262,151183,158751.42116298116,168853.55963400836,175463.75147655536,171597.69446583599,167569,177913.14429903813,169860.72445479955,171369.10800936676,176050.02006167732,{"$f":"VLOOKUP(BZ76,List!$C$2:$D$6,2,1)","v":1},{"$f":"VLOOKUP(CA76,List!$C$2:$D$6,2,1)","v":1},{"$f":"VLOOKUP(CB76,List!$C$2:$D$6,2,1)","v":1},{"$f":"VLOOKUP(CC76,List!$C$2:$D$6,2,1)","v":1},{"$f":"VLOOKUP(CD76,List!$C$2:$D$6,2,1)","v":2},{"$f":"VLOOKUP(CE76,List!$C$2:$D$6,2,1)","v":2},{"$f":"VLOOKUP(CF76,List!$C$2:$D$6,2,1)","v":2},{"$f":"VLOOKUP(CG76,List!$C$2:$D$6,2,1)","v":3},{"$f":"VLOOKUP(CH76,List!$C$2:$D$6,2,1)","v":3},{"$f":"VLOOKUP(CI76,List!$C$2:$D$6,2,1)","v":3},{"$f":"VLOOKUP(CJ76,List!$C$2:$D$6,2,1)","v":3},{"$f":"VLOOKUP(CK76,List!$C$2:$D$6,2,1)","v":3},{"$f":"VLOOKUP(CL76,List!$C$2:$D$6,2,1)","v":3},{"$f":"VLOOKUP(CM76,List!$C$2:$D$6,2,1)","v":3},{"$f":"VLOOKUP(CN76,List!$C$2:$D$6,2,1)","v":3},{"$f":"VLOOKUP(CO76,List!$C$2:$D$6,2,1)","v":3},{"$f":"VLOOKUP(CP76,List!$C$2:$D$6,2,1)","v":3}]
["West Midlands","West Midlands",null,9970,16900,9330,17600,7,{"$f":"VLOOKUP(G77,List!$A$2:$D$6,4,1)","v":2},13749.091870372797,14092.819167132116,14445.139646310417,14806.268137468176,15176.424840904881,15555.835461927501,15944.731348475689,16343.349632187579,16751.933372992266,17170.731707317074,17170.731707317074,17600,18040,18491,18953.274999999998,19427.106874999998,19912.784546874995,{"$f":"VLOOKUP(J77,List!$A$2:$D$6,4,1)","v":1},{"$f":"VLOOKUP(K77,List!$A$2:$D$6,4,1)","v":1},{"$f":"VLOOKUP(L77,List!$A$2:$D$6,4,1)","v":1},{"$f":"VLOOKUP(M77,List!$A$2:$D$6,4,1)","v":1},{"$f":"VLOOKUP(N77,List!$A$2:$D$6,4,1)","v":1},{"$f":"VLOOKUP(O77,List!$A$2:$D$6,4,1)","v":1},{"$f":"VLOOKUP(P77,List!$A$2:$D$6,4,1)","v":1},{"$f":"VLOOKUP(Q77,List!$A$2:$D$6,4,1)","v":2},{"$f":"VLOOKUP(R77,List!$A$2:$D$6,4,1)","v":2},{"$f":"VLOOKUP(S77,List!$A$2:$D$6,4,1)","v":2},{"$f":"VLOOKUP(T77,List!$A$2:$D$6,4,1)","v":2},{"$f":"VLOOKUP(U77,List!$A$2:$D$6,4,1)","v":2},{"$f":"VLOOKUP(V77,List!$A$2:$D$6,4,1)","v":2},{"$f":"VLOOKUP(W77,List!$A$2:$D$6,4,1)","v":2},{"$f":"VLOOKUP(X77,List!$A$2:$D$6,4,1)","v":2},{"$f":"VLOOKUP(Y77,List!$A$2:$D$6,4,1)","v":2},{"$f":"VLOOKUP(Z77,List!$A$2:$D$6,4,1)","v":2},3.4,3.35,3.46,3.65,3.91,4.3899999999999997,5.07,6.04,6.19,6.43,6.46,6.11,5.67,5.1254160007286877,5.7775490339996969,5.9005819395271235,5.8206069215895191,{"$f":"VLOOKUP(AR77,List!$B$2:$D$6,3,1)","v":1},{"$f":"VLOOKUP(AS77,List!$B$2:$D$6,3,1)","v":1},{"$f":"VLOOKUP(AT77,List!$B$2:$D$6,3,1)","v":1},{"$f":"VLOOKUP(AU77,List!$B$2:$D$6,3,1)","v":1},{"$f":"VLOOKUP(AV77,List!$B$2:$D$6,3,1)","v":1},{"$f":"VLOOKUP(AW77,List!$B$2:$D$6,3,1)","v":1},{"$f":"VLOOKUP(AX77,List!$B$2:$D$6,3,1)","v":2},{"$f":"VLOOKUP(AY77,List!$B$2:$D$6,3,1)","v":3},{"$f":"VLOOKUP(AZ77,List!$B$2:$D$6,3,1)","v":3},{"$f":"VLOOKUP(BA77,List!$B$2:$D$6,3,1)","v":3},{"$f":"VLOOKUP(BB77,List!$B$2:$D$6,3,1)","v":3},{"$f":"VLOOKUP(BC77,List!$B$2:$D$6,3,1)","v":3},{"$f":"VLOOKUP(BD77,List!$B$2:$D$6,3,1)","v":3},{"$f":"VLOOKUP(BE77,List!$B$2:$D$6,3,1)","v":2},{"$f":"VLOOKUP(BF77,List!$B$2:$D$6,3,1)","v":3},{"$f":"VLOOKUP(BG77,List!$B$2:$D$6,3,1)","v":3},{"$f":"VLOOKUP(BH77,List!$B$2:$D$6,3,1)","v":3},66630.054437625702,71107.224125230205,77354.869021785475,84443.666009061082,95015.311313386759,111428.65447764356,131135.03722137262,151183,158751.42116298116,168853.55963400836,175463.75147655536,171597.69446583599,167569,177913.14429903813,169860.72445479955,171369.10800936676,176050.02006167732,{"$f":"VLOOKUP(BZ77,List!$C$2:$D$6,2,1)","v":1},{"$f":"VLOOKUP(CA77,List!$C$2:$D$6,2,1)","v":1},{"$f":"VLOOKUP(CB77,List!$C$2:$D$6,2,1)","v":1},{"$f":"VLOOKUP(CC77,List!$C$2:$D$6,2,1)","v":1},{"$f":"VLOOKUP(CD77,List!$C$2:$D$6,2,1)","v":2},{"$f":"VLOOKUP(CE77,List!$C$2:$D$6,2,1)","v":2},{"$f":"VLOOKUP(CF77,List!$C$2:$D$6,2,1)","v":2},{"$f":"VLOOKUP(CG77,List!$C$2:$D$6,2,1)","v":3},{"$f":"VLOOKUP(CH77,List!$C$2:$D$6,2,1)","v":3},{"$f":"VLOOKUP(CI77,List!$C$2:$D$6,2,1)","v":3},{"$f":"VLOOKUP(CJ77,List!$C$2:$D$6,2,1)","v":3},{"$f":"VLOOKUP(CK77,List!$C$2:$D$6,2,1)","v":3},{"$f":"VLOOKUP(CL77,List!$C$2:$D$6,2,1)","v":3},{"$f":"VLOOKUP(CM77,List!$C$2:$D$6,2,1)","v":3},{"$f":"VLOOKUP(CN77,List!$C$2:$D$6,2,1)","v":3},{"$f":"VLOOKUP(CO77,List!$C$2:$D$6,2,1)","v":3},{"$f":"VLOOKUP(CP77,List!$C$2:$D$6,2,1)","v":3}]
["West Midlands","Worcestershire",null,9970,16900,9330,17600,7,{"$f":"VLOOKUP(G78,List!$A$2:$D$6,4,1)","v":2},13749.091870372797,14092.819167132116,14445.139646310417,14806.268137468176,15176.424840904881,15555.835461927501,15944.731348475689,16343.349632187579,16751.933372992266,17170.731707317074,17170.731707317074,17600,18040,18491,18953.274999999998,19427.106874999998,19912.784546874995,{"$f":"VLOOKUP(J78,List!$A$2:$D$6,4,1)","v":1},{"$f":"VLOOKUP(K78,List!$A$2:$D$6,4,1)","v":1},{"$f":"VLOOKUP(L78,List!$A$2:$D$6,4,1)","v":1},{"$f":"VLOOKUP(M78,List!$A$2:$D$6,4,1)","v":1},{"$f":"VLOOKUP(N78,List!$A$2:$D$6,4,1)","v":1},{"$f":"VLOOKUP(O78,List!$A$2:$D$6,4,1)","v":1},{"$f":"VLOOKUP(P78,List!$A$2:$D$6,4,1)","v":1},{"$f":"VLOOKUP(Q78,List!$A$2:$D$6,4,1)","v":2},{"$f":"VLOOKUP(R78,List!$A$2:$D$6,4,1)","v":2},{"$f":"VLOOKUP(S78,List!$A$2:$D$6,4,1)","v":2},{"$f":"VLOOKUP(T78,List!$A$2:$D$6,4,1)","v":2},{"$f":"VLOOKUP(U78,List!$A$2:$D$6,4,1)","v":2},{"$f":"VLOOKUP(V78,List!$A$2:$D$6,4,1)","v":2},{"$f":"VLOOKUP(W78,List!$A$2:$D$6,4,1)","v":2},{"$f":"VLOOKUP(X78,List!$A$2:$D$6,4,1)","v":2},{"$f":"VLOOKUP(Y78,List!$A$2:$D$6,4,1)","v":2},{"$f":"VLOOKUP(Z78,List!$A$2:$D$6,4,1)","v":2},3.4,3.35,3.46,3.65,3.91,4.3899999999999997,5.07,6.04,6.19,6.43,6.46,6.11,5.67,5.1254160007286877,5.7775490339996969,5.9005819395271235,5.8206069215895191,{"$f":"VLOOKUP(AR78,List!$B$2:$D$6,3,1)","v":1},{"$f":"VLOOKUP(AS78,List!$B$2:$D$6,3,1)","v":1},{"$f":"VLOOKUP(AT78,List!$B$2:$D$6,3,1)","v":1},{"$f":"VLOOKUP(AU78,List!$B$2:$D$6,3,1)","v":1},{"$f":"VLOOKUP(AV78,List!$B$2:$D$6,3,1)","v":1},{"$f":"VLOOKUP(AW78,List!$B$2:$D$6,3,1)","v":1},{"$f":"VLOOKUP(AX78,List!$B$2:$D$6,3,1)","v":2},{"$f":"VLOOKUP(AY78,List!$B$2:$D$6,3,1)","v":3},{"$f":"VLOOKUP(AZ78,List!$B$2:$D$6,3,1)","v":3},{"$f":"VLOOKUP(BA78,List!$B$2:$D$6,3,1)","v":3},{"$f":"VLOOKUP(BB78,List!$B$2:$D$6,3,1)","v":3},{"$f":"VLOOKUP(BC78,List!$B$2:$D$6,3,1)","v":3},{"$f":"VLOOKUP(BD78,List!$B$2:$D$6,3,1)","v":3},{"$f":"VLOOKUP(BE78,List!$B$2:$D$6,3,1)","v":2},{"$f":"VLOOKUP(BF78,List!$B$2:$D$6,3,1)","v":3},{"$f":"VLOOKUP(BG78,List!$B$2:$D$6,3,1)","v":3},{"$f":"VLOOKUP(BH78,List!$B$2:$D$6,3,1)","v":3},66630.054437625702,71107.224125230205,77354.869021785475,84443.666009061082,95015.311313386759,111428.65447764356,131135.03722137262,151183,158751.42116298116,168853.55963400836,175463.75147655536,171597.69446583599,167569,177913.14429903813,169860.72445479955,171369.10800936676,176050.02006167732,{"$f":"VLOOKUP(BZ78,List!$C$2:$D$6,2,1)","v":1},{"$f":"VLOOKUP(CA78,List!$C$2:$D$6,2,1)","v":1},{"$f":"VLOOKUP(CB78,List!$C$2:$D$6,2,1)","v":1},{"$f":"VLOOKUP(CC78,List!$C$2:$D$6,2,1)","v":1},{"$f":"VLOOKUP(CD78,List!$C$2:$D$6,2,1)","v":2},{"$f":"VLOOKUP(CE78,List!$C$2:$D$6,2,1)","v":2},{"$f":"VLOOKUP(CF78,List!$C$2:$D$6,2,1)","v":2},{"$f":"VLOOKUP(CG78,List!$C$2:$D$6,2,1)","v":3},{"$f":"VLOOKUP(CH78,List!$C$2:$D$6,2,1)","v":3},{"$f":"VLOOKUP(CI78,List!$C$2:$D$6,2,1)","v":3},{"$f":"VLOOKUP(CJ78,List!$C$2:$D$6,2,1)","v":3},{"$f":"VLOOKUP(CK78,List!$C$2:$D$6,2,1)","v":3},{"$f":"VLOOKUP(CL78,List!$C$2:$D$6,2,1)","v":3},{"$f":"VLOOKUP(CM78,List!$C$2:$D$6,2,1)","v":3},{"$f":"VLOOKUP(CN78,List!$C$2:$D$6,2,1)","v":3},{"$f":"VLOOKUP(CO78,List!$C$2:$D$6,2,1)","v":3},{"$f":"VLOOKUP(CP78,List!$C$2:$D$6,2,1)","v":3}]
["Yorkshire and the Humber","East Riding of Yorkshire",null,9770,16600,9550,17400,9,{"$f":"VLOOKUP(G79,List!$A$2:$D$6,4,1)","v":2},13592.852190027652,13932.673494778343,14280.9903321478,14638.015090451492,15003.96546771278,15379.064604405597,15763.541219515739,16157.629750003631,16561.570493753719,16975.609756097561,16975.609756097561,17400,17835,18280.875,18737.896874999999,19206.344296874995,19686.502904296867,{"$f":"VLOOKUP(J79,List!$A$2:$D$6,4,1)","v":1},{"$f":"VLOOKUP(K79,List!$A$2:$D$6,4,1)","v":1},{"$f":"VLOOKUP(L79,List!$A$2:$D$6,4,1)","v":1},{"$f":"VLOOKUP(M79,List!$A$2:$D$6,4,1)","v":1},{"$f":"VLOOKUP(N79,List!$A$2:$D$6,4,1)","v":1},{"$f":"VLOOKUP(O79,List!$A$2:$D$6,4,1)","v":1},{"$f":"VLOOKUP(P79,List!$A$2:$D$6,4,1)","v":1},{"$f":"VLOOKUP(Q79,List!$A$2:$D$6,4,1)","v":2},{"$f":"VLOOKUP(R79,List!$A$2:$D$6,4,1)","v":2},{"$f":"VLOOKUP(S79,List!$A$2:$D$6,4,1)","v":2},{"$f":"VLOOKUP(T79,List!$A$2:$D$6,4,1)","v":2},{"$f":"VLOOKUP(U79,List!$A$2:$D$6,4,1)","v":2},{"$f":"VLOOKUP(V79,List!$A$2:$D$6,4,1)","v":2},{"$f":"VLOOKUP(W79,List!$A$2:$D$6,4,1)","v":2},{"$f":"VLOOKUP(X79,List!$A$2:$D$6,4,1)","v":2},{"$f":"VLOOKUP(Y79,List!$A$2:$D$6,4,1)","v":2},{"$f":"VLOOKUP(Z79,List!$A$2:$D$6,4,1)","v":2},3.09,3.02,3.11,3.15,3.22,3.49,4.08,5.17,5.57,5.86,6.01,5.68,5.21,5.5014254679641699,5.2843016712124138,5.3524374176548086,5.329806844594053,{"$f":"VLOOKUP(AR79,List!$B$2:$D$6,3,1)","v":1},{"$f":"VLOOKUP(AS79,List!$B$2:$D$6,3,1)","v":1},{"$f":"VLOOKUP(AT79,List!$B$2:$D$6,3,1)","v":1},{"$f":"VLOOKUP(AU79,List!$B$2:$D$6,3,1)","v":1},{"$f":"VLOOKUP(AV79,List!$B$2:$D$6,3,1)","v":1},{"$f":"VLOOKUP(AW79,List!$B$2:$D$6,3,1)","v":1},{"$f":"VLOOKUP(AX79,List!$B$2:$D$6,3,1)","v":1},{"$f":"VLOOKUP(AY79,List!$B$2:$D$6,3,1)","v":2},{"$f":"VLOOKUP(AZ79,List!$B$2:$D$6,3,1)","v":3},{"$f":"VLOOKUP(BA79,List!$B$2:$D$6,3,1)","v":3},{"$f":"VLOOKUP(BB79,List!$B$2:$D$6,3,1)","v":3},{"$f":"VLOOKUP(BC79,List!$B$2:$D$6,3,1)","v":3},{"$f":"VLOOKUP(BD79,List!$B$2:$D$6,3,1)","v":2},{"$f":"VLOOKUP(BE79,List!$B$2:$D$6,3,1)","v":3},{"$f":"VLOOKUP(BF79,List!$B$2:$D$6,3,1)","v":2},{"$f":"VLOOKUP(BG79,List!$B$2:$D$6,3,1)","v":2},{"$f":"VLOOKUP(BH79,List!$B$2:$D$6,3,1)","v":2},58091.089898013488,60019.39710882464,64389.319082387861,68556.660088669945,73954.120936490857,86838.151073845249,105935.77579505301,127749,138947.71857992467,150817.74433387473,159221.98706002379,156040.60200744332,153736,161466.33526903851,155096.21975447555,156808.22593570911,158533.83936229168,{"$f":"VLOOKUP(BZ79,List!$C$2:$D$6,2,1)","v":1},{"$f":"VLOOKUP(CA79,List!$C$2:$D$6,2,1)","v":1},{"$f":"VLOOKUP(CB79,List!$C$2:$D$6,2,1)","v":1},{"$f":"VLOOKUP(CC79,List!$C$2:$D$6,2,1)","v":1},{"$f":"VLOOKUP(CD79,List!$C$2:$D$6,2,1)","v":1},{"$f":"VLOOKUP(CE79,List!$C$2:$D$6,2,1)","v":1},{"$f":"VLOOKUP(CF79,List!$C$2:$D$6,2,1)","v":2},{"$f":"VLOOKUP(CG79,List!$C$2:$D$6,2,1)","v":2},{"$f":"VLOOKUP(CH79,List!$C$2:$D$6,2,1)","v":2},{"$f":"VLOOKUP(CI79,List!$C$2:$D$6,2,1)","v":3},{"$f":"VLOOKUP(CJ79,List!$C$2:$D$6,2,1)","v":3},{"$f":"VLOOKUP(CK79,List!$C$2:$D$6,2,1)","v":3},{"$f":"VLOOKUP(CL79,List!$C$2:$D$6,2,1)","v":3},{"$f":"VLOOKUP(CM79,List!$C$2:$D$6,2,1)","v":3},{"$f":"VLOOKUP(CN79,List!$C$2:$D$6,2,1)","v":3},{"$f":"VLOOKUP(CO79,List!$C$2:$D$6,2,1)","v":3},{"$f":"VLOOKUP(CP79,List!$C$2:$D$6,2,1)","v":3}]
["Yorkshire and the Humber","North Yorkshire",null,9770,16600,9550,17400,9,{"$f":"VLOOKUP(G80,List!$A$2:$D$6,4,1)","v":2},13592.852190027652,13932.673494778343,14280.9903321478,14638.015090451492,15003.96546771278,15379.064604405597,15763.541219515739,16157.629750003631,16561.570493753719,16975.609756097561,16975.609756097561,17400,17835,18280.875,18737.896874999999,19206.344296874995,19686.502904296867,{"$f":"VLOOKUP(J80,List!$A$2:$D$6,4,1)","v":1},{"$f":"VLOOKUP(K80,List!$A$2:$D$6,4,1)","v":1},{"$f":"VLOOKUP(L80,List!$A$2:$D$6,4,1)","v":1},{"$f":"VLOOKUP(M80,List!$A$2:$D$6,4,1)","v":1},{"$f":"VLOOKUP(N80,List!$A$2:$D$6,4,1)","v":1},{"$f":"VLOOKUP(O80,List!$A$2:$D$6,4,1)","v":1},{"$f":"VLOOKUP(P80,List!$A$2:$D$6,4,1)","v":1},{"$f":"VLOOKUP(Q80,List!$A$2:$D$6,4,1)","v":2},{"$f":"VLOOKUP(R80,List!$A$2:$D$6,4,1)","v":2},{"$f":"VLOOKUP(S80,List!$A$2:$D$6,4,1)","v":2},{"$f":"VLOOKUP(T80,List!$A$2:$D$6,4,1)","v":2},{"$f":"VLOOKUP(U80,List!$A$2:$D$6,4,1)","v":2},{"$f":"VLOOKUP(V80,List!$A$2:$D$6,4,1)","v":2},{"$f":"VLOOKUP(W80,List!$A$2:$D$6,4,1)","v":2},{"$f":"VLOOKUP(X80,List!$A$2:$D$6,4,1)","v":2},{"$f":"VLOOKUP(Y80,List!$A$2:$D$6,4,1)","v":2},{"$f":"VLOOKUP(Z80,List!$A$2:$D$6,4,1)","v":2},3.09,3.02,3.11,3.15,3.22,3.49,4.08,5.17,5.57,5.86,6.01,5.68,5.21,5.5014254679641699,5.2843016712124138,5.3524374176548086,5.329806844594053,{"$f":"VLOOKUP(AR80,List!$B$2:$D$6,3,1)","v":1},{"$f":"VLOOKUP(AS80,List!$B$2:$D$6,3,1)","v":1},{"$f":"VLOOKUP(AT80,List!$B$2:$D$6,3,1)","v":1},{"$f":"VLOOKUP(AU80,List!$B$2:$D$6,3,1)","v":1},{"$f":"VLOOKUP(AV80,List!$B$2:$D$6,3,1)","v":1},{"$f":"VLOOKUP(AW80,List!$B$2:$D$6,3,1)","v":1},{"$f":"VLOOKUP(AX80,List!$B$2:$D$6,3,1)","v":1},{"$f":"VLOOKUP(AY80,List!$B$2:$D$6,3,1)","v":2},{"$f":"VLOOKUP(AZ80,List!$B$2:$D$6,3,1)","v":3},{"$f":"VLOOKUP(BA80,List!$B$2:$D$6,3,1)","v":3},{"$f":"VLOOKUP(BB80,List!$B$2:$D$6,3,1)","v":3},{"$f":"VLOOKUP(BC80,List!$B$2:$D$6,3,1)","v":3},{"$f":"VLOOKUP(BD80,List!$B$2:$D$6,3,1)","v":2},{"$f":"VLOOKUP(BE80,List!$B$2:$D$6,3,1)","v":3},{"$f":"VLOOKUP(BF80,List!$B$2:$D$6,3,1)","v":2},{"$f":"VLOOKUP(BG80,List!$B$2:$D$6,3,1)","v":2},{"$f":"VLOOKUP(BH80,List!$B$2:$D$6,3,1)","v":2},58091.089898013488,60019.39710882464,64389.319082387861,68556.660088669945,73954.120936490857,86838.151073845249,105935.77579505301,127749,138947.71857992467,150817.74433387473,159221.98706002379,156040.60200744332,153736,161466.33526903851,155096.21975447555,156808.22593570911,158533.83936229168,{"$f":"VLOOKUP(BZ80,List!$C$2:$D$6,2,1)","v":1},{"$f":"VLOOKUP(CA80,List!$C$2:$D$6,2,1)","v":1},{"$f":"VLOOKUP(CB80,List!$C$2:$D$6,2,1)","v":1},{"$f":"VLOOKUP(CC80,List!$C$2:$D$6,2,1)","v":1},{"$f":"VLOOKUP(CD80,List!$C$2:$D$6,2,1)","v":1},{"$f":"VLOOKUP(CE80,List!$C$2:$D$6,2,1)","v":1},{"$f":"VLOOKUP(CF80,List!$C$2:$D$6,2,1)","v":2},{"$f":"VLOOKUP(CG80,List!$C$2:$D$6,2,1)","v":2},{"$f":"VLOOKUP(CH80,List!$C$2:$D$6,2,1)","v":2},{"$f":"VLOOKUP(CI80,List!$C$2:$D$6,2,1)","v":3},{"$f":"VLOOKUP(CJ80,List!$C$2:$D$6,2,1)","v":3},{"$f":"VLOOKUP(CK80,List!$C$2:$D$6,2,1)","v":3},{"$f":"VLOOKUP(CL80,List!$C$2:$D$6,2,1)","v":3},{"$f":"VLOOKUP(CM80,List!$C$2:$D$6,2,1)","v":3},{"$f":"VLOOKUP(CN80,List!$C$2:$D$6,2,1)","v":3},{"$f":"VLOOKUP(CO80,List!$C$2:$D$6,2,1)","v":3},{"$f":"VLOOKUP(CP80,List!$C$2:$D$6,2,1)","v":3}]
["Yorkshire and the Humber","South Yorkshire",null,9770,16600,9550,17400,9,{"$f":"VLOOKUP(G81,List!$A$2:$D$6,4,1)","v":2},13592.852190027652,13932.673494778343,14280.9903321478,14638.015090451492,15003.96546771278,15379.064604405597,15763.541219515739,16157.629750003631,16561.570493753719,16975.609756097561,16975.609756097561,17400,17835,18280.875,18737.896874999999,19206.344296874995,19686.502904296867,{"$f":"VLOOKUP(J81,List!$A$2:$D$6,4,1)","v":1},{"$f":"VLOOKUP(K81,List!$A$2:$D$6,4,1)","v":1},{"$f":"VLOOKUP(L81,List!$A$2:$D$6,4,1)","v":1},{"$f":"VLOOKUP(M81,List!$A$2:$D$6,4,1)","v":1},{"$f":"VLOOKUP(N81,List!$A$2:$D$6,4,1)","v":1},{"$f":"VLOOKUP(O81,List!$A$2:$D$6,4,1)","v":1},{"$f":"VLOOKUP(P81,List!$A$2:$D$6,4,1)","v":1},{"$f":"VLOOKUP(Q81,List!$A$2:$D$6,4,1)","v":2},{"$f":"VLOOKUP(R81,List!$A$2:$D$6,4,1)","v":2},{"$f":"VLOOKUP(S81,List!$A$2:$D$6,4,1)","v":2},{"$f":"VLOOKUP(T81,List!$A$2:$D$6,4,1)","v":2},{"$f":"VLOOKUP(U81,List!$A$2:$D$6,4,1)","v":2},{"$f":"VLOOKUP(V81,List!$A$2:$D$6,4,1)","v":2},{"$f":"VLOOKUP(W81,List!$A$2:$D$6,4,1)","v":2},{"$f":"VLOOKUP(X81,List!$A$2:$D$6,4,1)","v":2},{"$f":"VLOOKUP(Y81,List!$A$2:$D$6,4,1)","v":2},{"$f":"VLOOKUP(Z81,List!$A$2:$D$6,4,1)","v":2},3.09,3.02,3.11,3.15,3.22,3.49,4.08,5.17,5.57,5.86,6.01,5.68,5.21,5.5014254679641699,5.2843016712124138,5.3524374176548086,5.329806844594053,{"$f":"VLOOKUP(AR81,List!$B$2:$D$6,3,1)","v":1},{"$f":"VLOOKUP(AS81,List!$B$2:$D$6,3,1)","v":1},{"$f":"VLOOKUP(AT81,List!$B$2:$D$6,3,1)","v":1},{"$f":"VLOOKUP(AU81,List!$B$2:$D$6,3,1)","v":1},{"$f":"VLOOKUP(AV81,List!$B$2:$D$6,3,1)","v":1},{"$f":"VLOOKUP(AW81,List!$B$2:$D$6,3,1)","v":1},{"$f":"VLOOKUP(AX81,List!$B$2:$D$6,3,1)","v":1},{"$f":"VLOOKUP(AY81,List!$B$2:$D$6,3,1)","v":2},{"$f":"VLOOKUP(AZ81,List!$B$2:$D$6,3,1)","v":3},{"$f":"VLOOKUP(BA81,List!$B$2:$D$6,3,1)","v":3},{"$f":"VLOOKUP(BB81,List!$B$2:$D$6,3,1)","v":3},{"$f":"VLOOKUP(BC81,List!$B$2:$D$6,3,1)","v":3},{"$f":"VLOOKUP(BD81,List!$B$2:$D$6,3,1)","v":2},{"$f":"VLOOKUP(BE81,List!$B$2:$D$6,3,1)","v":3},{"$f":"VLOOKUP(BF81,List!$B$2:$D$6,3,1)","v":2},{"$f":"VLOOKUP(BG81,List!$B$2:$D$6,3,1)","v":2},{"$f":"VLOOKUP(BH81,List!$B$2:$D$6,3,1)","v":2},58091.089898013488,60019.39710882464,64389.319082387861,68556.660088669945,73954.120936490857,86838.151073845249,105935.77579505301,127749,138947.71857992467,150817.74433387473,159221.98706002379,156040.60200744332,153736,161466.33526903851,155096.21975447555,156808.22593570911,158533.83936229168,{"$f":"VLOOKUP(BZ81,List!$C$2:$D$6,2,1)","v":1},{"$f":"VLOOKUP(CA81,List!$C$2:$D$6,2,1)","v":1},{"$f":"VLOOKUP(CB81,List!$C$2:$D$6,2,1)","v":1},{"$f":"VLOOKUP(CC81,List!$C$2:$D$6,2,1)","v":1},{"$f":"VLOOKUP(CD81,List!$C$2:$D$6,2,1)","v":1},{"$f":"VLOOKUP(CE81,List!$C$2:$D$6,2,1)","v":1},{"$f":"VLOOKUP(CF81,List!$C$2:$D$6,2,1)","v":2},{"$f":"VLOOKUP(CG81,List!$C$2:$D$6,2,1)","v":2},{"$f":"VLOOKUP(CH81,List!$C$2:$D$6,2,1)","v":2},{"$f":"VLOOKUP(CI81,List!$C$2:$D$6,2,1)","v":3},{"$f":"VLOOKUP(CJ81,List!$C$2:$D$6,2,1)","v":3},{"$f":"VLOOKUP(CK81,List!$C$2:$D$6,2,1)","v":3},{"$f":"VLOOKUP(CL81,List!$C$2:$D$6,2,1)","v":3},{"$f":"VLOOKUP(CM81,List!$C$2:$D$6,2,1)","v":3},{"$f":"VLOOKUP(CN81,List!$C$2:$D$6,2,1)","v":3},{"$f":"VLOOKUP(CO81,List!$C$2:$D$6,2,1)","v":3},{"$f":"VLOOKUP(CP81,List!$C$2:$D$6,2,1)","v":3}]
["Yorkshire and the Humber","West Yorkshire",null,9770,16600,9550,17400,9,{"$f":"VLOOKUP(G82,List!$A$2:$D$6,4,1)","v":2},13592.852190027652,13932.673494778343,14280.9903321478,14638.015090451492,15003.96546771278,15379.064604405597,15763.541219515739,16157.629750003631,16561.570493753719,16975.609756097561,16975.609756097561,17400,17835,18280.875,18737.896874999999,19206.344296874995,19686.502904296867,{"$f":"VLOOKUP(J82,List!$A$2:$D$6,4,1)","v":1},{"$f":"VLOOKUP(K82,List!$A$2:$D$6,4,1)","v":1},{"$f":"VLOOKUP(L82,List!$A$2:$D$6,4,1)","v":1},{"$f":"VLOOKUP(M82,List!$A$2:$D$6,4,1)","v":1},{"$f":"VLOOKUP(N82,List!$A$2:$D$6,4,1)","v":1},{"$f":"VLOOKUP(O82,List!$A$2:$D$6,4,1)","v":1},{"$f":"VLOOKUP(P82,List!$A$2:$D$6,4,1)","v":1},{"$f":"VLOOKUP(Q82,List!$A$2:$D$6,4,1)","v":2},{"$f":"VLOOKUP(R82,List!$A$2:$D$6,4,1)","v":2},{"$f":"VLOOKUP(S82,List!$A$2:$D$6,4,1)","v":2},{"$f":"VLOOKUP(T82,List!$A$2:$D$6,4,1)","v":2},{"$f":"VLOOKUP(U82,List!$A$2:$D$6,4,1)","v":2},{"$f":"VLOOKUP(V82,List!$A$2:$D$6,4,1)","v":2},{"$f":"VLOOKUP(W82,List!$A$2:$D$6,4,1)","v":2},{"$f":"VLOOKUP(X82,List!$A$2:$D$6,4,1)","v":2},{"$f":"VLOOKUP(Y82,List!$A$2:$D$6,4,1)","v":2},{"$f":"VLOOKUP(Z82,List!$A$2:$D$6,4,1)","v":2},3.09,3.02,3.11,3.15,3.22,3.49,4.08,5.17,5.57,5.86,6.01,5.68,5.21,5.5014254679641699,5.2843016712124138,5.3524374176548086,5.329806844594053,{"$f":"VLOOKUP(AR82,List!$B$2:$D$6,3,1)","v":1},{"$f":"VLOOKUP(AS82,List!$B$2:$D$6,3,1)","v":1},{"$f":"VLOOKUP(AT82,List!$B$2:$D$6,3,1)","v":1},{"$f":"VLOOKUP(AU82,List!$B$2:$D$6,3,1)","v":1},{"$f":"VLOOKUP(AV82,List!$B$2:$D$6,3,1)","v":1},{"$f":"VLOOKUP(AW82,List!$B$2:$D$6,3,1)","v":1},{"$f":"VLOOKUP(AX82,List!$B$2:$D$6,3,1)","v":1},{"$f":"VLOOKUP(AY82,List!$B$2:$D$6,3,1)","v":2},{"$f":"VLOOKUP(AZ82,List!$B$2:$D$6,3,1)","v":3},{"$f":"VLOOKUP(BA82,List!$B$2:$D$6,3,1)","v":3},{"$f":"VLOOKUP(BB82,List!$B$2:$D$6,3,1)","v":3},{"$f":"VLOOKUP(BC82,List!$B$2:$D$6,3,1)","v":3},{"$f":"VLOOKUP(BD82,List!$B$2:$D$6,3,1)","v":2},{"$f":"VLOOKUP(BE82,List!$B$2:$D$6,3,1)","v":3},{"$f":"VLOOKUP(BF82,List!$B$2:$D$6,3,1)","v":2},{"$f":"VLOOKUP(BG82,List!$B$2:$D$6,3,1)","v":2},{"$f":"VLOOKUP(BH82,List!$B$2:$D$6,3,1)","v":2},58091.089898013488,60019.39710882464,64389.319082387861,68556.660088669945,73954.120936490857,86838.151073845249,105935.77579505301,127749,138947.71857992467,150817.74433387473,159221.98706002379,156040.60200744332,153736,161466.33526903851,155096.21975447555,156808.22593570911,158533.83936229168,{"$f":"VLOOKUP(BZ82,List!$C$2:$D$6,2,1)","v":1},{"$f":"VLOOKUP(CA82,List!$C$2:$D$6,2,1)","v":1},{"$f":"VLOOKUP(CB82,List!$C$2:$D$6,2,1)","v":1},{"$f":"VLOOKUP(CC82,List!$C$2:$D$6,2,1)","v":1},{"$f":"VLOOKUP(CD82,List!$C$2:$D$6,2,1)","v":1},{"$f":"VLOOKUP(CE82,List!$C$2:$D$6,2,1)","v":1},{"$f":"VLOOKUP(CF82,List!$C$2:$D$6,2,1)","v":2},{"$f":"VLOOKUP(CG82,List!$C$2:$D$6,2,1)","v":2},{"$f":"VLOOKUP(CH82,List!$C$2:$D$6,2,1)","v":2},{"$f":"VLOOKUP(CI82,List!$C$2:$D$6,2,1)","v":3},{"$f":"VLOOKUP(CJ82,List!$C$2:$D$6,2,1)","v":3},{"$f":"VLOOKUP(CK82,List!$C$2:$D$6,2,1)","v":3},{"$f":"VLOOKUP(CL82,List!$C$2:$D$6,2,1)","v":3},{"$f":"VLOOKUP(CM82,List!$C$2:$D$6,2,1)","v":3},{"$f":"VLOOKUP(CN82,List!$C$2:$D$6,2,1)","v":3},{"$f":"VLOOKUP(CO82,List!$C$2:$D$6,2,1)","v":3},{"$f":"VLOOKUP(CP82,List!$C$2:$D$6,2,1)","v":3}]

{"sheet":"Colour","index":2,"n_rows":28,"n_cols":20,"rows_kept":28,"cut":false,"hidden":false,"merged":[]}
["Selection","Region","Red","Green","Blue",null,"Income","Red","Green","Blue",null,"House","Red","Green","Blue",null,"Avg Hse","Red","Green","Blue"]
["Region","East",173,216,230,null,"0 - 16,000",253,219,199,null,"0 - 4.5 Times",173,216,230,null,"0 - 90,000",217,239,139]
["Region","East Midlands",84,105,177,null,"16,000 to 20,000",244,165,130,null,"4.51 to 5.5 Times",137,171,209,null,"90,000-150000",166,217,106]
["Region","London",31,39,146,null,"20,001 to 22,000",214,96,77,null,"5.51 to 7 Times",102,127,188,null,"150,001 - 350,000",102,189,99]
["Region","North East",255,99,71,null,"22,001 to 25,000",178,24,73,null,"7.01 to 9 Times",67,83,167,null,"350,000 - 480,000",26,152,80]
["Region","North West",183,38,27,null,"25,000 +",103,0,21,null,"9 + Times",14,17,136,null,"480,001  +",0,104,55]
["Region","South East",196,215,195]
["Region","Shropshire",222,119,174]
["Region","Somerset",253,174,97]
["Region","Yorkshire",128,115,172]
["Income","0 - 16,000",253,219,199]
["Income","16,000 to 20,000",244,165,130]
["Income","20,001 to 22,000",214,96,77]
["Income","22,001 to 25,000",178,24,73,null,null,null,null,null,null,"0 - 16,000"]
["Income","25,000 +",103,0,21,null,null,null,null,null,null,"16,000 to 20,000"]
["House Multiple","0 - 4.5 Times",173,216,230,null,null,null,null,null,null,"20,001 to 22,000"]
["House Multiple","4.51 to 5.5 Times",137,171,209,null,null,null,null,null,null,"22,001 to 25,000"]
["House Multiple","5.51 to 7 Times",102,127,188,null,null,null,null,null,null,"25,000 +"]
["House Multiple","7.01 to 9 Times",67,83,167,null,null,null,null,null,null,"0 - 4.5 Times"]
["House Multiple","9 + Times",14,17,136,null,null,null,null,null,null,"4.51 to 5.5 Times"]
["Avg House Price","0 - 90,000",217,239,139,null,null,null,null,null,null,"5.51 to 7 Times"]
["Avg House Price","90,000-150000",166,217,106,null,null,null,null,null,null,"7.01 to 9 Times"]
["Avg House Price","150,001 - 350,000",102,189,99,null,null,null,null,null,null,"9 + Times"]
["Avg House Price","350,000 - 480,000",26,152,80,null,null,null,null,null,null,"0 - 90,000"]
["Avg House Price","480,001  +",0,104,55,null,null,null,null,null,null,"90,000-150000"]
[null,null,null,null,null,null,null,null,null,null,null,"150,001 - 350,000"]
[null,null,null,null,null,null,null,null,null,null,null,"350,000 - 480,000"]
[null,null,null,null,null,null,null,null,null,null,null,"480,001  +"]

{"sheet":"MapEngland","index":3,"n_rows":34,"n_cols":37,"rows_kept":34,"cut":false,"hidden":false,"merged":[]}
[null,"Yr 2013",{"$f":"MATCH(B1,Year,0)-2","v":15}]
[null,"Housing Affordability",{"$f":"MATCH(B2,Metric,0)","v":2}]
[]
[]
[]
[]
[]
[null,{"$f":"B2","v":"Housing Affordability"}]
[null,"0 - 4.5 Times"]
[null,"4.51 to 5.5 Times"]
[null,"5.51 to 7 Times"]
[null,"7.01 to 9 Times"]
[null,"9 + Times"]
[]
[]
[]
[null,null,null,null,null,null,null,null,null,null,null,null,null,null,null,null,null,null,null,null,null,null,null,null,null,null,null,null,null,null,null,null,null,null,null,null,"Income"]
[null,null,null,null,null,null,null,null,null,null,null,null,null,null,null,null,null,null,null,null,null,null,null,null,null,null,null,null,null,null,null,null,null,null,null,null,"0 - 16,000"]
[null,null,null,null,null,null,null,null,null,null,null,null,null,null,null,null,null,null,null,null,null,null,null,null,null,null,null,null,null,null,null,null,null,null,null,null,"16,000 to 20,000"]
[null,null,null,null,null,null,null,null,null,null,null,null,null,null,null,null,null,null,null,null,null,null,null,null,null,null,null,null,null,null,null,null,null,null,null,null,"20,001 to 22,000"]
[null,null,null,null,null,null,null,null,null,null,null,null,null,null,null,null,null,null,null,null,null,null,null,null,null,null,null,null,null,null,null,null,null,null,null,null,"22,001 to 25,000"]
[null,null,null,null,null,null,null,null,null,null,null,null,null,null,null,null,null,null,null,null,null,null,null,null,null,null,null,null,null,null,null,null,null,null,null,null,"25,000 +"]
[null,null,null,null,null,null,null,null,null,null,null,null,null,null,null,null,null,null,null,null,null,null,null,null,null,null,null,null,null,null,null,null,null,null,null,null,"Housing Affordability"]
[null,null,null,null,null,null,null,null,null,null,null,null,null,null,null,null,null,null,null,null,null,null,null,null,null,null,null,null,null,null,null,null,null,null,null,null,"0 - 4.5 Times"]
[null,null,null,null,null,null,null,null,null,null,null,null,null,null,null,null,null,null,null,null,null,null,null,null,null,null,null,null,null,null,null,null,null,null,null,null,"4.51 to 5.5 Times"]
[null,null,null,null,null,null,null,null,null,null,null,null,null,null,null,null,null,null,null,null,null,null,null,null,null,null,null,null,null,null,null,null,null,null,null,null,"5.51 to 7 Times"]
[null,null,null,null,null,null,null,null,null,null,null,null,null,null,null,null,null,null,null,null,null,null,null,null,null,null,null,null,null,null,null,null,null,null,null,null,"7.01 to 9 Times"]
[null,null,null,null,null,null,null,null,null,null,null,null,null,null,null,null,null,null,null,null,null,null,null,null,null,null,null,null,null,null,null,null,null,null,null,null,"9 + Times"]
[null,null,null,null,null,null,null,null,null,null,null,null,null,null,null,null,null,null,null,null,null,null,null,null,null,null,null,null,null,null,null,null,null,null,null,null,"Avg House Price"]
[null,null,null,null,null,null,null,null,null,null,null,null,null,null,null,null,null,null,null,null,null,null,null,null,null,null,null,null,null,null,null,null,null,null,null,null,"0 - 90,000"]
[null,null,null,null,null,null,null,null,null,null,null,null,null,null,null,null,null,null,null,null,null,null,null,null,null,null,null,null,null,null,null,null,null,null,null,null,"90,000-150000"]
[null,null,null,null,null,null,null,null,null,null,null,null,null,null,null,null,null,null,null,null,null,null,null,null,null,null,null,null,null,null,null,null,null,null,null,null,"150,001 - 350,000"]
[null,null,null,null,null,null,null,null,null,null,null,null,null,null,null,null,null,null,null,null,null,null,null,null,null,null,null,null,null,null,null,null,null,null,null,null,"350,000 - 480,000"]
[null,null,null,null,null,null,null,null,null,null,null,null,null,null,null,null,null,null,null,null,null,null,null,null,null,null,null,null,null,null,null,null,null,null,null,null,"480,001  +"]