{"text_format":"1","workbook":"xlsx","n_sheets":2,"sheets":["Lookup","Data"],"not_rendered":{"charts":0,"images":0,"macros":1,"external_links":0,"defined_names":2,"comments":0,"pivot_tables":0},"unopened":[],"bounds":{"document_bytes":16777216,"sheet_cells":100000,"rows_first":2000,"rows_last":500,"rows_between":2000,"halvings":0,"cell_chars":16384,"cell_head_chars":4096},"cells_cut":0,"cells_raw":0,"read":"whole","date_system":"1900"}

{"sheet":"Lookup","index":0,"n_rows":7,"n_cols":2,"rows_kept":7,"cut":false,"hidden":false,"merged":[]}
["Sale Item","Cost Per Unit"]
["Apples",0.4]
["Oranges",0.3]
["Pears",0.6]
["Lemons",0.45]
["Potato",0.12]
["Leeks",0.15]

{"sheet":"Data","index":1,"n_rows":253,"n_cols":21,"rows_kept":253,"cut":false,"hidden":false,"merged":[]}
["Category","Year","Type","Price Per Unit","Qty","Amt."]
["Apples","2015-16","Fruit",{"$f":"VLOOKUP(A2,Lookup!$A$2:$B$7,2,0)","v":0.4},7,{"$f":"E2*D2","v":2.8000000000000003}]
["Oranges","2015-16","Fruit",{"$f":"VLOOKUP(A3,Lookup!$A$2:$B$7,2,0)","v":0.3},14,{"$f":"E3*D3","v":4.2}]
["Pears","2015-16","Fruit",{"$f":"VLOOKUP(A4,Lookup!$A$2:$B$7,2,0)","v":0.6},9,5.3999999999999995,null,null,null,null,"Category","Year","Type","Price Per Unit","Qty","Amt.",null,null,null,"Category","Amt."]
["Apples","2015-16","Fruit",{"$f":"VLOOKUP(A5,Lookup!$A$2:$B$7,2,0)","v":0.4},11,4.4000000000000004]
["Pears","2015-16","Fruit",{"$f":"VLOOKUP(A6,Lookup!$A$2:$B$7,2,0)","v":0.6},8,4.8]
["Oranges","2015-16","Fruit",{"$f":"VLOOKUP(A7,Lookup!$A$2:$B$7,2,0)","v":0.3},10,3]
["Apples","2015-16","Fruit",{"$f":"VLOOKUP(A8,Lookup!$A$2:$B$7,2,0)","v":0.4},10,4]
["Oranges","2015-16","Fruit",{"$f":"VLOOKUP(A9,Lookup!$A$2:$B$7,2,0)","v":0.3},5,1.5]
["Pears","2015-16","Fruit",{"$f":"VLOOKUP(A10,Lookup!$A$2:$B$7,2,0)","v":0.6},8,4.8]
["Apples","2015-16","Fruit",{"$f":"VLOOKUP(A11,Lookup!$A$2:$B$7,2,0)","v":0.4},6,2.4000000000000004]
["Pears","2015-16","Fruit",{"$f":"VLOOKUP(A12,Lookup!$A$2:$B$7,2,0)","v":0.6},7,4.2]
["Oranges","2015-16","Fruit",{"$f":"VLOOKUP(A13,Lookup!$A$2:$B$7,2,0)","v":0.3},10,3]
["Apples","2015-16","Fruit",{"$f":"VLOOKUP(A14,Lookup!$A$2:$B$7,2,0)","v":0.4},15,6]
["Oranges","2015-16","Fruit",{"$f":"VLOOKUP(A15,Lookup!$A$2:$B$7,2,0)","v":0.3},11,3.3]
["Pears","2015-16","Fruit",{"$f":"VLOOKUP(A16,Lookup!$A$2:$B$7,2,0)","v":0.6},14,8.4]
["Apples","2015-16","Fruit",{"$f":"VLOOKUP(A17,Lookup!$A$2:$B$7,2,0)","v":0.4},7,2.8000000000000003]
["Pears","2015-16","Fruit",{"$f":"VLOOKUP(A18,Lookup!$A$2:$B$7,2,0)","v":0.6},15,9]
["Oranges","2015-16","Fruit",{"$f":"VLOOKUP(A19,Lookup!$A$2:$B$7,2,0)","v":0.3},14,4.2]
["Apples","2015-16","Fruit",{"$f":"VLOOKUP(A20,Lookup!$A$2:$B$7,2,0)","v":0.4},7,2.8000000000000003]
["Oranges","2015-16","Fruit",{"$f":"VLOOKUP(A21,Lookup!$A$2:$B$7,2,0)","v":0.3},8,2.4]
["Pears","2015-16","Fruit",{"$f":"VLOOKUP(A22,Lookup!$A$2:$B$7,2,0)","v":0.6},9,5.3999999999999995]
["Apples","2015-16","Fruit",{"$f":"VLOOKUP(A23,Lookup!$A$2:$B$7,2,0)","v":0.4},10,4]
["Pears","2015-16","Fruit",{"$f":"VLOOKUP(A24,Lookup!$A$2:$B$7,2,0)","v":0.6},8,4.8]
["Oranges","2015-16","Fruit",{"$f":"VLOOKUP(A25,Lookup!$A$2:$B$7,2,0)","v":0.3},6,1.7999999999999998]
["Apples","2015-16","Fruit",{"$f":"VLOOKUP(A26,Lookup!$A$2:$B$7,2,0)","v":0.4},9,3.6]
["Oranges","2015-16","Fruit",{"$f":"VLOOKUP(A27,Lookup!$A$2:$B$7,2,0)","v":0.3},11,3.3]
["Pears","2015-16","Fruit",{"$f":"VLOOKUP(A28,Lookup!$A$2:$B$7,2,0)","v":0.6},15,9]
["Apples","2015-16","Fruit",{"$f":"VLOOKUP(A29,Lookup!$A$2:$B$7,2,0)","v":0.4},8,3.2]
["Pears","2015-16","Fruit",{"$f":"VLOOKUP(A30,Lookup!$A$2:$B$7,2,0)","v":0.6},6,3.5999999999999996]
["Oranges","2015-16","Fruit",{"$f":"VLOOKUP(A31,Lookup!$A$2:$B$7,2,0)","v":0.3},5,1.5]
["Apples","2015-16","Fruit",{"$f":"VLOOKUP(A32,Lookup!$A$2:$B$7,2,0)","v":0.4},5,2]
["Oranges","2015-16","Fruit",{"$f":"VLOOKUP(A33,Lookup!$A$2:$B$7,2,0)","v":0.3},11,3.3]
["Pears","2015-16","Fruit",{"$f":"VLOOKUP(A34,Lookup!$A$2:$B$7,2,0)","v":0.6},12,7.1999999999999993]
["Apples","2015-16","Fruit",{"$f":"VLOOKUP(A35,Lookup!$A$2:$B$7,2,0)","v":0.4},5,2]
["Pears","2015-16","Fruit",{"$f":"VLOOKUP(A36,Lookup!$A$2:$B$7,2,0)","v":0.6},8,4.8]
["Oranges","2015-16","Fruit",{"$f":"VLOOKUP(A37,Lookup!$A$2:$B$7,2,0)","v":0.3},7,2.1]
["Apples","2015-16","Fruit",{"$f":"VLOOKUP(A38,Lookup!$A$2:$B$7,2,0)","v":0.4},12,4.8000000000000007]
["Oranges","2015-16","Fruit",{"$f":"VLOOKUP(A39,Lookup!$A$2:$B$7,2,0)","v":0.3},7,2.1]
["Pears","2015-16","Fruit",{"$f":"VLOOKUP(A40,Lookup!$A$2:$B$7,2,0)","v":0.6},11,6.6]
["Apples","2015-16","Fruit",{"$f":"VLOOKUP(A41,Lookup!$A$2:$B$7,2,0)","v":0.4},13,5.2]
["Pears","2015-16","Fruit",{"$f":"VLOOKUP(A42,Lookup!$A$2:$B$7,2,0)","v":0.6},12,7.1999999999999993]
["Oranges","2015-16","Fruit",{"$f":"VLOOKUP(A43,Lookup!$A$2:$B$7,2,0)","v":0.3},11,3.3]
["Apples","2015-16","Fruit",{"$f":"VLOOKUP(A44,Lookup!$A$2:$B$7,2,0)","v":0.4},11,4.4000000000000004]
["Oranges","2015-16","Fruit",{"$f":"VLOOKUP(A45,Lookup!$A$2:$B$7,2,0)","v":0.3},7,2.1]
["Pears","2015-16","Fruit",{"$f":"VLOOKUP(A46,Lookup!$A$2:$B$7,2,0)","v":0.6},15,9]
["Apples","2015-16","Fruit",{"$f":"VLOOKUP(A47,Lookup!$A$2:$B$7,2,0)","v":0.4},7,2.8000000000000003]
["Pears","2015-16","Fruit",{"$f":"VLOOKUP(A48,Lookup!$A$2:$B$7,2,0)","v":0.6},15,9]
["Oranges","2015-16","Fruit",{"$f":"VLOOKUP(A49,Lookup!$A$2:$B$7,2,0)","v":0.3},6,1.7999999999999998]
["Apples","2015-16","Fruit",{"$f":"VLOOKUP(A50,Lookup!$A$2:$B$7,2,0)","v":0.4},8,3.2]
["Oranges","2015-16","Fruit",{"$f":"VLOOKUP(A51,Lookup!$A$2:$B$7,2,0)","v":0.3},8,2.4]
["Pears","2015-16","Fruit",{"$f":"VLOOKUP(A52,Lookup!$A$2:$B$7,2,0)","v":0.6},14,8.4]
["Apples","2015-16","Fruit",{"$f":"VLOOKUP(A53,Lookup!$A$2:$B$7,2,0)","v":0.4},8,3.2]
["Pears","2015-16","Fruit",{"$f":"VLOOKUP(A54,Lookup!$A$2:$B$7,2,0)","v":0.6},14,8.4]
["Oranges","2015-16","Fruit",{"$f":"VLOOKUP(A55,Lookup!$A$2:$B$7,2,0)","v":0.3},5,1.5]
["Apples","2015-16","Fruit",{"$f":"VLOOKUP(A56,Lookup!$A$2:$B$7,2,0)","v":0.4},5,2]
["Oranges","2015-16","Fruit",{"$f":"VLOOKUP(A57,Lookup!$A$2:$B$7,2,0)","v":0.3},8,2.4]
["Pears","2015-16","Fruit",{"$f":"VLOOKUP(A58,Lookup!$A$2:$B$7,2,0)","v":0.6},5,3]
["Apples","2015-16","Fruit",{"$f":"VLOOKUP(A59,Lookup!$A$2:$B$7,2,0)","v":0.4},14,5.6000000000000005]
["Pears","2015-16","Fruit",{"$f":"VLOOKUP(A60,Lookup!$A$2:$B$7,2,0)","v":0.6},15,9]
["Oranges","2015-16","Fruit",{"$f":"VLOOKUP(A61,Lookup!$A$2:$B$7,2,0)","v":0.3},10,3]
["Apples","2015-16","Fruit",{"$f":"VLOOKUP(A62,Lookup!$A$2:$B$7,2,0)","v":0.4},11,4.4000000000000004]
["Oranges","2015-16","Fruit",{"$f":"VLOOKUP(A63,Lookup!$A$2:$B$7,2,0)","v":0.3},12,3.5999999999999996]
["Pears","2015-16","Fruit",{"$f":"VLOOKUP(A64,Lookup!$A$2:$B$7,2,0)","v":0.6},6,3.5999999999999996]
["Apples","2015-16","Fruit",{"$f":"VLOOKUP(A65,Lookup!$A$2:$B$7,2,0)","v":0.4},4,1.6]
["Pears","2015-16","Fruit",{"$f":"VLOOKUP(A66,Lookup!$A$2:$B$7,2,0)","v":0.6},10,6]
["Oranges","2015-16","Fruit",{"$f":"VLOOKUP(A67,Lookup!$A$2:$B$7,2,0)","v":0.3},9,{"$f":"E67*D67","v":2.6999999999999997}]
["Apples","2015-16","Fruit",{"$f":"VLOOKUP(A68,Lookup!$A$2:$B$7,2,0)","v":0.4},15,6]
["Oranges","2015-16","Fruit",{"$f":"VLOOKUP(A69,Lookup!$A$2:$B$7,2,0)","v":0.3},8,2.4]
["Pears","2015-16","Fruit",{"$f":"VLOOKUP(A70,Lookup!$A$2:$B$7,2,0)","v":0.6},5,3]
["Apples","2015-16","Fruit",{"$f":"VLOOKUP(A71,Lookup!$A$2:$B$7,2,0)","v":0.4},12,4.8000000000000007]
["Pears","2015-16","Fruit",{"$f":"VLOOKUP(A72,Lookup!$A$2:$B$7,2,0)","v":0.6},7,4.2]
["Oranges","2015-16","Fruit",{"$f":"VLOOKUP(A73,Lookup!$A$2:$B$7,2,0)","v":0.3},9,2.6999999999999997]
["Apples","2015-16","Fruit",{"$f":"VLOOKUP(A74,Lookup!$A$2:$B$7,2,0)","v":0.4},15,6]
["Oranges","2015-16","Fruit",{"$f":"VLOOKUP(A75,Lookup!$A$2:$B$7,2,0)","v":0.3},13,3.9]
["Pears","2015-16","Fruit",{"$f":"VLOOKUP(A76,Lookup!$A$2:$B$7,2,0)","v":0.6},6,3.5999999999999996]
["Apples","2015-16","Fruit",{"$f":"VLOOKUP(A77,Lookup!$A$2:$B$7,2,0)","v":0.4},14,5.6000000000000005]
["Pears","2015-16","Fruit",{"$f":"VLOOKUP(A78,Lookup!$A$2:$B$7,2,0)","v":0.6},10,6]
["Oranges","2015-16","Fruit",{"$f":"VLOOKUP(A79,Lookup!$A$2:$B$7,2,0)","v":0.3},11,3.3]
["Apples","2015-16","Fruit",{"$f":"VLOOKUP(A80,Lookup!$A$2:$B$7,2,0)","v":0.4},4,1.6]
["Oranges","2015-16","Fruit",{"$f":"VLOOKUP(A81,Lookup!$A$2:$B$7,2,0)","v":0.3},12,3.5999999999999996]
["Pears","2015-16","Fruit",{"$f":"VLOOKUP(A82,Lookup!$A$2:$B$7,2,0)","v":0.6},8,4.8]
["Apples","2015-16","Fruit",{"$f":"VLOOKUP(A83,Lookup!$A$2:$B$7,2,0)","v":0.4},15,6]
["Pears","2015-16","Fruit",{"$f":"VLOOKUP(A84,Lookup!$A$2:$B$7,2,0)","v":0.6},5,3]
["Oranges","2015-16","Fruit",{"$f":"VLOOKUP(A85,Lookup!$A$2:$B$7,2,0)","v":0.3},6,1.7999999999999998]
["Apples","2015-16","Fruit",{"$f":"VLOOKUP(A86,Lookup!$A$2:$B$7,2,0)","v":0.4},10,4]
["Oranges","2015-16","Fruit",{"$f":"VLOOKUP(A87,Lookup!$A$2:$B$7,2,0)","v":0.3},5,1.5]
["Pears","2015-16","Fruit",{"$f":"VLOOKUP(A88,Lookup!$A$2:$B$7,2,0)","v":0.6},13,7.8]
["Apples","2015-16","Fruit",{"$f":"VLOOKUP(A89,Lookup!$A$2:$B$7,2,0)","v":0.4},10,4]
["Pears","2015-16","Fruit",{"$f":"VLOOKUP(A90,Lookup!$A$2:$B$7,2,0)","v":0.6},9,5.3999999999999995]
["Oranges","2015-16","Fruit",{"$f":"VLOOKUP(A91,Lookup!$A$2:$B$7,2,0)","v":0.3},11,3.3]
["Apples","2015-16","Fruit",{"$f":"VLOOKUP(A92,Lookup!$A$2:$B$7,2,0)","v":0.4},4,1.6]
["Oranges","2015-16","Fruit",{"$f":"VLOOKUP(A93,Lookup!$A$2:$B$7,2,0)","v":0.3},14,4.2]
["Pears","2015-16","Fruit",{"$f":"VLOOKUP(A94,Lookup!$A$2:$B$7,2,0)","v":0.6},14,8.4]
["Apples","2015-16","Fruit",{"$f":"VLOOKUP(A95,Lookup!$A$2:$B$7,2,0)","v":0.4},5,2]
["Pears","2015-16","Fruit",{"$f":"VLOOKUP(A96,Lookup!$A$2:$B$7,2,0)","v":0.6},9,5.3999999999999995]
["Oranges","2015-16","Fruit",{"$f":"VLOOKUP(A97,Lookup!$A$2:$B$7,2,0)","v":0.3},8,2.4]
["Apples","2015-16","Fruit",{"$f":"VLOOKUP(A98,Lookup!$A$2:$B$7,2,0)","v":0.4},5,2]
["Oranges","2015-16","Fruit",{"$f":"VLOOKUP(A99,Lookup!$A$2:$B$7,2,0)","v":0.3},6,1.7999999999999998]
["Pears","2015-16","Fruit",{"$f":"VLOOKUP(A100,Lookup!$A$2:$B$7,2,0)","v":0.6},4,2.4]
["Apples","2015-16","Fruit",{"$f":"VLOOKUP(A101,Lookup!$A$2:$B$7,2,0)","v":0.4},4,1.6]
["Pears","2015-16","Fruit",{"$f":"VLOOKUP(A102,Lookup!$A$2:$B$7,2,0)","v":0.6},5,3]
["Oranges","2015-16","Fruit",{"$f":"VLOOKUP(A103,Lookup!$A$2:$B$7,2,0)","v":0.3},11,3.3]
["Apples","2015-16","Fruit",{"$f":"VLOOKUP(A104,Lookup!$A$2:$B$7,2,0)","v":0.4},6,2.4000000000000004]
["Oranges","2015-16","Fruit",{"$f":"VLOOKUP(A105,Lookup!$A$2:$B$7,2,0)","v":0.3},8,2.4]
["Pears","2015-16","Fruit",{"$f":"VLOOKUP(A106,Lookup!$A$2:$B$7,2,0)","v":0.6},11,6.6]
["Apples","2015-16","Fruit",{"$f":"VLOOKUP(A107,Lookup!$A$2:$B$7,2,0)","v":0.4},12,4.8000000000000007]
["Pears","2015-16","Fruit",{"$f":"VLOOKUP(A108,Lookup!$A$2:$B$7,2,0)","v":0.6},4,2.4]
["Oranges","2015-16","Fruit",{"$f":"VLOOKUP(A109,Lookup!$A$2:$B$7,2,0)","v":0.3},11,3.3]
["Apples","2015-16","Fruit",{"$f":"VLOOKUP(A110,Lookup!$A$2:$B$7,2,0)","v":0.4},12,4.8000000000000007]
["Oranges","2015-16","Fruit",{"$f":"VLOOKUP(A111,Lookup!$A$2:$B$7,2,0)","v":0.3},14,4.2]
["Pears","2015-16","Fruit",{"$f":"VLOOKUP(A112,Lookup!$A$2:$B$7,2,0)","v":0.6},11,6.6]
["Apples","2015-16","Fruit",{"$f":"VLOOKUP(A113,Lookup!$A$2:$B$7,2,0)","v":0.4},12,4.8000000000000007]
["Pears","2015-16","Fruit",{"$f":"VLOOKUP(A114,Lookup!$A$2:$B$7,2,0)","v":0.6},9,5.3999999999999995]
["Oranges","2015-16","Fruit",{"$f":"VLOOKUP(A115,Lookup!$A$2:$B$7,2,0)","v":0.3},8,2.4]
["Apples","2015-16","Fruit",{"$f":"VLOOKUP(A116,Lookup!$A$2:$B$7,2,0)","v":0.4},12,4.8000000000000007]
["Oranges","2015-16","Fruit",{"$f":"VLOOKUP(A117,Lookup!$A$2:$B$7,2,0)","v":0.3},11,3.3]
["Pears","2015-16","Fruit",{"$f":"VLOOKUP(A118,Lookup!$A$2:$B$7,2,0)","v":0.6},8,4.8]
["Apples","2015-16","Fruit",{"$f":"VLOOKUP(A119,Lookup!$A$2:$B$7,2,0)","v":0.4},5,2]
["Pears","2015-16","Fruit",{"$f":"VLOOKUP(A120,Lookup!$A$2:$B$7,2,0)","v":0.6},14,8.4]
["Oranges","2015-16","Fruit",{"$f":"VLOOKUP(A121,Lookup!$A$2:$B$7,2,0)","v":0.3},6,1.7999999999999998]
["Apples","2015-16","Fruit",{"$f":"VLOOKUP(A122,Lookup!$A$2:$B$7,2,0)","v":0.4},15,6]
["Oranges","2015-16","Fruit",{"$f":"VLOOKUP(A123,Lookup!$A$2:$B$7,2,0)","v":0.3},4,1.2]
["Pears","2015-16","Fruit",{"$f":"VLOOKUP(A124,Lookup!$A$2:$B$7,2,0)","v":0.6},12,7.1999999999999993]
["Apples","2015-16","Fruit",{"$f":"VLOOKUP(A125,Lookup!$A$2:$B$7,2,0)","v":0.4},10,4]
["Pears","2015-16","Fruit",{"$f":"VLOOKUP(A126,Lookup!$A$2:$B$7,2,0)","v":0.6},6,3.5999999999999996]
["Oranges","2015-16","Fruit",{"$f":"VLOOKUP(A127,Lookup!$A$2:$B$7,2,0)","v":0.3},6,1.7999999999999998]
["Lemons","2015-16","Fruit",{"$f":"VLOOKUP(A128,Lookup!$A$2:$B$7,2,0)","v":0.45},10,4.5]
["Potato","2015-16","Fruit",{"$f":"VLOOKUP(A129,Lookup!$A$2:$B$7,2,0)","v":0.12},10,1.2]
["Leeks","2015-16","Fruit",{"$f":"VLOOKUP(A130,Lookup!$A$2:$B$7,2,0)","v":0.15},11,1.65]
["Lemons","2015-16","Fruit",{"$f":"VLOOKUP(A131,Lookup!$A$2:$B$7,2,0)","v":0.45},10,{"$f":"E131*D131","v":4.5}]
["Leeks","2015-16","Fruit",{"$f":"VLOOKUP(A132,Lookup!$A$2:$B$7,2,0)","v":0.15},12,1.7999999999999998]
["Potato","2015-16","Fruit",{"$f":"VLOOKUP(A133,Lookup!$A$2:$B$7,2,0)","v":0.12},4,0.48]
["Lemons","2015-16","Fruit",{"$f":"VLOOKUP(A134,Lookup!$A$2:$B$7,2,0)","v":0.45},4,1.8]
["Potato","2015-16","Fruit",{"$f":"VLOOKUP(A135,Lookup!$A$2:$B$7,2,0)","v":0.12},13,1.56]
["Leeks","2015-16","Fruit",{"$f":"VLOOKUP(A136,Lookup!$A$2:$B$7,2,0)","v":0.15},8,1.2]
["Lemons","2015-16","Fruit",{"$f":"VLOOKUP(A137,Lookup!$A$2:$B$7,2,0)","v":0.45},5,2.25]
["Leeks","2015-16","Fruit",{"$f":"VLOOKUP(A138,Lookup!$A$2:$B$7,2,0)","v":0.15},11,1.65]
["Potato","2015-16","Fruit",{"$f":"VLOOKUP(A139,Lookup!$A$2:$B$7,2,0)","v":0.12},7,0.84]
["Lemons","2015-16","Fruit",{"$f":"VLOOKUP(A140,Lookup!$A$2:$B$7,2,0)","v":0.45},13,5.8500000000000005]
["Potato","2015-16","Fruit",{"$f":"VLOOKUP(A141,Lookup!$A$2:$B$7,2,0)","v":0.12},15,1.7999999999999998]
["Leeks","2015-16","Fruit",{"$f":"VLOOKUP(A142,Lookup!$A$2:$B$7,2,0)","v":0.15},7,1.05]
["Lemons","2015-16","Fruit",{"$f":"VLOOKUP(A143,Lookup!$A$2:$B$7,2,0)","v":0.45},10,4.5]
["Leeks","2015-16","Fruit",{"$f":"VLOOKUP(A144,Lookup!$A$2:$B$7,2,0)","v":0.15},8,1.2]
["Potato","2015-16","Fruit",{"$f":"VLOOKUP(A145,Lookup!$A$2:$B$7,2,0)","v":0.12},9,1.08]
["Lemons","2015-16","Fruit",{"$f":"VLOOKUP(A146,Lookup!$A$2:$B$7,2,0)","v":0.45},13,5.8500000000000005]
["Potato","2015-16","Fruit",{"$f":"VLOOKUP(A147,Lookup!$A$2:$B$7,2,0)","v":0.12},11,1.3199999999999998]
["Leeks","2015-16","Fruit",{"$f":"VLOOKUP(A148,Lookup!$A$2:$B$7,2,0)","v":0.15},5,0.75]
["Lemons","2015-16","Fruit",{"$f":"VLOOKUP(A149,Lookup!$A$2:$B$7,2,0)","v":0.45},10,4.5]
["Leeks","2015-16","Fruit",{"$f":"VLOOKUP(A150,Lookup!$A$2:$B$7,2,0)","v":0.15},5,0.75]
["Potato","2015-16","Fruit",{"$f":"VLOOKUP(A151,Lookup!$A$2:$B$7,2,0)","v":0.12},14,1.68]
["Lemons","2015-16","Fruit",{"$f":"VLOOKUP(A152,Lookup!$A$2:$B$7,2,0)","v":0.45},6,2.7]
["Potato","2015-16","Fruit",{"$f":"VLOOKUP(A153,Lookup!$A$2:$B$7,2,0)","v":0.12},7,0.84]
["Leeks","2015-16","Fruit",{"$f":"VLOOKUP(A154,Lookup!$A$2:$B$7,2,0)","v":0.15},15,2.25]
["Lemons","2015-16","Fruit",{"$f":"VLOOKUP(A155,Lookup!$A$2:$B$7,2,0)","v":0.45},7,3.15]
["Leeks","2015-16","Fruit",{"$f":"VLOOKUP(A156,Lookup!$A$2:$B$7,2,0)","v":0.15},13,1.95]
["Potato","2015-16","Fruit",{"$f":"VLOOKUP(A157,Lookup!$A$2:$B$7,2,0)","v":0.12},10,1.2]
["Lemons","2015-16","Fruit",{"$f":"VLOOKUP(A158,Lookup!$A$2:$B$7,2,0)","v":0.45},11,4.95]
["Potato","2015-16","Fruit",{"$f":"VLOOKUP(A159,Lookup!$A$2:$B$7,2,0)","v":0.12},11,1.3199999999999998]
["Leeks","2015-16","Fruit",{"$f":"VLOOKUP(A160,Lookup!$A$2:$B$7,2,0)","v":0.15},8,1.2]
["Lemons","2015-16","Fruit",{"$f":"VLOOKUP(A161,Lookup!$A$2:$B$7,2,0)","v":0.45},7,3.15]
["Leeks","2015-16","Fruit",{"$f":"VLOOKUP(A162,Lookup!$A$2:$B$7,2,0)","v":0.15},8,1.2]
["Potato","2015-16","Fruit",{"$f":"VLOOKUP(A163,Lookup!$A$2:$B$7,2,0)","v":0.12},8,0.96]
["Lemons","2015-16","Fruit",{"$f":"VLOOKUP(A164,Lookup!$A$2:$B$7,2,0)","v":0.45},14,6.3]
["Potato","2015-16","Fruit",{"$f":"VLOOKUP(A165,Lookup!$A$2:$B$7,2,0)","v":0.12},12,1.44]
["Leeks","2015-16","Fruit",{"$f":"VLOOKUP(A166,Lookup!$A$2:$B$7,2,0)","v":0.15},5,0.75]
["Lemons","2015-16","Fruit",{"$f":"VLOOKUP(A167,Lookup!$A$2:$B$7,2,0)","v":0.45},12,5.4]
["Leeks","2015-16","Fruit",{"$f":"VLOOKUP(A168,Lookup!$A$2:$B$7,2,0)","v":0.15},5,0.75]
["Potato","2015-16","Fruit",{"$f":"VLOOKUP(A169,Lookup!$A$2:$B$7,2,0)","v":0.12},7,0.84]
["Lemons","2015-16","Fruit",{"$f":"VLOOKUP(A170,Lookup!$A$2:$B$7,2,0)","v":0.45},8,3.6]
["Potato","2015-16","Fruit",{"$f":"VLOOKUP(A171,Lookup!$A$2:$B$7,2,0)","v":0.12},7,0.84]
["Leeks","2015-16","Fruit",{"$f":"VLOOKUP(A172,Lookup!$A$2:$B$7,2,0)","v":0.15},13,1.95]
["Lemons","2015-16","Fruit",{"$f":"VLOOKUP(A173,Lookup!$A$2:$B$7,2,0)","v":0.45},9,4.05]
["Leeks","2015-16","Fruit",{"$f":"VLOOKUP(A174,Lookup!$A$2:$B$7,2,0)","v":0.15},13,1.95]
["Potato","2015-16","Fruit",{"$f":"VLOOKUP(A175,Lookup!$A$2:$B$7,2,0)","v":0.12},12,1.44]
["Lemons","2015-16","Fruit",{"$f":"VLOOKUP(A176,Lookup!$A$2:$B$7,2,0)","v":0.45},13,5.8500000000000005]
["Potato","2015-16","Fruit",{"$f":"VLOOKUP(A177,Lookup!$A$2:$B$7,2,0)","v":0.12},10,1.2]
["Leeks","2015-16","Fruit",{"$f":"VLOOKUP(A178,Lookup!$A$2:$B$7,2,0)","v":0.15},5,0.75]
["Lemons","2015-16","Fruit",{"$f":"VLOOKUP(A179,Lookup!$A$2:$B$7,2,0)","v":0.45},12,5.4]
["Leeks","2015-16","Fruit",{"$f":"VLOOKUP(A180,Lookup!$A$2:$B$7,2,0)","v":0.15},5,0.75]
["Potato","2015-16","Fruit",{"$f":"VLOOKUP(A181,Lookup!$A$2:$B$7,2,0)","v":0.12},9,1.08]
["Lemons","2015-16","Fruit",{"$f":"VLOOKUP(A182,Lookup!$A$2:$B$7,2,0)","v":0.45},8,3.6]
["Potato","2015-16","Fruit",{"$f":"VLOOKUP(A183,Lookup!$A$2:$B$7,2,0)","v":0.12},7,0.84]
["Leeks","2015-16","Fruit",{"$f":"VLOOKUP(A184,Lookup!$A$2:$B$7,2,0)","v":0.15},5,0.75]
["Lemons","2015-16","Fruit",{"$f":"VLOOKUP(A185,Lookup!$A$2:$B$7,2,0)","v":0.45},10,4.5]
["Leeks","2015-16","Fruit",{"$f":"VLOOKUP(A186,Lookup!$A$2:$B$7,2,0)","v":0.15},7,1.05]
["Potato","2015-16","Fruit",{"$f":"VLOOKUP(A187,Lookup!$A$2:$B$7,2,0)","v":0.12},15,1.7999999999999998]
["Lemons","2015-16","Fruit",{"$f":"VLOOKUP(A188,Lookup!$A$2:$B$7,2,0)","v":0.45},5,2.25]
["Potato","2015-16","Fruit",{"$f":"VLOOKUP(A189,Lookup!$A$2:$B$7,2,0)","v":0.12},15,1.7999999999999998]
["Leeks","2015-16","Fruit",{"$f":"VLOOKUP(A190,Lookup!$A$2:$B$7,2,0)","v":0.15},7,1.05]
["Lemons","2015-16","Fruit",{"$f":"VLOOKUP(A191,Lookup!$A$2:$B$7,2,0)","v":0.45},12,5.4]
["Leeks","2015-16","Fruit",{"$f":"VLOOKUP(A192,Lookup!$A$2:$B$7,2,0)","v":0.15},13,1.95]
["Potato","2015-16","Fruit",{"$f":"VLOOKUP(A193,Lookup!$A$2:$B$7,2,0)","v":0.12},12,1.44]
["Lemons","2015-16","Fruit",{"$f":"VLOOKUP(A194,Lookup!$A$2:$B$7,2,0)","v":0.45},10,4.5]
["Potato","2015-16","Fruit",{"$f":"VLOOKUP(A195,Lookup!$A$2:$B$7,2,0)","v":0.12},6,{"$f":"E195*D195","v":0.72}]
["Leeks","2015-16","Fruit",{"$f":"VLOOKUP(A196,Lookup!$A$2:$B$7,2,0)","v":0.15},7,1.05]
["Lemons","2015-16","Fruit",{"$f":"VLOOKUP(A197,Lookup!$A$2:$B$7,2,0)","v":0.45},4,1.8]
["Leeks","2015-16","Fruit",{"$f":"VLOOKUP(A198,Lookup!$A$2:$B$7,2,0)","v":0.15},5,0.75]
["Potato","2015-16","Fruit",{"$f":"VLOOKUP(A199,Lookup!$A$2:$B$7,2,0)","v":0.12},9,1.08]
["Lemons","2015-16","Fruit",{"$f":"VLOOKUP(A200,Lookup!$A$2:$B$7,2,0)","v":0.45},12,5.4]
["Potato","2015-16","Fruit",{"$f":"VLOOKUP(A201,Lookup!$A$2:$B$7,2,0)","v":0.12},4,0.48]
["Leeks","2015-16","Fruit",{"$f":"VLOOKUP(A202,Lookup!$A$2:$B$7,2,0)","v":0.15},5,0.75]
["Lemons","2015-16","Fruit",{"$f":"VLOOKUP(A203,Lookup!$A$2:$B$7,2,0)","v":0.45},9,4.05]
["Leeks","2015-16","Fruit",{"$f":"VLOOKUP(A204,Lookup!$A$2:$B$7,2,0)","v":0.15},4,0.6]
["Potato","2015-16","Fruit",{"$f":"VLOOKUP(A205,Lookup!$A$2:$B$7,2,0)","v":0.12},7,0.84]
["Lemons","2015-16","Fruit",{"$f":"VLOOKUP(A206,Lookup!$A$2:$B$7,2,0)","v":0.45},14,6.3]
["Potato","2015-16","Fruit",{"$f":"VLOOKUP(A207,Lookup!$A$2:$B$7,2,0)","v":0.12},4,0.48]
["Leeks","2015-16","Fruit",{"$f":"VLOOKUP(A208,Lookup!$A$2:$B$7,2,0)","v":0.15},14,2.1]
["Lemons","2015-16","Fruit",{"$f":"VLOOKUP(A209,Lookup!$A$2:$B$7,2,0)","v":0.45},10,4.5]
["Leeks","2015-16","Fruit",{"$f":"VLOOKUP(A210,Lookup!$A$2:$B$7,2,0)","v":0.15},5,0.75]
["Potato","2015-16","Fruit",{"$f":"VLOOKUP(A211,Lookup!$A$2:$B$7,2,0)","v":0.12},9,1.08]
["Lemons","2015-16","Fruit",{"$f":"VLOOKUP(A212,Lookup!$A$2:$B$7,2,0)","v":0.45},14,6.3]
["Potato","2015-16","Fruit",{"$f":"VLOOKUP(A213,Lookup!$A$2:$B$7,2,0)","v":0.12},5,0.6]
["Leeks","2015-16","Fruit",{"$f":"VLOOKUP(A214,Lookup!$A$2:$B$7,2,0)","v":0.15},4,0.6]
["Lemons","2015-16","Fruit",{"$f":"VLOOKUP(A215,Lookup!$A$2:$B$7,2,0)","v":0.45},9,4.05]
["Leeks","2015-16","Fruit",{"$f":"VLOOKUP(A216,Lookup!$A$2:$B$7,2,0)","v":0.15},7,1.05]
["Potato","2015-16","Fruit",{"$f":"VLOOKUP(A217,Lookup!$A$2:$B$7,2,0)","v":0.12},4,0.48]
["Lemons","2015-16","Fruit",{"$f":"VLOOKUP(A218,Lookup!$A$2:$B$7,2,0)","v":0.45},5,2.25]
["Potato","2015-16","Fruit",{"$f":"VLOOKUP(A219,Lookup!$A$2:$B$7,2,0)","v":0.12},14,1.68]
["Leeks","2015-16","Fruit",{"$f":"VLOOKUP(A220,Lookup!$A$2:$B$7,2,0)","v":0.15},14,2.1]
["Lemons","2015-16","Fruit",{"$f":"VLOOKUP(A221,Lookup!$A$2:$B$7,2,0)","v":0.45},8,3.6]
["Leeks","2015-16","Fruit",{"$f":"VLOOKUP(A222,Lookup!$A$2:$B$7,2,0)","v":0.15},8,1.2]
["Potato","2015-16","Fruit",{"$f":"VLOOKUP(A223,Lookup!$A$2:$B$7,2,0)","v":0.12},15,1.7999999999999998]
["Lemons","2015-16","Fruit",{"$f":"VLOOKUP(A224,Lookup!$A$2:$B$7,2,0)","v":0.45},13,5.8500000000000005]
["Potato","2015-16","Fruit",{"$f":"VLOOKUP(A225,Lookup!$A$2:$B$7,2,0)","v":0.12},15,1.7999999999999998]
["Leeks","2015-16","Fruit",{"$f":"VLOOKUP(A226,Lookup!$A$2:$B$7,2,0)","v":0.15},4,0.6]
["Lemons","2015-16","Fruit",{"$f":"VLOOKUP(A227,Lookup!$A$2:$B$7,2,0)","v":0.45},11,4.95]
["Leeks","2015-16","Fruit",{"$f":"VLOOKUP(A228,Lookup!$A$2:$B$7,2,0)","v":0.15},13,1.95]
["Potato","2015-16","Fruit",{"$f":"VLOOKUP(A229,Lookup!$A$2:$B$7,2,0)","v":0.12},14,1.68]
["Lemons","2015-16","Fruit",{"$f":"VLOOKUP(A230,Lookup!$A$2:$B$7,2,0)","v":0.45},5,2.25]
["Potato","2015-16","Fruit",{"$f":"VLOOKUP(A231,Lookup!$A$2:$B$7,2,0)","v":0.12},14,1.68]
["Leeks","2015-16","Fruit",{"$f":"VLOOKUP(A232,Lookup!$A$2:$B$7,2,0)","v":0.15},11,1.65]
["Lemons","2015-16","Fruit",{"$f":"VLOOKUP(A233,Lookup!$A$2:$B$7,2,0)","v":0.45},15,6.75]
["Leeks","2015-16","Fruit",{"$f":"VLOOKUP(A234,Lookup!$A$2:$B$7,2,0)","v":0.15},11,1.65]
["Potato","2015-16","Fruit",{"$f":"VLOOKUP(A235,Lookup!$A$2:$B$7,2,0)","v":0.12},9,1.08]
["Lemons","2015-16","Fruit",{"$f":"VLOOKUP(A236,Lookup!$A$2:$B$7,2,0)","v":0.45},9,4.05]
["Potato","2015-16","Fruit",{"$f":"VLOOKUP(A237,Lookup!$A$2:$B$7,2,0)","v":0.12},14,1.68]
["Leeks","2015-16","Fruit",{"$f":"VLOOKUP(A238,Lookup!$A$2:$B$7,2,0)","v":0.15},15,2.25]
["Lemons","2015-16","Fruit",{"$f":"VLOOKUP(A239,Lookup!$A$2:$B$7,2,0)","v":0.45},10,4.5]
["Leeks","2015-16","Fruit",{"$f":"VLOOKUP(A240,Lookup!$A$2:$B$7,2,0)","v":0.15},4,0.6]
["Potato","2015-16","Fruit",{"$f":"VLOOKUP(A241,Lookup!$A$2:$B$7,2,0)","v":0.12},6,0.72]
["Lemons","2015-16","Fruit",{"$f":"VLOOKUP(A242,Lookup!$A$2:$B$7,2,0)","v":0.45},8,3.6]
["Potato","2015-16","Fruit",{"$f":"VLOOKUP(A243,Lookup!$A$2:$B$7,2,0)","v":0.12},10,1.2]
["Leeks","2015-16","Fruit",{"$f":"VLOOKUP(A244,Lookup!$A$2:$B$7,2,0)","v":0.15},10,1.5]
["Lemons","2015-16","Fruit",{"$f":"VLOOKUP(A245,Lookup!$A$2:$B$7,2,0)","v":0.45},4,1.8]
["Leeks","2015-16","Fruit",{"$f":"VLOOKUP(A246,Lookup!$A$2:$B$7,2,0)","v":0.15},7,1.05]
["Potato","2015-16","Fruit",{"$f":"VLOOKUP(A247,Lookup!$A$2:$B$7,2,0)","v":0.12},10,1.2]
["Lemons","2015-16","Fruit",{"$f":"VLOOKUP(A248,Lookup!$A$2:$B$7,2,0)","v":0.45},10,4.5]
["Potato","2015-16","Fruit",{"$f":"VLOOKUP(A249,Lookup!$A$2:$B$7,2,0)","v":0.12},12,1.44]
["Leeks","2015-16","Fruit",{"$f":"VLOOKUP(A250,Lookup!$A$2:$B$7,2,0)","v":0.15},10,1.5]
["Lemons","2015-16","Fruit",{"$f":"VLOOKUP(A251,Lookup!$A$2:$B$7,2,0)","v":0.45},5,2.25]
["Leeks","2015-16","Fruit",{"$f":"VLOOKUP(A252,Lookup!$A$2:$B$7,2,0)","v":0.15},11,1.65]
["Potato","2015-16","Fruit",{"$f":"VLOOKUP(A253,Lookup!$A$2:$B$7,2,0)","v":0.12},9,1.08]